PDS_VERSION_ID = PDS3
/* FILE DATA ELEMENTS */
RECORD_TYPE = UNDEFINED
/* POINTERS TO DATA OBJECTS */
^IMAGE = ("HH786_0000_ND4.TIF")
/* IDENTIFICATION DATA ELEMENTS */
DATA_SET_ID = "MEX-M-HRSC-4-REFDR-MAPPROJECT-EXT6-V4.0"
DATA_SET_NAME = "MARS EXPRESS HRSC MAP PROJECTED REFDR EXTENSION6 V4.0"
DETECTOR_ID = MEX_HRSC_NADIR
EVENT_TYPE = "MARS-REGIONAL-MAPPING-Im-Fl"
INSTRUMENT_HOST_ID = MEX
INSTRUMENT_HOST_NAME = "MARS EXPRESS"
INSTRUMENT_ID = HRSC
INSTRUMENT_NAME = "HIGH RESOLUTION STEREO CAMERA"
MISSION_NAME = "MARS EXPRESS"
MISSION_PHASE_NAME = ME_Phase_38
PROCESSING_LEVEL_ID = 4
PRODUCT_CREATION_TIME = 2023-01-28T19:29:54.000Z
PRODUCT_ID = "HH786_0000_ND4.TIF"
RELEASE_ID = 0003
REVISION_ID = 0000
/* QUALITY DATA ELEMENTS */
DATA_QUALITY_ID = 1
DATA_QUALITY_DESC = "Data calculated based on original SPICE kernels"
/* TIME DATA ELEMENTS */
SPACECRAFT_CLOCK_START_COUNT = "1/0464476069.07353"
SPACECRAFT_CLOCK_STOP_COUNT = "1/0464476328.40778"
START_TIME = 2018-01-19T21:08:31.961Z
STOP_TIME = 2018-01-19T21:11:40.973Z
/* ORBITAL DATA ELEMENTS */
ASCENDING_NODE_LONGITUDE = 240.2
MAXIMUM_RESOLUTION = 0.0144
FOOTPRINT_POINT_LATITUDE = (29.4232,29.4223,29.4203,29.4152, 29.4151,29.415,28.9315,28.6896,28.4477, 28.2058,27.9638,27.7217,27.4796,27.2375 ,26.9954,26.7532,26.511,26.2688,26.0265 ,25.7843,25.542,25.2997,25.0574,24.8151 ,24.4517,24.0882,23.846,23.6037,23.3615 ,23.1192,22.877,22.6349,22.2717,22.0296 ,21.7875,21.5455,21.3036,21.0616,20.578 ,20.0945,19.6113,19.1284,18.6458,18.284 ,17.802,17.3879,17.2442,17.2235,17.2228 ,17.2217,17.2196,17.2178,17.2177, 17.2179,17.5056,17.7796,18.2621,18.745, 19.2281,19.7116,19.9535,20.1954,20.4373 ,20.6794,20.9215,21.1637,21.4059, 21.7692,22.0115,22.2539,22.4962,22.7387 ,22.9811,23.2236,23.4661,23.7086, 23.9512,24.1937,24.5576,24.8002,25.0427 ,25.2853,25.5279,25.8918,26.1344, 26.3768,26.6194,26.8619,27.1043,27.3468 ,27.5892,27.8316,28.0739,28.3162, 28.5585,28.8007,29.0429,29.285,29.406, 29.4232)
FOOTPRINT_POINT_LONGITUDE = (37.8006,37.3309,36.9609,36.3774, 36.3631,36.3455,36.3542,36.3582,36.3616 ,36.366,36.3694,36.3731,36.3766,36.3794 ,36.3826,36.386,36.3887,36.3913,36.394, 36.3968,36.3992,36.4015,36.4042,36.4055 ,36.4094,36.4115,36.4133,36.4147, 36.4162,36.4172,36.4185,36.4189,36.4211 ,36.4214,36.4209,36.4214,36.4214, 36.4223,36.4218,36.4211,36.42,36.4185, 36.4155,36.4152,36.4124,36.4096,36.4091 ,36.409,36.7701,37.0908,37.4915,37.7451 ,37.7586,37.7651,37.766,37.7674,37.7684 ,37.7703,37.7722,37.7737,37.7742, 37.7749,37.7757,37.7765,37.7787,37.7803 ,37.7812,37.7802,37.7816,37.7826, 37.7836,37.7846,37.7856,37.7866,37.788, 37.7892,37.7902,37.7912,37.7927,37.7937 ,37.7946,37.7955,37.7967,37.7989, 37.8005,37.7997,37.8007,37.802,37.8026, 37.8034,37.8043,37.8052,37.8062,37.8068 ,37.8078,37.8088,37.8096,37.8104, 37.8108,37.8006)
ORBIT_NUMBER = 17786
ORBITAL_ECCENTRICITY = 0.576
ORBITAL_INCLINATION = 86.95
ORBITAL_SEMIMAJOR_AXIS = 8845.93
PERIAPSIS_ALTITUDE = 359.45
PERIAPSIS_ARGUMENT_ANGLE = 154.92
PERIAPSIS_TIME = 2018-01-19T21:09:40.000Z
SPACECRAFT_ORIENTATION = (0.0,-1.0,0.0)
^MEX_ORIENTATION_DESC = "MEX_ORIENTATION_DESC.TXT"
SPACECRAFT_POINTING_MODE = ACROSSTRACK
^MEX_POINTING_DESC = "MEX_POINTING_DESC.TXT"
RIGHT_ASCENSION = -1e+32
DECLINATION = -1e+32
OFFSET_ANGLE = 0.78
SPACECRAFT_SOLAR_DISTANCE = 2.41532e+08
TARGET_NAME = MARS
/* CAMERA DATA ELEMENTS */
DETECTOR_TEMPERATURE = 18.5744
FOCAL_PLANE_TEMPERATURE = 8.5833
INST_CMPRS_NAME = "DISCRETE COSINE TRANSFORMATION (DCT)"
INST_CMPRS_RATIO = 5.97607
INST_CMPRS_QUALITY = 0
INST_CMPRS_QUANTZ_TBL_ID = 0
INSTRUMENT_TEMPERATURE = 11.4379
LENS_TEMPERATURE = 9.195
MACROPIXEL_SIZE = 1
MISSING_FRAMES = 0
PIXEL_SUBSAMPLING_FLAG = N
SIGNAL_CHAIN_ID = 0
/* RADIOMETRIC DATA ELEMENTS */
BANDWIDTH = 177.0
CENTER_FILTER_WAVELENGTH = 677.5
RADIANCE_OFFSET = 1.90403
RADIANCE_SCALING_FACTOR = 0.0169989
REFLECTANCE_SCALING_FACTOR = 0.000526809
MEX:REFLECTANCE_OFFSET = 0.0590076
/* IMAGE OBJECT DEFINITIONS */
OBJECT = IMAGE
  INTERCHANGE_FORMAT = BINARY
  LINES = 57876
  LINE_SAMPLES = 6170
  SAMPLE_TYPE = UNSIGNED_INTEGER
  SAMPLE_BITS = 8
  BANDS = 1
  BAND_STORAGE_TYPE = BAND_SEQUENTIAL
  MAXIMUM = 255
  MEAN = 118.028
  MINIMUM = 1
  STANDARD_DEVIATION = 19.9644
END_OBJECT = IMAGE
/* MAP OBJECT DEFINITIONS */
OBJECT = IMAGE_MAP_PROJECTION
  ^DATA_SET_MAP_PROJECTION_CATALOG= "DSMAP.CAT"
  A_AXIS_RADIUS = 3396.0
  B_AXIS_RADIUS = 3396.0
  C_AXIS_RADIUS = 3396.0
  CENTER_LATITUDE = 0.0
  CENTER_LONGITUDE = 37.0
  COORDINATE_SYSTEM_NAME = PLANETOGRAPHIC
  COORDINATE_SYSTEM_TYPE = "BODY-FIXED ROTATING"
  EASTERNMOST_LONGITUDE = 37.8108
  FIRST_STANDARD_PARALLEL = "N/A"
  LINE_FIRST_PIXEL = 1
  LINE_LAST_PIXEL = 57876
  LINE_PROJECTION_OFFSET = 139517.0
  MAP_PROJECTION_ROTATION = 0.0
  MAP_PROJECTION_TYPE = SINUSOIDAL
  MAP_RESOLUTION = 4741.71043093333
  MAP_SCALE = 0.0125
  MAXIMUM_LATITUDE = 29.4232
  MINIMUM_LATITUDE = 17.2177
  POSITIVE_LONGITUDE_DIRECTION = EAST
  REFERENCE_LATITUDE = "N/A"
  REFERENCE_LONGITUDE = "N/A"
  SAMPLE_FIRST_PIXEL = 1
  SAMPLE_LAST_PIXEL = 6170
  SAMPLE_PROJECTION_OFFSET = 2703.0
  SECOND_STANDARD_PARALLEL = "N/A"
  WESTERNMOST_LONGITUDE = 36.3455
END_OBJECT = IMAGE_MAP_PROJECTION
END
