PDS_VERSION_ID = PDS3
/* FILE DATA ELEMENTS */
RECORD_TYPE = UNDEFINED
/* POINTERS TO DATA OBJECTS */
^IMAGE = ("HH786_0000_S14.TIF")
/* IDENTIFICATION DATA ELEMENTS */
DATA_SET_ID = "MEX-M-HRSC-4-REFDR-MAPPROJECT-EXT6-V4.0"
DATA_SET_NAME = "MARS EXPRESS HRSC MAP PROJECTED REFDR EXTENSION6 V4.0"
DETECTOR_ID = MEX_HRSC_S1
EVENT_TYPE = "MARS-REGIONAL-MAPPING-Im-Fl"
INSTRUMENT_HOST_ID = MEX
INSTRUMENT_HOST_NAME = "MARS EXPRESS"
INSTRUMENT_ID = HRSC
INSTRUMENT_NAME = "HIGH RESOLUTION STEREO CAMERA"
MISSION_NAME = "MARS EXPRESS"
MISSION_PHASE_NAME = ME_Phase_38
PROCESSING_LEVEL_ID = 4
PRODUCT_CREATION_TIME = 2023-01-28T19:29:54.000Z
PRODUCT_ID = "HH786_0000_S14.TIF"
RELEASE_ID = 0003
REVISION_ID = 0000
/* QUALITY DATA ELEMENTS */
DATA_QUALITY_ID = 1
DATA_QUALITY_DESC = "Data calculated based on original SPICE kernels"
/* TIME DATA ELEMENTS */
SPACECRAFT_CLOCK_START_COUNT = "1/0464476069.07353"
SPACECRAFT_CLOCK_STOP_COUNT = "1/0464476328.40778"
START_TIME = 2018-01-19T21:07:58.232Z
STOP_TIME = 2018-01-19T21:11:07.825Z
/* ORBITAL DATA ELEMENTS */
ASCENDING_NODE_LONGITUDE = 240.2
MAXIMUM_RESOLUTION = 0.0305
FOOTPRINT_POINT_LATITUDE = (29.4718,29.4711,29.467,29.4616,29.4613 ,29.4291,29.0054,28.7225,28.463,27.9879 ,27.5122,27.2729,26.9158,26.6776, 26.4373,26.1982,25.96,25.7204,25.3617, 25.1236,24.8818,24.6424,24.4034,24.1616 ,23.8019,23.5607,23.3209,23.079,22.8386 ,22.5965,22.3563,21.9917,21.748,21.5061 ,21.2614,21.022,20.6578,20.4149,20.0481 ,19.8039,19.4414,19.198,18.9528,18.707, 18.4681,18.2238,17.9799,17.7348,17.3686 ,17.2473,17.2291,17.2303,17.2314, 17.2287,17.2285,17.2289,17.4732,17.716, 17.9602,18.2048,18.448,18.6915,18.9352, 19.2997,19.6657,19.9096,20.1533,20.5187 ,20.9978,21.2406,21.4832,21.7302, 22.0944,22.3363,22.5784,22.9408,23.1824 ,23.4224,23.6632,23.904,24.2656,24.5066 ,24.7468,24.9872,25.2281,25.5876, 26.0652,26.3079,26.5475,26.7859,27.0252 ,27.265,27.5038,27.7424,28.1,28.5765, 28.9961,29.2794,29.4211,29.4718)
FOOTPRINT_POINT_LONGITUDE = (37.8174,37.3048,36.7782,36.3651, 36.3508,36.3358,36.3443,36.3497,36.354, 36.3624,36.3703,36.3736,36.3791,36.3827 ,36.3854,36.3886,36.3919,36.3947,36.399 ,36.4022,36.404,36.4066,36.4092,36.4108 ,36.4141,36.4158,36.4178,36.4191, 36.4208,36.4219,36.4236,36.4244,36.4248 ,36.4256,36.4254,36.4269,36.4274, 36.4276,36.4269,36.4264,36.4269,36.4265 ,36.4255,36.4243,36.4251,36.4241, 36.4232,36.4219,36.4201,36.4198,36.4197 ,36.8867,37.2498,37.7422,37.7551, 37.7598,37.7609,37.7624,37.7635,37.7645 ,37.7659,37.7672,37.7684,37.7705,37.772 ,37.7731,37.7742,37.7758,37.7806, 37.7818,37.7831,37.783,37.7847,37.7861, 37.7874,37.7896,37.791,37.7928,37.7944, 37.7959,37.798,37.7993,37.8009,37.8024, 37.8036,37.8059,37.8095,37.8099,37.8112 ,37.8129,37.8143,37.8154,37.8168, 37.8182,37.8202,37.8229,37.8254,37.8271 ,37.8278,37.8174)
ORBIT_NUMBER = 17786
ORBITAL_ECCENTRICITY = 0.576
ORBITAL_INCLINATION = 86.95
ORBITAL_SEMIMAJOR_AXIS = 8845.93
PERIAPSIS_ALTITUDE = 359.45
PERIAPSIS_ARGUMENT_ANGLE = 154.92
PERIAPSIS_TIME = 2018-01-19T21:09:40.000Z
SPACECRAFT_ORIENTATION = (0.0,-1.0,0.0)
^MEX_ORIENTATION_DESC = "MEX_ORIENTATION_DESC.TXT"
SPACECRAFT_POINTING_MODE = ACROSSTRACK
^MEX_POINTING_DESC = "MEX_POINTING_DESC.TXT"
RIGHT_ASCENSION = -1e+32
DECLINATION = -1e+32
OFFSET_ANGLE = 0.78
SPACECRAFT_SOLAR_DISTANCE = 2.41532e+08
TARGET_NAME = MARS
/* CAMERA DATA ELEMENTS */
DETECTOR_TEMPERATURE = 17.7588
FOCAL_PLANE_TEMPERATURE = 8.5833
INST_CMPRS_NAME = "DISCRETE COSINE TRANSFORMATION (DCT)"
INST_CMPRS_RATIO = 9.63426
INST_CMPRS_QUALITY = 0
INST_CMPRS_QUANTZ_TBL_ID = 0
INSTRUMENT_TEMPERATURE = 11.4379
LENS_TEMPERATURE = 9.195
MACROPIXEL_SIZE = 2
MISSING_FRAMES = 0
PIXEL_SUBSAMPLING_FLAG = N
SIGNAL_CHAIN_ID = 1
/* RADIOMETRIC DATA ELEMENTS */
BANDWIDTH = 180.0
CENTER_FILTER_WAVELENGTH = 677.0
RADIANCE_OFFSET = 2.36897
RADIANCE_SCALING_FACTOR = 0.017806
REFLECTANCE_SCALING_FACTOR = 0.000541948
MEX:REFLECTANCE_OFFSET = 0.0721026
/* IMAGE OBJECT DEFINITIONS */
OBJECT = IMAGE
  INTERCHANGE_FORMAT = BINARY
  LINES = 28938
  LINE_SAMPLES = 3085
  SAMPLE_TYPE = UNSIGNED_INTEGER
  SAMPLE_BITS = 8
  BANDS = 1
  BAND_STORAGE_TYPE = BAND_SEQUENTIAL
  MAXIMUM = 255
  MEAN = 126.317
  MINIMUM = 1
  STANDARD_DEVIATION = 19.9808
END_OBJECT = IMAGE
/* MAP OBJECT DEFINITIONS */
OBJECT = IMAGE_MAP_PROJECTION
  ^DATA_SET_MAP_PROJECTION_CATALOG= "DSMAP.CAT"
  A_AXIS_RADIUS = 3396.0
  B_AXIS_RADIUS = 3396.0
  C_AXIS_RADIUS = 3396.0
  CENTER_LATITUDE = 0.0
  CENTER_LONGITUDE = 37.0
  COORDINATE_SYSTEM_NAME = PLANETOGRAPHIC
  COORDINATE_SYSTEM_TYPE = "BODY-FIXED ROTATING"
  EASTERNMOST_LONGITUDE = 37.8278
  FIRST_STANDARD_PARALLEL = "N/A"
  LINE_FIRST_PIXEL = 1
  LINE_LAST_PIXEL = 28938
  LINE_PROJECTION_OFFSET = 69758.25
  MAP_PROJECTION_ROTATION = 0.0
  MAP_PROJECTION_TYPE = SINUSOIDAL
  MAP_RESOLUTION = 2370.85521546667
  MAP_SCALE = 0.025
  MAXIMUM_LATITUDE = 29.4718
  MINIMUM_LATITUDE = 17.2285
  POSITIVE_LONGITUDE_DIRECTION = EAST
  REFERENCE_LATITUDE = "N/A"
  REFERENCE_LONGITUDE = "N/A"
  SAMPLE_FIRST_PIXEL = 1
  SAMPLE_LAST_PIXEL = 3085
  SAMPLE_PROJECTION_OFFSET = 1351.25
  SECOND_STANDARD_PARALLEL = "N/A"
  WESTERNMOST_LONGITUDE = 36.3358
END_OBJECT = IMAGE_MAP_PROJECTION
END
