PDS_VERSION_ID = PDS3
/* FILE DATA ELEMENTS */
RECORD_TYPE = UNDEFINED
/* POINTERS TO DATA OBJECTS */
^IMAGE = ("HH787_0000_BL4.TIF")
/* IDENTIFICATION DATA ELEMENTS */
DATA_SET_ID = "MEX-M-HRSC-4-REFDR-MAPPROJECT-EXT6-V4.0"
DATA_SET_NAME = "MARS EXPRESS HRSC MAP PROJECTED REFDR EXTENSION6 V4.0"
DETECTOR_ID = MEX_HRSC_BLUE
EVENT_TYPE = "MARS-CLOUD-VARIABLE-At"
INSTRUMENT_HOST_ID = MEX
INSTRUMENT_HOST_NAME = "MARS EXPRESS"
INSTRUMENT_ID = HRSC
INSTRUMENT_NAME = "HIGH RESOLUTION STEREO CAMERA"
MISSION_NAME = "MARS EXPRESS"
MISSION_PHASE_NAME = ME_Phase_38
PROCESSING_LEVEL_ID = 4
PRODUCT_CREATION_TIME = 2023-01-28T19:29:54.000Z
PRODUCT_ID = "HH787_0000_BL4.TIF"
RELEASE_ID = 0003
REVISION_ID = 0000
/* QUALITY DATA ELEMENTS */
DATA_QUALITY_ID = 1
DATA_QUALITY_DESC = "Data calculated based on original SPICE kernels"
/* TIME DATA ELEMENTS */
SPACECRAFT_CLOCK_START_COUNT = "1/0464501586.09061"
SPACECRAFT_CLOCK_STOP_COUNT = "1/0464502119.01966"
START_TIME = 2018-01-20T04:13:27.903Z
STOP_TIME = 2018-01-20T04:21:04.528Z
/* ORBITAL DATA ELEMENTS */
ASCENDING_NODE_LONGITUDE = 240.18
MAXIMUM_RESOLUTION = 0.0652
FOOTPRINT_POINT_LATITUDE = (10.1909,10.2002,10.2045,10.2046, 10.2042,8.93481,8.07703,7.20339,6.76613 ,6.0978,5.65183,4.97243,4.51785,3.82497 ,3.36215,2.89053,2.41916,1.93983, 1.46015,0.972053,0.235318,-0.260736, -0.76411,-1.26975,-1.78255,-2.30006, -2.82147,-3.34962,-3.884,-4.42356, -4.96867,-5.51986,-6.07861,-6.63761, -7.20455,-7.78691,-8.67251,-9.2689, -9.87219,-10.7913,-11.4031,-12.034, -12.6754,-13.623,-14.2549,-14.9555, -15.6589,-16.0087,-16.1299,-16.1479, -16.1574,-16.1687,-16.1753,-16.1756, -16.174,-15.4731,-14.7669,-13.7706, -13.1454,-12.503,-11.8701,-11.2496, -10.3196,-9.71046,-9.10891,-8.50875, -7.92085,-7.05903,-6.48938,-5.92621, -5.36954,-4.81837,-4.27221,-3.73699, -3.20463,-2.67684,-2.15603,-1.64068, -1.12848,-0.623634,0.125831,0.620819, 1.10954,1.59488,2.07542,2.78807,3.49337 ,3.95705,4.42022,4.8752,5.55709,6.22698 ,6.67421,7.11171,7.55005,7.98788, 8.84636,9.90836,10.1187,10.1909)
FOOTPRINT_POINT_LONGITUDE = (295.433,294.525,294.017,294.004, 293.999,293.975,293.957,293.937,293.927 ,293.911,293.9,293.883,293.871,293.852, 293.839,293.826,293.812,293.797,293.783 ,293.768,293.744,293.727,293.71,293.692 ,293.674,293.655,293.636,293.616, 293.595,293.574,293.552,293.53,293.506, 293.473,293.441,293.422,293.391,293.362 ,293.332,293.285,293.235,293.199, 293.174,293.123,293.096,293.054,293.012 ,292.991,292.984,293.785,294.287,295.04 ,295.643,295.668,295.677,295.659, 295.644,295.635,295.613,295.616,295.596 ,295.57,295.555,295.545,295.536,295.538 ,295.532,295.512,295.506,295.501, 295.495,295.49,295.488,295.481,295.476, 295.472,295.469,295.465,295.462,295.459 ,295.455,295.453,295.451,295.448, 295.447,295.444,295.442,295.441,295.44, 295.439,295.438,295.437,295.436,295.436 ,295.435,295.435,295.435,295.435, 295.435,295.433)
ORBIT_NUMBER = 17787
ORBITAL_ECCENTRICITY = 0.576
ORBITAL_INCLINATION = 86.95
ORBITAL_SEMIMAJOR_AXIS = 8843.24
PERIAPSIS_ALTITUDE = 359.5
PERIAPSIS_ARGUMENT_ANGLE = 154.75
PERIAPSIS_TIME = 2018-01-20T04:09:27.000Z
SPACECRAFT_ORIENTATION = (0.0,-1.0,0.0)
^MEX_ORIENTATION_DESC = "MEX_ORIENTATION_DESC.TXT"
SPACECRAFT_POINTING_MODE = NADIR
^MEX_POINTING_DESC = "MEX_POINTING_DESC.TXT"
RIGHT_ASCENSION = -1e+32
DECLINATION = -1e+32
OFFSET_ANGLE = -1e+32
SPACECRAFT_SOLAR_DISTANCE = 2.4149e+08
TARGET_NAME = MARS
/* CAMERA DATA ELEMENTS */
DETECTOR_TEMPERATURE = 18.5744
FOCAL_PLANE_TEMPERATURE = 8.5833
INST_CMPRS_NAME = "DISCRETE COSINE TRANSFORMATION (DCT)"
INST_CMPRS_RATIO = 5.12822
INST_CMPRS_QUALITY = 0
INST_CMPRS_QUANTZ_TBL_ID = 0
INSTRUMENT_TEMPERATURE = 11.6418
LENS_TEMPERATURE = 9.195
MACROPIXEL_SIZE = 4
MISSING_FRAMES = 0
PIXEL_SUBSAMPLING_FLAG = N
SIGNAL_CHAIN_ID = 2
/* RADIOMETRIC DATA ELEMENTS */
BANDWIDTH = 76.0
CENTER_FILTER_WAVELENGTH = 444.0
RADIANCE_OFFSET = 0.140426
RADIANCE_SCALING_FACTOR = 0.0028687
REFLECTANCE_SCALING_FACTOR = 0.000171885
MEX:REFLECTANCE_OFFSET = 0.00841394
/* IMAGE OBJECT DEFINITIONS */
OBJECT = IMAGE
  INTERCHANGE_FORMAT = BINARY
  LINES = 31272
  LINE_SAMPLES = 3068
  SAMPLE_TYPE = UNSIGNED_INTEGER
  SAMPLE_BITS = 8
  BANDS = 1
  BAND_STORAGE_TYPE = BAND_SEQUENTIAL
  MAXIMUM = 255
  MEAN = 103.847
  MINIMUM = 1
  STANDARD_DEVIATION = 51.6054
END_OBJECT = IMAGE
/* MAP OBJECT DEFINITIONS */
OBJECT = IMAGE_MAP_PROJECTION
  ^DATA_SET_MAP_PROJECTION_CATALOG= "DSMAP.CAT"
  A_AXIS_RADIUS = 3396.0
  B_AXIS_RADIUS = 3396.0
  C_AXIS_RADIUS = 3396.0
  CENTER_LATITUDE = 0.0
  CENTER_LONGITUDE = 295.0
  COORDINATE_SYSTEM_NAME = PLANETOGRAPHIC
  COORDINATE_SYSTEM_TYPE = "BODY-FIXED ROTATING"
  EASTERNMOST_LONGITUDE = 295.677
  FIRST_STANDARD_PARALLEL = "N/A"
  LINE_FIRST_PIXEL = 1
  LINE_LAST_PIXEL = 31272
  LINE_PROJECTION_OFFSET = 12097.0
  MAP_PROJECTION_ROTATION = 0.0
  MAP_PROJECTION_TYPE = SINUSOIDAL
  MAP_RESOLUTION = 1185.42760773333
  MAP_SCALE = 0.05
  MAXIMUM_LATITUDE = 10.2046
  MINIMUM_LATITUDE = -16.1756
  POSITIVE_LONGITUDE_DIRECTION = EAST
  REFERENCE_LATITUDE = "N/A"
  REFERENCE_LONGITUDE = "N/A"
  SAMPLE_FIRST_PIXEL = 1
  SAMPLE_LAST_PIXEL = 3068
  SAMPLE_PROJECTION_OFFSET = 2296.0
  SECOND_STANDARD_PARALLEL = "N/A"
  WESTERNMOST_LONGITUDE = 292.984
END_OBJECT = IMAGE_MAP_PROJECTION
END
