PDS_VERSION_ID = PDS3
/* FILE DATA ELEMENTS */
RECORD_TYPE = UNDEFINED
/* POINTERS TO DATA OBJECTS */
^IMAGE = ("HH787_0000_GR4.TIF")
/* IDENTIFICATION DATA ELEMENTS */
DATA_SET_ID = "MEX-M-HRSC-4-REFDR-MAPPROJECT-EXT6-V4.0"
DATA_SET_NAME = "MARS EXPRESS HRSC MAP PROJECTED REFDR EXTENSION6 V4.0"
DETECTOR_ID = MEX_HRSC_GREEN
EVENT_TYPE = "MARS-CLOUD-VARIABLE-At"
INSTRUMENT_HOST_ID = MEX
INSTRUMENT_HOST_NAME = "MARS EXPRESS"
INSTRUMENT_ID = HRSC
INSTRUMENT_NAME = "HIGH RESOLUTION STEREO CAMERA"
MISSION_NAME = "MARS EXPRESS"
MISSION_PHASE_NAME = ME_Phase_38
PROCESSING_LEVEL_ID = 4
PRODUCT_CREATION_TIME = 2023-01-28T19:29:54.000Z
PRODUCT_ID = "HH787_0000_GR4.TIF"
RELEASE_ID = 0003
REVISION_ID = 0000
/* QUALITY DATA ELEMENTS */
DATA_QUALITY_ID = 1
DATA_QUALITY_DESC = "Data calculated based on original SPICE kernels"
/* TIME DATA ELEMENTS */
SPACECRAFT_CLOCK_START_COUNT = "1/0464501586.09061"
SPACECRAFT_CLOCK_STOP_COUNT = "1/0464502119.01966"
START_TIME = 2018-01-20T04:13:15.273Z
STOP_TIME = 2018-01-20T04:20:37.249Z
/* ORBITAL DATA ELEMENTS */
ASCENDING_NODE_LONGITUDE = 240.18
MAXIMUM_RESOLUTION = 0.0643
FOOTPRINT_POINT_LATITUDE = (10.1913,10.1983,10.2051,10.2052, 10.2037,9.56696,8.71998,8.07391,7.20818 ,6.76736,6.09556,5.64995,5.198,4.74683, 4.05818,3.59835,2.89593,2.42694,1.9481, 1.47007,0.983197,0.496242,3.86111e-05, -0.749307,-1.25375,-1.76604,-2.28086, -2.8031,-3.33048,-3.86222,-4.40067, -4.94587,-5.78424,-6.34522,-6.9194, -7.49173,-8.071,-8.65441,-9.24994, -9.85402,-10.466,-11.4081,-12.0415, -12.6771,-13.3304,-14.3049,-14.9554, -15.6021,-15.9545,-16.1168,-16.1378, -16.1525,-16.1628,-16.1631,-16.1615, -15.4666,-14.8188,-13.8459,-13.1851, -12.2216,-11.5804,-10.9498,-10.3321, -9.72191,-9.12028,-8.52999,-7.65648, -6.78612,-6.22082,-5.66163,-5.09812, -4.55014,-4.01259,-3.21107,-2.68545, -2.16323,-1.64957,-0.886572,-0.382505, 0.113975,0.607947,1.09576,1.58053, 2.05954,2.53614,3.00597,3.47627,4.16739 ,4.62812,5.07947,5.53152,5.98008, 6.65234,7.09588,7.52889,7.96242,8.61139 ,9.88369,10.0962,10.1913)
FOOTPRINT_POINT_LONGITUDE = (295.424,294.803,294.024,294.011, 294.007,293.995,293.979,293.966,293.947 ,293.937,293.922,293.911,293.9,293.888, 293.87,293.859,293.839,293.826,293.812, 293.798,293.783,293.768,293.752,293.728 ,293.711,293.694,293.675,293.656, 293.637,293.617,293.597,293.576,293.543 ,293.52,293.482,293.46,293.438,293.421, 293.394,293.365,293.335,293.271,293.236 ,293.213,293.173,293.135,293.098, 293.061,293.041,293.032,294.045,294.891 ,295.593,295.617,295.625,295.61,295.599 ,295.593,295.572,295.567,295.545, 295.527,295.519,295.511,295.505,295.506 ,295.504,295.481,295.476,295.471, 295.467,295.463,295.462,295.453,295.45, 295.447,295.444,295.441,295.439,295.437 ,295.435,295.433,295.432,295.43,295.429 ,295.428,295.427,295.426,295.426, 295.425,295.425,295.424,295.424,295.424 ,295.424,295.424,295.424,295.425, 295.426,295.424)
ORBIT_NUMBER = 17787
ORBITAL_ECCENTRICITY = 0.576
ORBITAL_INCLINATION = 86.95
ORBITAL_SEMIMAJOR_AXIS = 8843.24
PERIAPSIS_ALTITUDE = 359.5
PERIAPSIS_ARGUMENT_ANGLE = 154.75
PERIAPSIS_TIME = 2018-01-20T04:09:27.000Z
SPACECRAFT_ORIENTATION = (0.0,-1.0,0.0)
^MEX_ORIENTATION_DESC = "MEX_ORIENTATION_DESC.TXT"
SPACECRAFT_POINTING_MODE = NADIR
^MEX_POINTING_DESC = "MEX_POINTING_DESC.TXT"
RIGHT_ASCENSION = -1e+32
DECLINATION = -1e+32
OFFSET_ANGLE = -1e+32
SPACECRAFT_SOLAR_DISTANCE = 2.4149e+08
TARGET_NAME = MARS
/* CAMERA DATA ELEMENTS */
DETECTOR_TEMPERATURE = 18.5744
FOCAL_PLANE_TEMPERATURE = 8.5833
INST_CMPRS_NAME = "DISCRETE COSINE TRANSFORMATION (DCT)"
INST_CMPRS_RATIO = 13.8574
INST_CMPRS_QUALITY = 0
INST_CMPRS_QUANTZ_TBL_ID = 0
INSTRUMENT_TEMPERATURE = 11.6418
LENS_TEMPERATURE = 9.195
MACROPIXEL_SIZE = 4
PIXEL_SUBSAMPLING_FLAG = N
SIGNAL_CHAIN_ID = 2
/* RADIOMETRIC DATA ELEMENTS */
BANDWIDTH = 88.0
CENTER_FILTER_WAVELENGTH = 538.0
RADIANCE_OFFSET = 0.237047
RADIANCE_SCALING_FACTOR = 0.0041691
REFLECTANCE_SCALING_FACTOR = 0.000209329
MEX:REFLECTANCE_OFFSET = 0.0119021
/* IMAGE OBJECT DEFINITIONS */
OBJECT = IMAGE
  INTERCHANGE_FORMAT = BINARY
  LINES = 31272
  LINE_SAMPLES = 3068
  SAMPLE_TYPE = UNSIGNED_INTEGER
  SAMPLE_BITS = 8
  BANDS = 1
  BAND_STORAGE_TYPE = BAND_SEQUENTIAL
  MAXIMUM = 255
  MEAN = 120.749
  MINIMUM = 1
  STANDARD_DEVIATION = 58.6597
END_OBJECT = IMAGE
/* MAP OBJECT DEFINITIONS */
OBJECT = IMAGE_MAP_PROJECTION
  ^DATA_SET_MAP_PROJECTION_CATALOG= "DSMAP.CAT"
  A_AXIS_RADIUS = 3396.0
  B_AXIS_RADIUS = 3396.0
  C_AXIS_RADIUS = 3396.0
  CENTER_LATITUDE = 0.0
  CENTER_LONGITUDE = 295.0
  COORDINATE_SYSTEM_NAME = PLANETOGRAPHIC
  COORDINATE_SYSTEM_TYPE = "BODY-FIXED ROTATING"
  EASTERNMOST_LONGITUDE = 295.625
  FIRST_STANDARD_PARALLEL = "N/A"
  LINE_FIRST_PIXEL = 1
  LINE_LAST_PIXEL = 31272
  LINE_PROJECTION_OFFSET = 12097.0
  MAP_PROJECTION_ROTATION = 0.0
  MAP_PROJECTION_TYPE = SINUSOIDAL
  MAP_RESOLUTION = 1185.42760773333
  MAP_SCALE = 0.05
  MAXIMUM_LATITUDE = 10.2052
  MINIMUM_LATITUDE = -16.1631
  POSITIVE_LONGITUDE_DIRECTION = EAST
  REFERENCE_LATITUDE = "N/A"
  REFERENCE_LONGITUDE = "N/A"
  SAMPLE_FIRST_PIXEL = 1
  SAMPLE_LAST_PIXEL = 3068
  SAMPLE_PROJECTION_OFFSET = 2296.0
  SECOND_STANDARD_PARALLEL = "N/A"
  WESTERNMOST_LONGITUDE = 293.032
END_OBJECT = IMAGE_MAP_PROJECTION
END
