PDS_VERSION_ID = PDS3
/* FILE DATA ELEMENTS */
RECORD_TYPE = UNDEFINED
/* POINTERS TO DATA OBJECTS */
^IMAGE = ("HH787_0000_RE4.TIF")
/* IDENTIFICATION DATA ELEMENTS */
DATA_SET_ID = "MEX-M-HRSC-4-REFDR-MAPPROJECT-EXT6-V4.0"
DATA_SET_NAME = "MARS EXPRESS HRSC MAP PROJECTED REFDR EXTENSION6 V4.0"
DETECTOR_ID = MEX_HRSC_RED
EVENT_TYPE = "MARS-CLOUD-VARIABLE-At"
INSTRUMENT_HOST_ID = MEX
INSTRUMENT_HOST_NAME = "MARS EXPRESS"
INSTRUMENT_ID = HRSC
INSTRUMENT_NAME = "HIGH RESOLUTION STEREO CAMERA"
MISSION_NAME = "MARS EXPRESS"
MISSION_PHASE_NAME = ME_Phase_38
PROCESSING_LEVEL_ID = 4
PRODUCT_CREATION_TIME = 2023-01-28T19:29:54.000Z
PRODUCT_ID = "HH787_0000_RE4.TIF"
RELEASE_ID = 0003
REVISION_ID = 0000
/* QUALITY DATA ELEMENTS */
DATA_QUALITY_ID = 1
DATA_QUALITY_DESC = "Data calculated based on original SPICE kernels"
/* TIME DATA ELEMENTS */
SPACECRAFT_CLOCK_START_COUNT = "1/0464501586.09061"
SPACECRAFT_CLOCK_STOP_COUNT = "1/0464502119.01966"
START_TIME = 2018-01-20T04:13:53.736Z
STOP_TIME = 2018-01-20T04:22:06.345Z
/* ORBITAL DATA ELEMENTS */
ASCENDING_NODE_LONGITUDE = 240.18
MAXIMUM_RESOLUTION = 0.07
FOOTPRINT_POINT_LATITUDE = (10.1867,10.1951,10.2017,10.2019, 10.2037,9.57041,8.92297,8.0572,7.18192, 6.29014,5.61316,5.16104,4.70135,4.24123 ,3.77336,3.30612,2.83149,2.11476,1.6334 ,1.14378,0.653897,0.158605,-0.341963, -0.845931,-1.61398,-2.13046,-2.65291, -3.18097,-3.71408,-4.25422,-4.8, -5.35106,-5.90803,-6.46893,-6.99294, -7.58959,-8.17711,-8.78831,-9.38534, -10.2814,-10.8716,-11.4092,-12.053, -12.7479,-13.3884,-14.075,-14.7365, -15.7483,-16.09,-16.1375,-16.1515, -16.1706,-16.1811,-16.1857,-16.1859, -16.1843,-15.1632,-14.4951,-13.7959, -13.17,-12.4746,-11.834,-11.2561, -10.6622,-9.76534,-9.16551,-8.26757, -7.65021,-6.82399,-6.25645,-5.69499, -5.13955,-4.59062,-4.04581,-3.5117, -2.71602,-2.19313,-1.67556,-1.1622, -0.652481,-0.149804,0.348361,0.843576, 1.33278,2.05905,2.53903,3.01435,3.71987 ,4.18826,4.649,5.3367,5.79032,6.24165, 6.68732,7.3537,8.44824,9.31009,9.94992, 10.1613,10.1867)
FOOTPRINT_POINT_LONGITUDE = (295.456,294.57,293.988,293.974,293.97, 293.957,293.943,293.923,293.901,293.879 ,293.86,293.848,293.834,293.821,293.807 ,293.793,293.778,293.755,293.739, 293.723,293.705,293.687,293.669,293.65, 293.62,293.6,293.579,293.556,293.534, 293.511,293.487,293.462,293.436,293.408 ,293.365,293.344,293.316,293.292, 293.261,293.21,293.175,293.123,293.081, 293.053,293.008,292.976,292.931,292.862 ,292.838,292.834,293.304,294.107, 294.826,295.769,295.797,295.806,295.773 ,295.753,295.748,295.72,295.718,295.693 ,295.663,295.65,295.631,295.619,295.606 ,295.609,295.58,295.572,295.564,295.556 ,295.549,295.543,295.536,295.527, 295.521,295.516,295.511,295.507,295.502 ,295.498,295.495,295.491,295.486, 295.483,295.48,295.477,295.475,295.473, 295.47,295.468,295.467,295.465,295.463, 295.461,295.459,295.458,295.457, 295.456)
ORBIT_NUMBER = 17787
ORBITAL_ECCENTRICITY = 0.576
ORBITAL_INCLINATION = 86.95
ORBITAL_SEMIMAJOR_AXIS = 8843.24
PERIAPSIS_ALTITUDE = 359.5
PERIAPSIS_ARGUMENT_ANGLE = 154.75
PERIAPSIS_TIME = 2018-01-20T04:09:27.000Z
SPACECRAFT_ORIENTATION = (0.0,-1.0,0.0)
^MEX_ORIENTATION_DESC = "MEX_ORIENTATION_DESC.TXT"
SPACECRAFT_POINTING_MODE = NADIR
^MEX_POINTING_DESC = "MEX_POINTING_DESC.TXT"
RIGHT_ASCENSION = -1e+32
DECLINATION = -1e+32
OFFSET_ANGLE = -1e+32
SPACECRAFT_SOLAR_DISTANCE = 2.4149e+08
TARGET_NAME = MARS
/* CAMERA DATA ELEMENTS */
DETECTOR_TEMPERATURE = 18.7783
FOCAL_PLANE_TEMPERATURE = 8.5833
INST_CMPRS_NAME = "DISCRETE COSINE TRANSFORMATION (DCT)"
INST_CMPRS_RATIO = 22.8628
INST_CMPRS_QUALITY = 0
INST_CMPRS_QUANTZ_TBL_ID = 0
INSTRUMENT_TEMPERATURE = 11.6418
LENS_TEMPERATURE = 9.195
MACROPIXEL_SIZE = 4
MISSING_FRAMES = 0
PIXEL_SUBSAMPLING_FLAG = N
SIGNAL_CHAIN_ID = 2
/* RADIOMETRIC DATA ELEMENTS */
BANDWIDTH = 48.0
CENTER_FILTER_WAVELENGTH = 748.0
RADIANCE_OFFSET = 0.126902
RADIANCE_SCALING_FACTOR = 0.0030907
REFLECTANCE_SCALING_FACTOR = 0.000411322
MEX:REFLECTANCE_OFFSET = 0.0168886
/* IMAGE OBJECT DEFINITIONS */
OBJECT = IMAGE
  INTERCHANGE_FORMAT = BINARY
  LINES = 31272
  LINE_SAMPLES = 3068
  SAMPLE_TYPE = UNSIGNED_INTEGER
  SAMPLE_BITS = 8
  BANDS = 1
  BAND_STORAGE_TYPE = BAND_SEQUENTIAL
  MAXIMUM = 255
  MEAN = 112.323
  MINIMUM = 1
  STANDARD_DEVIATION = 56.1382
END_OBJECT = IMAGE
/* MAP OBJECT DEFINITIONS */
OBJECT = IMAGE_MAP_PROJECTION
  ^DATA_SET_MAP_PROJECTION_CATALOG= "DSMAP.CAT"
  A_AXIS_RADIUS = 3396.0
  B_AXIS_RADIUS = 3396.0
  C_AXIS_RADIUS = 3396.0
  CENTER_LATITUDE = 0.0
  CENTER_LONGITUDE = 295.0
  COORDINATE_SYSTEM_NAME = PLANETOGRAPHIC
  COORDINATE_SYSTEM_TYPE = "BODY-FIXED ROTATING"
  EASTERNMOST_LONGITUDE = 295.806
  FIRST_STANDARD_PARALLEL = "N/A"
  LINE_FIRST_PIXEL = 1
  LINE_LAST_PIXEL = 31272
  LINE_PROJECTION_OFFSET = 12097.0
  MAP_PROJECTION_ROTATION = 0.0
  MAP_PROJECTION_TYPE = SINUSOIDAL
  MAP_RESOLUTION = 1185.42760773333
  MAP_SCALE = 0.05
  MAXIMUM_LATITUDE = 10.2037
  MINIMUM_LATITUDE = -16.1859
  POSITIVE_LONGITUDE_DIRECTION = EAST
  REFERENCE_LATITUDE = "N/A"
  REFERENCE_LONGITUDE = "N/A"
  SAMPLE_FIRST_PIXEL = 1
  SAMPLE_LAST_PIXEL = 3068
  SAMPLE_PROJECTION_OFFSET = 2296.0
  SECOND_STANDARD_PARALLEL = "N/A"
  WESTERNMOST_LONGITUDE = 292.834
END_OBJECT = IMAGE_MAP_PROJECTION
END
