PDS_VERSION_ID = PDS3
/* FILE DATA ELEMENTS */
RECORD_TYPE = UNDEFINED
/* POINTERS TO DATA OBJECTS */
^IMAGE = ("HH789_0000_ND4.TIF")
/* IDENTIFICATION DATA ELEMENTS */
DATA_SET_ID = "MEX-M-HRSC-4-REFDR-MAPPROJECT-EXT6-V4.0"
DATA_SET_NAME = "MARS EXPRESS HRSC MAP PROJECTED REFDR EXTENSION6 V4.0"
DETECTOR_ID = MEX_HRSC_NADIR
EVENT_TYPE = "MARS-LOCAL-STEREO-Tc"
INSTRUMENT_HOST_ID = MEX
INSTRUMENT_HOST_NAME = "MARS EXPRESS"
INSTRUMENT_ID = HRSC
INSTRUMENT_NAME = "HIGH RESOLUTION STEREO CAMERA"
MISSION_NAME = "MARS EXPRESS"
MISSION_PHASE_NAME = ME_Phase_38
PROCESSING_LEVEL_ID = 4
PRODUCT_CREATION_TIME = 2023-01-28T19:29:54.000Z
PRODUCT_ID = "HH789_0000_ND4.TIF"
RELEASE_ID = 0003
REVISION_ID = 0000
/* QUALITY DATA ELEMENTS */
DATA_QUALITY_ID = 1
DATA_QUALITY_DESC = "Data calculated based on original SPICE kernels"
/* TIME DATA ELEMENTS */
SPACECRAFT_CLOCK_START_COUNT = "1/0464551868.08311"
SPACECRAFT_CLOCK_STOP_COUNT = "1/0464552021.00717"
START_TIME = 2018-01-20T18:11:51.607Z
STOP_TIME = 2018-01-20T18:13:07.622Z
/* ORBITAL DATA ELEMENTS */
ASCENDING_NODE_LONGITUDE = 240.14
MAXIMUM_RESOLUTION = 0.0155
FOOTPRINT_POINT_LATITUDE = (13.9414,13.9434,13.9447,13.9459, 13.9471,13.9482,13.9493,13.9503,13.9513 ,13.9522,13.953,13.9538,13.9546,13.9547 ,13.9547,13.8099,13.7134,13.6169, 13.5205,13.4241,13.3277,13.2313,13.1349 ,13.0386,12.9423,12.846,12.7498,12.6536 ,12.4612,12.269,12.0768,11.8848,11.6929 ,11.5011,11.3094,11.1179,10.9264, 10.7351,10.5439,10.3529,10.1619,9.9711, 9.78041,9.58986,9.49258,9.39481,9.29708 ,9.19938,9.15054,9.14698,9.14589, 9.14461,9.14342,9.1422,9.14093,9.13963, 9.13826,9.13688,9.13523,9.13373,9.13222 ,9.13022,9.13001,9.13017,9.22792, 9.32571,9.42353,9.56989,9.76059,9.95142 ,10.1424,10.3335,10.5247,10.716,10.9075 ,11.099,11.2907,11.4825,11.6745,11.8665 ,12.0587,12.251,12.4433,12.5396,12.6358 ,12.7321,12.8284,12.9248,13.0211, 13.1175,13.214,13.3104,13.4069,13.5034, 13.5999,13.6964,13.793,13.8896,13.9379, 13.9414)
FOOTPRINT_POINT_LONGITUDE = (91.6922,91.5211,91.4079,91.2952, 91.1829,91.0712,90.9601,90.8496,90.7396 ,90.6301,90.5211,90.4123,90.3042, 90.2907,90.2861,90.2836,90.282,90.2804, 90.2787,90.2771,90.2754,90.2737,90.272, 90.2703,90.2685,90.2668,90.265,90.2633, 90.2597,90.2561,90.2525,90.2488,90.245, 90.2412,90.2374,90.2336,90.2297,90.2257 ,90.2217,90.2177,90.2136,90.2095, 90.2053,90.2011,90.199,90.1968,90.1946, 90.1924,90.1913,90.1912,90.3062,90.4366 ,90.5528,90.6695,90.7867,90.9044, 91.0226,91.1415,91.276,91.3959,91.5164, 91.668,91.6833,91.6907,91.6909,91.6911, 91.6913,91.6919,91.6927,91.6933,91.6937 ,91.6945,91.6953,91.6962,91.6969, 91.6977,91.6985,91.6992,91.7001,91.701, 91.702,91.703,91.7039,91.7043,91.7048, 91.7052,91.7057,91.7061,91.7066,91.707, 91.7076,91.7082,91.7088,91.7093,91.7099 ,91.7105,91.711,91.7116,91.7118, 91.6922)
ORBIT_NUMBER = 17789
ORBITAL_ECCENTRICITY = 0.576
ORBITAL_INCLINATION = 86.96
ORBITAL_SEMIMAJOR_AXIS = 8846.52
PERIAPSIS_ALTITUDE = 359.06
PERIAPSIS_ARGUMENT_ANGLE = 154.36
PERIAPSIS_TIME = 2018-01-20T18:08:51.000Z
SPACECRAFT_ORIENTATION = (0.0,-1.0,0.0)
^MEX_ORIENTATION_DESC = "MEX_ORIENTATION_DESC.TXT"
SPACECRAFT_POINTING_MODE = ACROSSTRACK
^MEX_POINTING_DESC = "MEX_POINTING_DESC.TXT"
RIGHT_ASCENSION = -1e+32
DECLINATION = -1e+32
OFFSET_ANGLE = 0.8
SPACECRAFT_SOLAR_DISTANCE = 2.41407e+08
TARGET_NAME = MARS
/* CAMERA DATA ELEMENTS */
DETECTOR_TEMPERATURE = 18.5744
FOCAL_PLANE_TEMPERATURE = 8.7872
INST_CMPRS_NAME = "DISCRETE COSINE TRANSFORMATION (DCT)"
INST_CMPRS_RATIO = 5.86256
INST_CMPRS_QUALITY = 0
INST_CMPRS_QUANTZ_TBL_ID = 0
INSTRUMENT_TEMPERATURE = 12.0496
LENS_TEMPERATURE = 9.6028
MACROPIXEL_SIZE = 1
MISSING_FRAMES = 0
PIXEL_SUBSAMPLING_FLAG = N
SIGNAL_CHAIN_ID = 0
/* RADIOMETRIC DATA ELEMENTS */
BANDWIDTH = 177.0
CENTER_FILTER_WAVELENGTH = 677.5
RADIANCE_OFFSET = 1.61726
RADIANCE_SCALING_FACTOR = 0.00959065
REFLECTANCE_SCALING_FACTOR = 0.000296914
MEX:REFLECTANCE_OFFSET = 0.0500684
/* IMAGE OBJECT DEFINITIONS */
OBJECT = IMAGE
  INTERCHANGE_FORMAT = BINARY
  LINES = 22879
  LINE_SAMPLES = 7063
  SAMPLE_TYPE = UNSIGNED_INTEGER
  SAMPLE_BITS = 8
  BANDS = 1
  BAND_STORAGE_TYPE = BAND_SEQUENTIAL
  MAXIMUM = 255
  MEAN = 107.701
  MINIMUM = 1
  STANDARD_DEVIATION = 19.2097
END_OBJECT = IMAGE
/* MAP OBJECT DEFINITIONS */
OBJECT = IMAGE_MAP_PROJECTION
  ^DATA_SET_MAP_PROJECTION_CATALOG= "DSMAP.CAT"
  A_AXIS_RADIUS = 3396.0
  B_AXIS_RADIUS = 3396.0
  C_AXIS_RADIUS = 3396.0
  CENTER_LATITUDE = 0.0
  CENTER_LONGITUDE = 91.0
  COORDINATE_SYSTEM_NAME = PLANETOGRAPHIC
  COORDINATE_SYSTEM_TYPE = "BODY-FIXED ROTATING"
  EASTERNMOST_LONGITUDE = 91.7118
  FIRST_STANDARD_PARALLEL = "N/A"
  LINE_FIRST_PIXEL = 1
  LINE_LAST_PIXEL = 22879
  LINE_PROJECTION_OFFSET = 66170.0
  MAP_PROJECTION_ROTATION = 0.0
  MAP_PROJECTION_TYPE = SINUSOIDAL
  MAP_RESOLUTION = 4741.71043093333
  MAP_SCALE = 0.0125
  MAXIMUM_LATITUDE = 13.9547
  MINIMUM_LATITUDE = 9.13001
  POSITIVE_LONGITUDE_DIRECTION = EAST
  REFERENCE_LATITUDE = "N/A"
  REFERENCE_LONGITUDE = "N/A"
  SAMPLE_FIRST_PIXEL = 1
  SAMPLE_LAST_PIXEL = 7063
  SAMPLE_PROJECTION_OFFSET = 3786.0
  SECOND_STANDARD_PARALLEL = "N/A"
  WESTERNMOST_LONGITUDE = 90.19119999999999
END_OBJECT = IMAGE_MAP_PROJECTION
END
