PDS_VERSION_ID = PDS3
/* FILE DATA ELEMENTS */
RECORD_TYPE = UNDEFINED
/* POINTERS TO DATA OBJECTS */
^IMAGE = ("HH794_0000_GR4.TIF")
/* IDENTIFICATION DATA ELEMENTS */
DATA_SET_ID = "MEX-M-HRSC-4-REFDR-MAPPROJECT-EXT6-V4.0"
DATA_SET_NAME = "MARS EXPRESS HRSC MAP PROJECTED REFDR EXTENSION6 V4.0"
DETECTOR_ID = MEX_HRSC_GREEN
EVENT_TYPE = "MARS-REGIONAL-MAPPING-Fl-Gl"
INSTRUMENT_HOST_ID = MEX
INSTRUMENT_HOST_NAME = "MARS EXPRESS"
INSTRUMENT_ID = HRSC
INSTRUMENT_NAME = "HIGH RESOLUTION STEREO CAMERA"
MISSION_NAME = "MARS EXPRESS"
MISSION_PHASE_NAME = ME_Phase_38
PROCESSING_LEVEL_ID = 4
PRODUCT_CREATION_TIME = 2023-01-28T19:29:54.000Z
PRODUCT_ID = "HH794_0000_GR4.TIF"
RELEASE_ID = 0003
REVISION_ID = 0000
/* QUALITY DATA ELEMENTS */
DATA_QUALITY_ID = 1
DATA_QUALITY_DESC = "Data calculated based on original SPICE kernels"
/* TIME DATA ELEMENTS */
SPACECRAFT_CLOCK_START_COUNT = "1/0464677354.09049"
SPACECRAFT_CLOCK_STOP_COUNT = "1/0464677611.16538"
START_TIME = 2018-01-22T05:03:12.223Z
STOP_TIME = 2018-01-22T05:06:19.394Z
/* ORBITAL DATA ELEMENTS */
ASCENDING_NODE_LONGITUDE = 240.05
MAXIMUM_RESOLUTION = 0.058
FOOTPRINT_POINT_LATITUDE = (33.6147,33.6124,33.6061,33.601,33.6008 ,33.5925,33.3119,33.0312,32.7504, 32.4694,32.1158,31.761,31.1709,30.8165, 30.344,30.1075,29.8709,29.6344,29.2793, 29.0425,28.8056,28.5686,28.3317,28.0946 ,27.7391,27.5016,27.1458,26.9079, 26.6711,26.4334,26.1961,25.9589,25.6029 ,25.3655,25.1275,24.6532,24.4152, 24.1783,23.9403,23.5838,23.3468,22.8733 ,22.5175,22.28,22.0426,21.6864,21.5677, 21.5387,21.5392,21.5391,21.5377,21.5362 ,21.5361,21.5369,21.7746,22.1311, 22.4877,22.7254,22.963,23.1995,23.5559, 23.7935,24.031,24.2682,24.5062,24.7446, 24.9814,25.3389,25.6955,25.9336,26.1713 ,26.4111,26.7676,27.0045,27.2409, 27.4783,27.7162,27.9536,28.1909,28.4281 ,28.6651,28.9014,29.2574,29.4948,29.732 ,29.9691,30.2061,30.4429,30.6796, 30.9163,31.1528,31.3893,31.6262,31.9817 ,32.4537,32.8703,33.1516,33.4328, 33.5732,33.6147)
FOOTPRINT_POINT_LONGITUDE = (299.924,299.422,298.763,298.404, 298.389,298.37,298.379,298.387,298.395, 298.402,298.411,298.418,298.431,298.439 ,298.449,298.454,298.459,298.463, 298.469,298.474,298.478,298.481,298.485 ,298.488,298.494,298.496,298.501, 298.502,298.506,298.508,298.51,298.513, 298.517,298.519,298.52,298.524,298.525, 298.528,298.528,298.529,298.531,298.535 ,298.537,298.538,298.538,298.538, 298.538,298.538,298.867,299.146,299.616 ,299.882,299.895,299.899,299.9,299.901, 299.902,299.903,299.904,299.907,299.909 ,299.911,299.912,299.914,299.914, 299.914,299.917,299.916,299.917,299.917 ,299.918,299.915,299.916,299.918, 299.921,299.922,299.922,299.923,299.924 ,299.925,299.927,299.93,299.93,299.93, 299.931,299.931,299.932,299.933,299.933 ,299.934,299.935,299.936,299.935, 299.934,299.936,299.937,299.938,299.939 ,299.94,299.924)
ORBIT_NUMBER = 17794
ORBITAL_ECCENTRICITY = 0.575
ORBITAL_INCLINATION = 86.96
ORBITAL_SEMIMAJOR_AXIS = 8831.73
PERIAPSIS_ALTITUDE = 360.32
PERIAPSIS_ARGUMENT_ANGLE = 153.54
PERIAPSIS_TIME = 2018-01-22T05:05:09.000Z
SPACECRAFT_ORIENTATION = (0.0,-1.0,0.0)
^MEX_ORIENTATION_DESC = "MEX_ORIENTATION_DESC.TXT"
SPACECRAFT_POINTING_MODE = NADIR
^MEX_POINTING_DESC = "MEX_POINTING_DESC.TXT"
RIGHT_ASCENSION = -1e+32
DECLINATION = -1e+32
OFFSET_ANGLE = -1e+32
SPACECRAFT_SOLAR_DISTANCE = 2.41199e+08
TARGET_NAME = MARS
/* CAMERA DATA ELEMENTS */
DETECTOR_TEMPERATURE = 18.5744
FOCAL_PLANE_TEMPERATURE = 8.5833
INST_CMPRS_NAME = "DISCRETE COSINE TRANSFORMATION (DCT)"
INST_CMPRS_RATIO = 7.35176
INST_CMPRS_QUALITY = 0
INST_CMPRS_QUANTZ_TBL_ID = 0
INSTRUMENT_TEMPERATURE = 10.6223
LENS_TEMPERATURE = 9.195
MACROPIXEL_SIZE = 4
MISSING_FRAMES = 0
PIXEL_SUBSAMPLING_FLAG = N
SIGNAL_CHAIN_ID = 2
/* RADIOMETRIC DATA ELEMENTS */
BANDWIDTH = 88.0
CENTER_FILTER_WAVELENGTH = 538.0
RADIANCE_OFFSET = 0.476986
RADIANCE_SCALING_FACTOR = 0.00594733
REFLECTANCE_SCALING_FACTOR = 0.000297895
MEX:REFLECTANCE_OFFSET = 0.0238917
/* IMAGE OBJECT DEFINITIONS */
OBJECT = IMAGE
  INTERCHANGE_FORMAT = BINARY
  LINES = 14313
  LINE_SAMPLES = 1621
  SAMPLE_TYPE = UNSIGNED_INTEGER
  SAMPLE_BITS = 8
  BANDS = 1
  BAND_STORAGE_TYPE = BAND_SEQUENTIAL
  MAXIMUM = 255
  MEAN = 90.8274
  MINIMUM = 1
  STANDARD_DEVIATION = 18.5793
END_OBJECT = IMAGE
/* MAP OBJECT DEFINITIONS */
OBJECT = IMAGE_MAP_PROJECTION
  ^DATA_SET_MAP_PROJECTION_CATALOG= "DSMAP.CAT"
  A_AXIS_RADIUS = 3396.0
  B_AXIS_RADIUS = 3396.0
  C_AXIS_RADIUS = 3396.0
  CENTER_LATITUDE = 0.0
  CENTER_LONGITUDE = 299.0
  COORDINATE_SYSTEM_NAME = PLANETOGRAPHIC
  COORDINATE_SYSTEM_TYPE = "BODY-FIXED ROTATING"
  EASTERNMOST_LONGITUDE = 299.94
  FIRST_STANDARD_PARALLEL = "N/A"
  LINE_FIRST_PIXEL = 1
  LINE_LAST_PIXEL = 14313
  LINE_PROJECTION_OFFSET = 39838.625
  MAP_PROJECTION_ROTATION = 0.0
  MAP_PROJECTION_TYPE = SINUSOIDAL
  MAP_RESOLUTION = 1185.42760773333
  MAP_SCALE = 0.05
  MAXIMUM_LATITUDE = 33.6147
  MINIMUM_LATITUDE = 21.5361
  POSITIVE_LONGITUDE_DIRECTION = EAST
  REFERENCE_LATITUDE = "N/A"
  REFERENCE_LONGITUDE = "N/A"
  SAMPLE_FIRST_PIXEL = 1
  SAMPLE_LAST_PIXEL = 1621
  SAMPLE_PROJECTION_OFFSET = 627.125
  SECOND_STANDARD_PARALLEL = "N/A"
  WESTERNMOST_LONGITUDE = 298.37
END_OBJECT = IMAGE_MAP_PROJECTION
END
