PDS_VERSION_ID = PDS3
/* FILE DATA ELEMENTS */
RECORD_TYPE = UNDEFINED
/* POINTERS TO DATA OBJECTS */
^IMAGE = ("HH794_0000_ND4.TIF")
/* IDENTIFICATION DATA ELEMENTS */
DATA_SET_ID = "MEX-M-HRSC-4-REFDR-MAPPROJECT-EXT6-V4.0"
DATA_SET_NAME = "MARS EXPRESS HRSC MAP PROJECTED REFDR EXTENSION6 V4.0"
DETECTOR_ID = MEX_HRSC_NADIR
EVENT_TYPE = "MARS-REGIONAL-MAPPING-Fl-Gl"
INSTRUMENT_HOST_ID = MEX
INSTRUMENT_HOST_NAME = "MARS EXPRESS"
INSTRUMENT_ID = HRSC
INSTRUMENT_NAME = "HIGH RESOLUTION STEREO CAMERA"
MISSION_NAME = "MARS EXPRESS"
MISSION_PHASE_NAME = ME_Phase_38
PROCESSING_LEVEL_ID = 4
PRODUCT_CREATION_TIME = 2023-01-28T19:29:54.000Z
PRODUCT_ID = "HH794_0000_ND4.TIF"
RELEASE_ID = 0003
REVISION_ID = 0000
/* QUALITY DATA ELEMENTS */
DATA_QUALITY_ID = 1
DATA_QUALITY_DESC = "Data calculated based on original SPICE kernels"
/* TIME DATA ELEMENTS */
SPACECRAFT_CLOCK_START_COUNT = "1/0464677354.09049"
SPACECRAFT_CLOCK_STOP_COUNT = "1/0464677611.16538"
START_TIME = 2018-01-22T05:03:18.007Z
STOP_TIME = 2018-01-22T05:06:25.018Z
/* ORBITAL DATA ELEMENTS */
ASCENDING_NODE_LONGITUDE = 240.05
MAXIMUM_RESOLUTION = 0.0145
FOOTPRINT_POINT_LATITUDE = (33.6069,33.6042,33.6007,33.5925, 33.5923,33.5921,33.3089,33.0255,32.7573 ,32.282,31.9253,31.4495,30.9734,30.497, 30.0204,29.782,29.5436,29.3052,29.0667, 28.8281,28.5895,28.3509,28.1123,27.8736 ,27.6349,27.3963,27.1575,26.9188, 26.6801,26.322,26.0832,25.7251,25.4863, 25.2476,25.0089,24.6508,24.2928,24.0542 ,23.6963,23.4577,23.0999,22.8614, 22.6229,22.3845,22.1462,21.6697,21.5506 ,21.5349,21.5356,21.5351,21.5334, 21.5333,21.5335,21.7719,22.0105,22.249, 22.4876,22.7263,22.965,23.2039,23.4427, 23.6815,23.9204,24.1594,24.3983,24.6372 ,24.8762,25.1153,25.3542,25.5933, 25.8323,26.0714,26.4298,26.6688,26.9079 ,27.147,27.3861,27.6251,27.8641,28.1031 ,28.3421,28.7005,28.9395,29.1784, 29.4172,29.6559,29.8947,30.1334,30.372, 30.6106,30.8492,31.0877,31.3262,31.8028 ,32.2792,32.7553,33.1629,33.4468, 33.5886,33.6069)
FOOTPRINT_POINT_LONGITUDE = (299.921,299.42,299.025,298.403,298.387 ,298.364,298.373,298.381,298.388, 298.401,298.41,298.419,298.429,298.44, 298.449,298.453,298.458,298.462,298.466 ,298.47,298.474,298.478,298.481,298.484 ,298.487,298.49,298.493,298.495,298.498 ,298.502,298.504,298.508,298.51,298.512 ,298.512,298.516,298.518,298.52,298.52, 298.522,298.525,298.527,298.529,298.529 ,298.529,298.53,298.53,298.529,299.002, 299.407,299.88,299.894,299.901,299.901, 299.902,299.902,299.903,299.904,299.905 ,299.908,299.909,299.91,299.912,299.913 ,299.915,299.914,299.915,299.917, 299.916,299.918,299.917,299.918,299.915 ,299.915,299.917,299.919,299.922, 299.922,299.922,299.923,299.924,299.926 ,299.929,299.929,299.929,299.929,299.93 ,299.93,299.931,299.932,299.932,299.933 ,299.934,299.932,299.933,299.934, 299.936,299.937,299.937,299.921)
ORBIT_NUMBER = 17794
ORBITAL_ECCENTRICITY = 0.575
ORBITAL_INCLINATION = 86.96
ORBITAL_SEMIMAJOR_AXIS = 8831.73
PERIAPSIS_ALTITUDE = 360.32
PERIAPSIS_ARGUMENT_ANGLE = 153.54
PERIAPSIS_TIME = 2018-01-22T05:05:09.000Z
SPACECRAFT_ORIENTATION = (0.0,-1.0,0.0)
^MEX_ORIENTATION_DESC = "MEX_ORIENTATION_DESC.TXT"
SPACECRAFT_POINTING_MODE = NADIR
^MEX_POINTING_DESC = "MEX_POINTING_DESC.TXT"
RIGHT_ASCENSION = -1e+32
DECLINATION = -1e+32
OFFSET_ANGLE = -1e+32
SPACECRAFT_SOLAR_DISTANCE = 2.41199e+08
TARGET_NAME = MARS
/* CAMERA DATA ELEMENTS */
DETECTOR_TEMPERATURE = 18.5744
FOCAL_PLANE_TEMPERATURE = 8.5833
INST_CMPRS_NAME = "DISCRETE COSINE TRANSFORMATION (DCT)"
INST_CMPRS_RATIO = 5.36872
INST_CMPRS_QUALITY = 0
INST_CMPRS_QUANTZ_TBL_ID = 0
INSTRUMENT_TEMPERATURE = 10.6223
LENS_TEMPERATURE = 9.195
MACROPIXEL_SIZE = 1
MISSING_FRAMES = 0
PIXEL_SUBSAMPLING_FLAG = N
SIGNAL_CHAIN_ID = 0
/* RADIOMETRIC DATA ELEMENTS */
BANDWIDTH = 177.0
CENTER_FILTER_WAVELENGTH = 677.5
RADIANCE_OFFSET = 1.01278
RADIANCE_SCALING_FACTOR = 0.0224004
REFLECTANCE_SCALING_FACTOR = 0.000692293
MEX:REFLECTANCE_OFFSET = 0.0313005
/* IMAGE OBJECT DEFINITIONS */
OBJECT = IMAGE
  INTERCHANGE_FORMAT = BINARY
  LINES = 57252
  LINE_SAMPLES = 6484
  SAMPLE_TYPE = UNSIGNED_INTEGER
  SAMPLE_BITS = 8
  BANDS = 1
  BAND_STORAGE_TYPE = BAND_SEQUENTIAL
  MAXIMUM = 255
  MEAN = 73.0034
  MINIMUM = 1
  STANDARD_DEVIATION = 23.8863
END_OBJECT = IMAGE
/* MAP OBJECT DEFINITIONS */
OBJECT = IMAGE_MAP_PROJECTION
  ^DATA_SET_MAP_PROJECTION_CATALOG= "DSMAP.CAT"
  A_AXIS_RADIUS = 3396.0
  B_AXIS_RADIUS = 3396.0
  C_AXIS_RADIUS = 3396.0
  CENTER_LATITUDE = 0.0
  CENTER_LONGITUDE = 299.0
  COORDINATE_SYSTEM_NAME = PLANETOGRAPHIC
  COORDINATE_SYSTEM_TYPE = "BODY-FIXED ROTATING"
  EASTERNMOST_LONGITUDE = 299.937
  FIRST_STANDARD_PARALLEL = "N/A"
  LINE_FIRST_PIXEL = 1
  LINE_LAST_PIXEL = 57252
  LINE_PROJECTION_OFFSET = 159356.0
  MAP_PROJECTION_ROTATION = 0.0
  MAP_PROJECTION_TYPE = SINUSOIDAL
  MAP_RESOLUTION = 4741.71043093333
  MAP_SCALE = 0.0125
  MAXIMUM_LATITUDE = 33.6069
  MINIMUM_LATITUDE = 21.5333
  POSITIVE_LONGITUDE_DIRECTION = EAST
  REFERENCE_LATITUDE = "N/A"
  REFERENCE_LONGITUDE = "N/A"
  SAMPLE_FIRST_PIXEL = 1
  SAMPLE_LAST_PIXEL = 6484
  SAMPLE_PROJECTION_OFFSET = 2510.0
  SECOND_STANDARD_PARALLEL = "N/A"
  WESTERNMOST_LONGITUDE = 298.364
END_OBJECT = IMAGE_MAP_PROJECTION
END
