PDS_VERSION_ID = PDS3
/* FILE DATA ELEMENTS */
RECORD_TYPE = UNDEFINED
/* POINTERS TO DATA OBJECTS */
^IMAGE = ("HH796_0000_IR4.TIF")
/* IDENTIFICATION DATA ELEMENTS */
DATA_SET_ID = "MEX-M-HRSC-4-REFDR-MAPPROJECT-EXT6-V4.0"
DATA_SET_NAME = "MARS EXPRESS HRSC MAP PROJECTED REFDR EXTENSION6 V4.0"
DETECTOR_ID = MEX_HRSC_IR
EVENT_TYPE = "MARS-REGIONAL-MAPPING-Im-Pf-Eo"
INSTRUMENT_HOST_ID = MEX
INSTRUMENT_HOST_NAME = "MARS EXPRESS"
INSTRUMENT_ID = HRSC
INSTRUMENT_NAME = "HIGH RESOLUTION STEREO CAMERA"
MISSION_NAME = "MARS EXPRESS"
MISSION_PHASE_NAME = ME_Phase_38
PROCESSING_LEVEL_ID = 4
PRODUCT_CREATION_TIME = 2023-01-28T19:29:54.000Z
PRODUCT_ID = "HH796_0000_IR4.TIF"
RELEASE_ID = 0003
REVISION_ID = 0000
/* QUALITY DATA ELEMENTS */
DATA_QUALITY_ID = 1
DATA_QUALITY_DESC = "Data calculated based on original SPICE kernels"
/* TIME DATA ELEMENTS */
SPACECRAFT_CLOCK_START_COUNT = "1/0464727686.09080"
SPACECRAFT_CLOCK_STOP_COUNT = "1/0464727900.08003"
START_TIME = 2018-01-22T19:01:40.875Z
STOP_TIME = 2018-01-22T19:04:06.892Z
/* ORBITAL DATA ELEMENTS */
ASCENDING_NODE_LONGITUDE = 240.01
MAXIMUM_RESOLUTION = 0.0606
FOOTPRINT_POINT_LATITUDE = (31.4415,31.4445,31.4462,31.4473, 31.4478,31.4478,31.4468,31.4467,31.4003 ,31.032,30.4775,30.1075,29.7368,29.3657 ,28.9944,28.8085,28.5294,28.3433,28.157 ,27.9706,27.7842,27.5047,27.318,27.1311 ,26.9441,26.7571,26.57,26.3829,26.1956, 26.0083,25.8208,25.6333,25.4457,25.1642 ,24.9766,24.6949,24.507,24.3193,24.1314 ,23.9433,23.6607,23.4723,23.2839, 23.0954,22.9068,22.6238,22.4353,22.152, 22.0575,22.0249,22.0236,22.0201,22.0171 ,22.0125,22.0084,22.0081,22.0089, 22.1982,22.3872,22.5762,22.765,23.0477, 23.2362,23.4246,23.6131,23.8958,24.0842 ,24.3666,24.5551,24.7433,24.9311, 25.2128,25.4007,25.5886,25.7762,26.0576 ,26.2452,26.4329,26.7142,26.9011, 27.0881,27.2751,27.462,27.6488,27.8355, 28.0222,28.2088,28.3952,28.5815,28.7678 ,28.954,29.233,29.4189,29.6973,30.1614, 30.6241,30.9941,31.271,31.3635,31.4415)
FOOTPRINT_POINT_LONGITUDE = (95.9031,95.6079,95.3838,95.1601, 94.9373,94.715,94.4238,94.41,94.3951, 94.4029,94.4137,94.4205,94.4268,94.4329 ,94.4387,94.4414,94.4454,94.4479, 94.4503,94.4527,94.455,94.4583,94.4604, 94.4624,94.4643,94.4661,94.4679,94.4696 ,94.4712,94.4727,94.4741,94.4755, 94.4768,94.4787,94.4798,94.4814,94.4823 ,94.4833,94.4841,94.4848,94.4857, 94.4862,94.4867,94.4871,94.4874,94.4878 ,94.488,94.488,94.488,94.488,94.7036, 95.0742,95.318,95.6141,95.8467,95.8597, 95.864,95.865,95.8661,95.8672,95.8683, 95.8703,95.8715,95.8728,95.874,95.8759, 95.8771,95.8789,95.88,95.8812,95.8826, 95.8846,95.8859,95.8871,95.8885,95.8904 ,95.8917,95.8928,95.8946,95.8961, 95.8975,95.8988,95.9002,95.9016,95.903, 95.9043,95.9056,95.9071,95.9085,95.9098 ,95.9111,95.9133,95.9146,95.9169, 95.9203,95.9241,95.9269,95.9292,95.9299 ,95.9031)
ORBIT_NUMBER = 17796
ORBITAL_ECCENTRICITY = 0.575
ORBITAL_INCLINATION = 86.96
ORBITAL_SEMIMAJOR_AXIS = 8836.41
PERIAPSIS_ALTITUDE = 359.85
PERIAPSIS_ARGUMENT_ANGLE = 153.16
PERIAPSIS_TIME = 2018-01-22T19:03:20.000Z
SPACECRAFT_ORIENTATION = (0.0,-1.0,0.0)
^MEX_ORIENTATION_DESC = "MEX_ORIENTATION_DESC.TXT"
SPACECRAFT_POINTING_MODE = ACROSSTRACK
^MEX_POINTING_DESC = "MEX_POINTING_DESC.TXT"
RIGHT_ASCENSION = -1e+32
DECLINATION = -1e+32
OFFSET_ANGLE = 0.229
SPACECRAFT_SOLAR_DISTANCE = 2.41115e+08
TARGET_NAME = MARS
/* CAMERA DATA ELEMENTS */
DETECTOR_TEMPERATURE = 16.7393
FOCAL_PLANE_TEMPERATURE = 8.3794
INST_CMPRS_NAME = "DISCRETE COSINE TRANSFORMATION (DCT)"
INST_CMPRS_RATIO = 9.67115
INST_CMPRS_QUALITY = 0
INST_CMPRS_QUANTZ_TBL_ID = 0
INSTRUMENT_TEMPERATURE = 11.4379
LENS_TEMPERATURE = 8.7872
MACROPIXEL_SIZE = 4
MISSING_FRAMES = 0
PIXEL_SUBSAMPLING_FLAG = N
SIGNAL_CHAIN_ID = 2
/* RADIOMETRIC DATA ELEMENTS */
BANDWIDTH = 81.0
CENTER_FILTER_WAVELENGTH = 955.5
RADIANCE_OFFSET = 0.41154
RADIANCE_SCALING_FACTOR = 0.00405916
REFLECTANCE_SCALING_FACTOR = 0.000509109
MEX:REFLECTANCE_OFFSET = 0.0516163
/* IMAGE OBJECT DEFINITIONS */
OBJECT = IMAGE
  INTERCHANGE_FORMAT = BINARY
  LINES = 11111
  LINE_SAMPLES = 1559
  SAMPLE_TYPE = UNSIGNED_INTEGER
  SAMPLE_BITS = 8
  BANDS = 1
  BAND_STORAGE_TYPE = BAND_SEQUENTIAL
  MAXIMUM = 255
  MEAN = 108.672
  MINIMUM = 1
  STANDARD_DEVIATION = 38.8809
END_OBJECT = IMAGE
/* MAP OBJECT DEFINITIONS */
OBJECT = IMAGE_MAP_PROJECTION
  ^DATA_SET_MAP_PROJECTION_CATALOG= "DSMAP.CAT"
  A_AXIS_RADIUS = 3396.0
  B_AXIS_RADIUS = 3396.0
  C_AXIS_RADIUS = 3396.0
  CENTER_LATITUDE = 0.0
  CENTER_LONGITUDE = 95.0
  COORDINATE_SYSTEM_NAME = PLANETOGRAPHIC
  COORDINATE_SYSTEM_TYPE = "BODY-FIXED ROTATING"
  EASTERNMOST_LONGITUDE = 95.9299
  FIRST_STANDARD_PARALLEL = "N/A"
  LINE_FIRST_PIXEL = 1
  LINE_LAST_PIXEL = 11111
  LINE_PROJECTION_OFFSET = 37239.875
  MAP_PROJECTION_ROTATION = 0.0
  MAP_PROJECTION_TYPE = SINUSOIDAL
  MAP_RESOLUTION = 1185.42760773333
  MAP_SCALE = 0.05
  MAXIMUM_LATITUDE = 31.4478
  MINIMUM_LATITUDE = 22.0081
  POSITIVE_LONGITUDE_DIRECTION = EAST
  REFERENCE_LATITUDE = "N/A"
  REFERENCE_LONGITUDE = "N/A"
  SAMPLE_FIRST_PIXEL = 1
  SAMPLE_LAST_PIXEL = 1559
  SAMPLE_PROJECTION_OFFSET = 608.875
  SECOND_STANDARD_PARALLEL = "N/A"
  WESTERNMOST_LONGITUDE = 94.3951
END_OBJECT = IMAGE_MAP_PROJECTION
END
