PDS_VERSION_ID = PDS3
/* FILE DATA ELEMENTS */
RECORD_TYPE = UNDEFINED
/* POINTERS TO DATA OBJECTS */
^IMAGE = ("HH796_0000_ND4.TIF")
/* IDENTIFICATION DATA ELEMENTS */
DATA_SET_ID = "MEX-M-HRSC-4-REFDR-MAPPROJECT-EXT6-V4.0"
DATA_SET_NAME = "MARS EXPRESS HRSC MAP PROJECTED REFDR EXTENSION6 V4.0"
DETECTOR_ID = MEX_HRSC_NADIR
EVENT_TYPE = "MARS-REGIONAL-MAPPING-Im-Pf-Eo"
INSTRUMENT_HOST_ID = MEX
INSTRUMENT_HOST_NAME = "MARS EXPRESS"
INSTRUMENT_ID = HRSC
INSTRUMENT_NAME = "HIGH RESOLUTION STEREO CAMERA"
MISSION_NAME = "MARS EXPRESS"
MISSION_PHASE_NAME = ME_Phase_38
PROCESSING_LEVEL_ID = 4
PRODUCT_CREATION_TIME = 2023-01-28T19:29:54.000Z
PRODUCT_ID = "HH796_0000_ND4.TIF"
RELEASE_ID = 0003
REVISION_ID = 0000
/* QUALITY DATA ELEMENTS */
DATA_QUALITY_ID = 1
DATA_QUALITY_DESC = "Data calculated based on original SPICE kernels"
/* TIME DATA ELEMENTS */
SPACECRAFT_CLOCK_START_COUNT = "1/0464727686.09080"
SPACECRAFT_CLOCK_STOP_COUNT = "1/0464727900.08003"
START_TIME = 2018-01-22T19:02:08.763Z
STOP_TIME = 2018-01-22T19:04:33.759Z
/* ORBITAL DATA ELEMENTS */
ASCENDING_NODE_LONGITUDE = 240.01
MAXIMUM_RESOLUTION = 0.0145
FOOTPRINT_POINT_LATITUDE = (31.4147,31.4146,31.4137,31.4125, 31.4095,31.4067,31.4066,31.4066,31.0331 ,30.6595,30.2858,29.912,29.538,29.164, 28.9769,28.7899,28.6028,28.4157,28.2286 ,28.0414,27.8543,27.5735,27.3864, 27.1992,27.012,26.7313,26.5441,26.2633, 26.0761,25.889,25.7018,25.5146,25.3275, 25.1403,24.9532,24.7661,24.579,24.3919, 24.0178,23.6437,23.2698,22.896,22.5223, 22.1487,22.0553,22.0455,22.0458,22.0452 ,22.044,22.0427,22.0426,22.0428,22.4167 ,22.7908,22.9779,23.165,23.3521,23.5393 ,23.7265,23.9137,24.101,24.2882,24.4755 ,24.6628,24.8501,25.0375,25.2248, 25.4122,25.5995,25.7869,25.9743,26.2554 ,26.4428,26.6302,26.8176,27.005,27.1924 ,27.3798,27.5672,27.7546,27.942,28.1293 ,28.3167,28.504,28.6914,28.8787,29.066, 29.2533,29.4405,29.6278,29.815,30.0022, 30.1894,30.3765,30.5636,30.7507,30.9378 ,31.3118,31.4053,31.4147)
FOOTPRINT_POINT_LONGITUDE = (95.8877,95.6674,95.3456,95.1124, 94.7061,94.431,94.4165,94.3976,94.4049, 94.4117,94.4181,94.4242,94.4299,94.4353 ,94.4379,94.4403,94.4427,94.4451, 94.4473,94.4494,94.4514,94.4545,94.4563 ,94.4581,94.4598,94.4622,94.4636, 94.4658,94.467,94.4683,94.4694,94.4705, 94.4715,94.4724,94.4733,94.4741,94.4749 ,94.4756,94.4767,94.4774,94.4779, 94.4781,94.4781,94.4777,94.4776,94.4776 ,94.8576,95.2802,95.6092,95.8431, 95.8569,95.8636,95.8651,95.8669,95.8678 ,95.8688,95.8697,95.8708,95.8717, 95.8727,95.8736,95.8747,95.8755,95.8764 ,95.8775,95.8785,95.8795,95.8805, 95.8815,95.8825,95.8835,95.885,95.8858, 95.8867,95.8879,95.889,95.89,95.8911, 95.8922,95.8932,95.8943,95.8953,95.8964 ,95.8975,95.8985,95.8995,95.9007, 95.9017,95.9029,95.904,95.905,95.9059, 95.9072,95.9084,95.9096,95.9106,95.9116 ,95.9139,95.9144,95.8877)
ORBIT_NUMBER = 17796
ORBITAL_ECCENTRICITY = 0.575
ORBITAL_INCLINATION = 86.96
ORBITAL_SEMIMAJOR_AXIS = 8836.41
PERIAPSIS_ALTITUDE = 359.85
PERIAPSIS_ARGUMENT_ANGLE = 153.16
PERIAPSIS_TIME = 2018-01-22T19:03:20.000Z
SPACECRAFT_ORIENTATION = (0.0,-1.0,0.0)
^MEX_ORIENTATION_DESC = "MEX_ORIENTATION_DESC.TXT"
SPACECRAFT_POINTING_MODE = ACROSSTRACK
^MEX_POINTING_DESC = "MEX_POINTING_DESC.TXT"
RIGHT_ASCENSION = -1e+32
DECLINATION = -1e+32
OFFSET_ANGLE = 0.229
SPACECRAFT_SOLAR_DISTANCE = 2.41115e+08
TARGET_NAME = MARS
/* CAMERA DATA ELEMENTS */
DETECTOR_TEMPERATURE = 17.9627
FOCAL_PLANE_TEMPERATURE = 8.3794
INST_CMPRS_NAME = "DISCRETE COSINE TRANSFORMATION (DCT)"
INST_CMPRS_RATIO = 6.37047
INST_CMPRS_QUALITY = 0
INST_CMPRS_QUANTZ_TBL_ID = 0
INSTRUMENT_TEMPERATURE = 11.4379
LENS_TEMPERATURE = 8.7872
MACROPIXEL_SIZE = 1
MISSING_FRAMES = 0
PIXEL_SUBSAMPLING_FLAG = N
SIGNAL_CHAIN_ID = 0
/* RADIOMETRIC DATA ELEMENTS */
BANDWIDTH = 177.0
CENTER_FILTER_WAVELENGTH = 677.5
RADIANCE_OFFSET = 1.49889
RADIANCE_SCALING_FACTOR = 0.014221
REFLECTANCE_SCALING_FACTOR = 0.0004392
MEX:REFLECTANCE_OFFSET = 0.0462917
/* IMAGE OBJECT DEFINITIONS */
OBJECT = IMAGE
  INTERCHANGE_FORMAT = BINARY
  LINES = 44442
  LINE_SAMPLES = 6234
  SAMPLE_TYPE = UNSIGNED_INTEGER
  SAMPLE_BITS = 8
  BANDS = 1
  BAND_STORAGE_TYPE = BAND_SEQUENTIAL
  MAXIMUM = 255
  MEAN = 110.904
  MINIMUM = 1
  STANDARD_DEVIATION = 28.9814
END_OBJECT = IMAGE
/* MAP OBJECT DEFINITIONS */
OBJECT = IMAGE_MAP_PROJECTION
  ^DATA_SET_MAP_PROJECTION_CATALOG= "DSMAP.CAT"
  A_AXIS_RADIUS = 3396.0
  B_AXIS_RADIUS = 3396.0
  C_AXIS_RADIUS = 3396.0
  CENTER_LATITUDE = 0.0
  CENTER_LONGITUDE = 95.0
  COORDINATE_SYSTEM_NAME = PLANETOGRAPHIC
  COORDINATE_SYSTEM_TYPE = "BODY-FIXED ROTATING"
  EASTERNMOST_LONGITUDE = 95.9144
  FIRST_STANDARD_PARALLEL = "N/A"
  LINE_FIRST_PIXEL = 1
  LINE_LAST_PIXEL = 44442
  LINE_PROJECTION_OFFSET = 148961.0
  MAP_PROJECTION_ROTATION = 0.0
  MAP_PROJECTION_TYPE = SINUSOIDAL
  MAP_RESOLUTION = 4741.71043093333
  MAP_SCALE = 0.0125
  MAXIMUM_LATITUDE = 31.4147
  MINIMUM_LATITUDE = 22.0426
  POSITIVE_LONGITUDE_DIRECTION = EAST
  REFERENCE_LATITUDE = "N/A"
  REFERENCE_LONGITUDE = "N/A"
  SAMPLE_FIRST_PIXEL = 1
  SAMPLE_LAST_PIXEL = 6234
  SAMPLE_PROJECTION_OFFSET = 2437.0
  SECOND_STANDARD_PARALLEL = "N/A"
  WESTERNMOST_LONGITUDE = 94.3976
END_OBJECT = IMAGE_MAP_PROJECTION
END
