PDS_VERSION_ID = PDS3
/* FILE DATA ELEMENTS */
RECORD_TYPE = UNDEFINED
/* POINTERS TO DATA OBJECTS */
^IMAGE = ("HH796_0000_RE4.TIF")
/* IDENTIFICATION DATA ELEMENTS */
DATA_SET_ID = "MEX-M-HRSC-4-REFDR-MAPPROJECT-EXT6-V4.0"
DATA_SET_NAME = "MARS EXPRESS HRSC MAP PROJECTED REFDR EXTENSION6 V4.0"
DETECTOR_ID = MEX_HRSC_RED
EVENT_TYPE = "MARS-REGIONAL-MAPPING-Im-Pf-Eo"
INSTRUMENT_HOST_ID = MEX
INSTRUMENT_HOST_NAME = "MARS EXPRESS"
INSTRUMENT_ID = HRSC
INSTRUMENT_NAME = "HIGH RESOLUTION STEREO CAMERA"
MISSION_NAME = "MARS EXPRESS"
MISSION_PHASE_NAME = ME_Phase_38
PROCESSING_LEVEL_ID = 4
PRODUCT_CREATION_TIME = 2023-01-28T19:29:54.000Z
PRODUCT_ID = "HH796_0000_RE4.TIF"
RELEASE_ID = 0003
REVISION_ID = 0000
/* QUALITY DATA ELEMENTS */
DATA_QUALITY_ID = 1
DATA_QUALITY_DESC = "Data calculated based on original SPICE kernels"
/* TIME DATA ELEMENTS */
SPACECRAFT_CLOCK_START_COUNT = "1/0464727686.09080"
SPACECRAFT_CLOCK_STOP_COUNT = "1/0464727900.08003"
START_TIME = 2018-01-22T19:02:36.218Z
STOP_TIME = 2018-01-22T19:05:01.389Z
/* ORBITAL DATA ELEMENTS */
ASCENDING_NODE_LONGITUDE = 240.01
MAXIMUM_RESOLUTION = 0.0608
FOOTPRINT_POINT_LATITUDE = (31.378,31.375,31.3721,31.3691,31.3659, 31.3626,31.3572,31.357,31.4017,31.1202, 30.9327,30.7454,30.5582,30.371,30.1837, 29.9965,29.8094,29.6225,29.342,29.0616, 28.7814,28.5948,28.4082,28.2216,28.0352 ,27.7556,27.5691,27.3828,27.1967, 27.0108,26.825,26.6392,26.3604,26.1749, 25.9893,25.804,25.6185,25.3406,25.063, 24.8779,24.693,24.5079,24.323,24.1383, 23.7696,23.4013,23.0336,22.6662,22.2077 ,22.1161,22.0538,22.0568,22.0587, 22.0608,22.0641,22.0642,22.065,22.4318, 22.7994,23.0757,23.4444,23.7209,23.9054 ,24.0901,24.2749,24.4595,24.6445, 24.8298,25.015,25.2929,25.5712,25.7568, 25.9424,26.1281,26.3138,26.5924,26.7785 ,26.9648,27.151,27.3375,27.6172,27.8037 ,27.9902,28.177,28.4572,28.644,28.8308, 29.0179,29.2986,29.4859,29.6731,29.9538 ,30.1416,30.3291,30.5166,30.798,31.0797 ,31.2674,31.3611,31.378)
FOOTPRINT_POINT_LONGITUDE = (95.8858,95.6374,95.4175,95.1982, 94.9796,94.7617,94.4352,94.4216,94.4056 ,94.4106,94.4138,94.4169,94.4199, 94.4228,94.4256,94.4284,94.431,94.4336, 94.4372,94.4408,94.4441,94.4462,94.4482 ,94.4501,94.4519,94.4546,94.4563, 94.4578,94.4593,94.4607,94.462,94.4632, 94.465,94.466,94.467,94.4679,94.4688, 94.4699,94.4708,94.4714,94.4719,94.4724 ,94.4728,94.4731,94.4734,94.4734, 94.4731,94.4726,94.4716,94.4714,94.4712 ,94.8346,95.0824,95.3835,95.8575, 95.8707,95.8751,95.8761,95.8773,95.8784 ,95.8799,95.8808,95.8815,95.8822, 95.8829,95.8835,95.8841,95.885,95.8857, 95.8868,95.888,95.8887,95.8894,95.8901, 95.8908,95.8917,95.8925,95.8934,95.8942 ,95.895,95.8962,95.897,95.8978,95.8986, 95.8998,95.9006,95.9013,95.9022,95.9035 ,95.9043,95.9051,95.9062,95.9072, 95.9081,95.9089,95.9102,95.9115,95.9124 ,95.9126,95.8858)
ORBIT_NUMBER = 17796
ORBITAL_ECCENTRICITY = 0.575
ORBITAL_INCLINATION = 86.96
ORBITAL_SEMIMAJOR_AXIS = 8836.41
PERIAPSIS_ALTITUDE = 359.85
PERIAPSIS_ARGUMENT_ANGLE = 153.16
PERIAPSIS_TIME = 2018-01-22T19:03:20.000Z
SPACECRAFT_ORIENTATION = (0.0,-1.0,0.0)
^MEX_ORIENTATION_DESC = "MEX_ORIENTATION_DESC.TXT"
SPACECRAFT_POINTING_MODE = ACROSSTRACK
^MEX_POINTING_DESC = "MEX_POINTING_DESC.TXT"
RIGHT_ASCENSION = -1e+32
DECLINATION = -1e+32
OFFSET_ANGLE = 0.229
SPACECRAFT_SOLAR_DISTANCE = 2.41115e+08
TARGET_NAME = MARS
/* CAMERA DATA ELEMENTS */
DETECTOR_TEMPERATURE = 18.3705
FOCAL_PLANE_TEMPERATURE = 8.3794
INST_CMPRS_NAME = "DISCRETE COSINE TRANSFORMATION (DCT)"
INST_CMPRS_RATIO = 14.3351
INST_CMPRS_QUALITY = 0
INST_CMPRS_QUANTZ_TBL_ID = 0
INSTRUMENT_TEMPERATURE = 11.4379
LENS_TEMPERATURE = 8.7872
MACROPIXEL_SIZE = 4
MISSING_FRAMES = 0
PIXEL_SUBSAMPLING_FLAG = N
SIGNAL_CHAIN_ID = 2
/* RADIOMETRIC DATA ELEMENTS */
BANDWIDTH = 48.0
CENTER_FILTER_WAVELENGTH = 748.0
RADIANCE_OFFSET = 0.488617
RADIANCE_SCALING_FACTOR = 0.00415165
REFLECTANCE_SCALING_FACTOR = 0.000550802
MEX:REFLECTANCE_OFFSET = 0.0648252
/* IMAGE OBJECT DEFINITIONS */
OBJECT = IMAGE
  INTERCHANGE_FORMAT = BINARY
  LINES = 11111
  LINE_SAMPLES = 1559
  SAMPLE_TYPE = UNSIGNED_INTEGER
  SAMPLE_BITS = 8
  BANDS = 1
  BAND_STORAGE_TYPE = BAND_SEQUENTIAL
  MAXIMUM = 255
  MEAN = 110.605
  MINIMUM = 1
  STANDARD_DEVIATION = 31.9735
END_OBJECT = IMAGE
/* MAP OBJECT DEFINITIONS */
OBJECT = IMAGE_MAP_PROJECTION
  ^DATA_SET_MAP_PROJECTION_CATALOG= "DSMAP.CAT"
  A_AXIS_RADIUS = 3396.0
  B_AXIS_RADIUS = 3396.0
  C_AXIS_RADIUS = 3396.0
  CENTER_LATITUDE = 0.0
  CENTER_LONGITUDE = 95.0
  COORDINATE_SYSTEM_NAME = PLANETOGRAPHIC
  COORDINATE_SYSTEM_TYPE = "BODY-FIXED ROTATING"
  EASTERNMOST_LONGITUDE = 95.9126
  FIRST_STANDARD_PARALLEL = "N/A"
  LINE_FIRST_PIXEL = 1
  LINE_LAST_PIXEL = 11111
  LINE_PROJECTION_OFFSET = 37239.875
  MAP_PROJECTION_ROTATION = 0.0
  MAP_PROJECTION_TYPE = SINUSOIDAL
  MAP_RESOLUTION = 1185.42760773333
  MAP_SCALE = 0.05
  MAXIMUM_LATITUDE = 31.4017
  MINIMUM_LATITUDE = 22.0538
  POSITIVE_LONGITUDE_DIRECTION = EAST
  REFERENCE_LATITUDE = "N/A"
  REFERENCE_LONGITUDE = "N/A"
  SAMPLE_FIRST_PIXEL = 1
  SAMPLE_LAST_PIXEL = 1559
  SAMPLE_PROJECTION_OFFSET = 608.875
  SECOND_STANDARD_PARALLEL = "N/A"
  WESTERNMOST_LONGITUDE = 94.40560000000001
END_OBJECT = IMAGE_MAP_PROJECTION
END
