PDS_VERSION_ID = PDS3
/* FILE DATA ELEMENTS */
RECORD_TYPE = UNDEFINED
/* POINTERS TO DATA OBJECTS */
^IMAGE = ("HH797_0000_S14.TIF")
/* IDENTIFICATION DATA ELEMENTS */
DATA_SET_ID = "MEX-M-HRSC-4-REFDR-MAPPROJECT-EXT6-V4.0"
DATA_SET_NAME = "MARS EXPRESS HRSC MAP PROJECTED REFDR EXTENSION6 V4.0"
DETECTOR_ID = MEX_HRSC_S1
EVENT_TYPE = "MARS-LOCAL-STEREO-Fl-La-Tc"
INSTRUMENT_HOST_ID = MEX
INSTRUMENT_HOST_NAME = "MARS EXPRESS"
INSTRUMENT_ID = HRSC
INSTRUMENT_NAME = "HIGH RESOLUTION STEREO CAMERA"
MISSION_NAME = "MARS EXPRESS"
MISSION_PHASE_NAME = ME_Phase_38
PROCESSING_LEVEL_ID = 4
PRODUCT_CREATION_TIME = 2023-01-28T19:29:54.000Z
PRODUCT_ID = "HH797_0000_S14.TIF"
RELEASE_ID = 0003
REVISION_ID = 0000
/* QUALITY DATA ELEMENTS */
DATA_QUALITY_ID = 1
DATA_QUALITY_DESC = "Data calculated based on original SPICE kernels"
/* TIME DATA ELEMENTS */
SPACECRAFT_CLOCK_START_COUNT = "1/0464753189.07325"
SPACECRAFT_CLOCK_STOP_COUNT = "1/0464753379.64432"
START_TIME = 2018-01-23T02:06:38.248Z
STOP_TIME = 2018-01-23T02:08:12.783Z
/* ORBITAL DATA ELEMENTS */
ASCENDING_NODE_LONGITUDE = 240.0
MAXIMUM_RESOLUTION = 0.0353
FOOTPRINT_POINT_LATITUDE = (8.41838,8.42132,8.42625,8.43019, 8.43366,8.43669,8.43866,8.44068,8.44081 ,8.42252,8.19176,7.89611,7.54158, 7.30672,7.06598,6.83267,6.59414,6.47211 ,6.35015,6.22899,6.04719,5.86518, 5.74383,5.62249,5.50155,5.38059,5.19541 ,5.07123,4.8851,4.69883,4.5746,4.45082, 4.32687,4.20351,4.07996,3.89059,3.70023 ,3.57326,3.44642,3.31985,3.19374, 3.06682,2.94053,2.8129,2.68217,2.55221, 2.35651,2.29168,2.28357,2.27779,2.27566 ,2.27311,2.27203,2.27226,2.26831, 2.26629,2.26299,2.25853,2.25546,2.2551, 2.25554,2.38558,2.51526,2.64458,2.77439 ,2.90282,3.03097,3.22156,3.34891, 3.47636,3.6023,3.72837,3.85532,4.04575, 4.16977,4.35617,4.48102,4.66729,4.79166 ,4.91571,5.1024,5.22699,5.35065,5.47197 ,5.59344,5.83565,5.95724,6.13903, 6.26012,6.44172,6.56315,6.80247,6.97941 ,7.21607,7.45298,7.80685,8.04535, 8.33737,8.39464,8.41838)
FOOTPRINT_POINT_LONGITUDE = (353.517,353.375,353.119,352.892, 352.666,352.439,352.27,352.072,352.058, 352.048,352.043,352.037,352.03,352.025, 352.018,352.014,352.008,352.005,352.002 ,351.999,351.995,351.991,351.988, 351.985,351.982,351.979,351.974,351.971 ,351.966,351.961,351.958,351.955, 351.951,351.948,351.945,351.94,351.935, 351.932,351.928,351.925,351.921,351.918 ,351.914,351.911,351.907,351.903, 351.897,351.895,351.895,352.035,352.177 ,352.35,352.57,352.712,352.885,353.012, 353.169,353.375,353.501,353.517,353.523 ,353.522,353.522,353.522,353.522, 353.522,353.521,353.521,353.521,353.52, 353.521,353.521,353.521,353.521,353.521 ,353.521,353.52,353.52,353.52,353.52, 353.52,353.52,353.52,353.52,353.52, 353.52,353.52,353.52,353.52,353.52, 353.52,353.521,353.521,353.521,353.521, 353.522,353.522,353.522,353.522, 353.517)
ORBIT_NUMBER = 17797
ORBITAL_ECCENTRICITY = 0.575
ORBITAL_INCLINATION = 86.95
ORBITAL_SEMIMAJOR_AXIS = 8828.4
PERIAPSIS_ALTITUDE = 360.89
PERIAPSIS_ARGUMENT_ANGLE = 152.98
PERIAPSIS_TIME = 2018-01-23T02:02:26.000Z
SPACECRAFT_ORIENTATION = (0.0,-1.0,0.0)
^MEX_ORIENTATION_DESC = "MEX_ORIENTATION_DESC.TXT"
SPACECRAFT_POINTING_MODE = ACROSSTRACK
^MEX_POINTING_DESC = "MEX_POINTING_DESC.TXT"
RIGHT_ASCENSION = -1e+32
DECLINATION = -1e+32
OFFSET_ANGLE = 0.1
SPACECRAFT_SOLAR_DISTANCE = 2.41073e+08
TARGET_NAME = MARS
/* CAMERA DATA ELEMENTS */
DETECTOR_TEMPERATURE = 18.1666
FOCAL_PLANE_TEMPERATURE = 8.5833
INST_CMPRS_NAME = "DISCRETE COSINE TRANSFORMATION (DCT)"
INST_CMPRS_RATIO = 7.04439
INST_CMPRS_QUALITY = 0
INST_CMPRS_QUANTZ_TBL_ID = 0
INSTRUMENT_TEMPERATURE = 12.0496
LENS_TEMPERATURE = 8.9911
MACROPIXEL_SIZE = 2
MISSING_FRAMES = 0
PIXEL_SUBSAMPLING_FLAG = N
SIGNAL_CHAIN_ID = 1
/* RADIOMETRIC DATA ELEMENTS */
BANDWIDTH = 180.0
CENTER_FILTER_WAVELENGTH = 677.0
RADIANCE_OFFSET = 1.56523
RADIANCE_SCALING_FACTOR = 0.0147316
REFLECTANCE_SCALING_FACTOR = 0.000446671
MEX:REFLECTANCE_OFFSET = 0.0474588
/* IMAGE OBJECT DEFINITIONS */
OBJECT = IMAGE
  INTERCHANGE_FORMAT = BINARY
  LINES = 14587
  LINE_SAMPLES = 4056
  SAMPLE_TYPE = UNSIGNED_INTEGER
  SAMPLE_BITS = 8
  BANDS = 1
  BAND_STORAGE_TYPE = BAND_SEQUENTIAL
  MAXIMUM = 255
  MEAN = 99.3556
  MINIMUM = 1
  STANDARD_DEVIATION = 23.4773
END_OBJECT = IMAGE
/* MAP OBJECT DEFINITIONS */
OBJECT = IMAGE_MAP_PROJECTION
  ^DATA_SET_MAP_PROJECTION_CATALOG= "DSMAP.CAT"
  A_AXIS_RADIUS = 3396.0
  B_AXIS_RADIUS = 3396.0
  C_AXIS_RADIUS = 3396.0
  CENTER_LATITUDE = 0.0
  CENTER_LONGITUDE = 353.0
  COORDINATE_SYSTEM_NAME = PLANETOGRAPHIC
  COORDINATE_SYSTEM_TYPE = "BODY-FIXED ROTATING"
  EASTERNMOST_LONGITUDE = 353.523
  FIRST_STANDARD_PARALLEL = "N/A"
  LINE_FIRST_PIXEL = 1
  LINE_LAST_PIXEL = 14587
  LINE_PROJECTION_OFFSET = 20036.25
  MAP_PROJECTION_ROTATION = 0.0
  MAP_PROJECTION_TYPE = SINUSOIDAL
  MAP_RESOLUTION = 2370.85521546667
  MAP_SCALE = 0.025
  MAXIMUM_LATITUDE = 8.440810000000001
  MINIMUM_LATITUDE = 2.2551
  POSITIVE_LONGITUDE_DIRECTION = EAST
  REFERENCE_LATITUDE = "N/A"
  REFERENCE_LONGITUDE = "N/A"
  SAMPLE_FIRST_PIXEL = 1
  SAMPLE_LAST_PIXEL = 4056
  SAMPLE_PROJECTION_OFFSET = 2725.75
  SECOND_STANDARD_PARALLEL = "N/A"
  WESTERNMOST_LONGITUDE = 351.895
END_OBJECT = IMAGE_MAP_PROJECTION
END
