PDS_VERSION_ID = PDS3
/* FILE DATA ELEMENTS */
RECORD_TYPE = UNDEFINED
/* POINTERS TO DATA OBJECTS */
^IMAGE = ("HH803_0009_P24.TIF")
/* IDENTIFICATION DATA ELEMENTS */
DATA_SET_ID = "MEX-M-HRSC-4-REFDR-MAPPROJECT-EXT6-V4.0"
DATA_SET_NAME = "MARS EXPRESS HRSC MAP PROJECTED REFDR EXTENSION6 V4.0"
DETECTOR_ID = MEX_HRSC_P2
EVENT_TYPE = "MARS-REGIONAL-MAPPING-Vo-Te-Im"
INSTRUMENT_HOST_ID = MEX
INSTRUMENT_HOST_NAME = "MARS EXPRESS"
INSTRUMENT_ID = HRSC
INSTRUMENT_NAME = "HIGH RESOLUTION STEREO CAMERA"
MISSION_NAME = "MARS EXPRESS"
MISSION_PHASE_NAME = ME_Phase_38
PROCESSING_LEVEL_ID = 4
PRODUCT_CREATION_TIME = 2023-01-28T19:29:54.000Z
PRODUCT_ID = "HH803_0009_P24.TIF"
RELEASE_ID = 0003
REVISION_ID = 0000
/* QUALITY DATA ELEMENTS */
DATA_QUALITY_ID = 1
DATA_QUALITY_DESC = "Data calculated based on original SPICE kernels"
/* TIME DATA ELEMENTS */
SPACECRAFT_CLOCK_START_COUNT = "1/0464904018.09089"
SPACECRAFT_CLOCK_STOP_COUNT = "1/0464904240.16810"
START_TIME = 2018-01-24T20:01:28.316Z
STOP_TIME = 2018-01-24T20:03:50.016Z
/* ORBITAL DATA ELEMENTS */
ASCENDING_NODE_LONGITUDE = 239.88
MAXIMUM_RESOLUTION = 0.0343
FOOTPRINT_POINT_LATITUDE = (13.1515,13.1467,13.1433,13.1399, 13.1366,13.1334,13.1301,13.1299,13.1433 ,12.8296,12.5097,12.1888,11.9514, 11.7091,11.5469,11.384,10.9785,10.6543, 10.4898,10.3254,10.1621,9.91607,9.75146 ,9.58698,9.42247,9.25446,9.08653,8.8348 ,8.66718,8.4998,8.33247,8.16168,7.90562 ,7.64974,7.39309,7.13378,6.87398, 6.70021,6.52619,6.35284,6.17705,6.00105 ,5.82316,5.64756,5.47657,5.29986, 5.12051,4.85068,4.75843,4.70785,4.70831 ,4.70781,4.71839,4.71593,4.71784, 4.72004,4.72343,4.72362,4.72424,4.9029, 5.17114,5.35204,5.52912,5.70544,5.88127 ,6.05751,6.23426,6.4093,6.58235,6.7556, 7.01601,7.1897,7.36185,7.53204,7.70237, 7.87277,8.12821,8.3018,8.47024,8.63724, 8.8055,8.97307,9.1396,9.30865,9.47587, 9.80274,10.0475,10.2136,10.4637,10.7121 ,11.0361,11.3591,11.5219,11.6846, 11.9281,12.3243,12.6429,13.0417,13.1215 ,13.1515)
FOOTPRINT_POINT_LONGITUDE = (101.233,100.906,100.67,100.437,100.205 ,99.9752,99.7466,99.7323,99.7276, 99.7209,99.7141,99.7071,99.7018,99.6963 ,99.6926,99.6889,99.6793,99.6716, 99.6676,99.6635,99.6593,99.6531,99.6489 ,99.6446,99.6404,99.636,99.6315,99.6248 ,99.6203,99.6157,99.6111,99.6064, 99.5992,99.592,99.5847,99.5773,99.5696, 99.5645,99.5593,99.5541,99.5488,99.5434 ,99.538,99.5325,99.5266,99.521,99.5153, 99.5067,99.504,99.5024,99.6843,99.8841, 100.188,100.422,100.762,100.967,101.226 ,101.244,101.25,101.249,101.247,101.248 ,101.248,101.248,101.247,101.246, 101.246,101.246,101.245,101.245,101.244 ,101.244,101.243,101.243,101.243, 101.242,101.241,101.243,101.243,101.243 ,101.243,101.243,101.241,101.242, 101.242,101.24,101.237,101.238,101.24, 101.243,101.244,101.243,101.244,101.244 ,101.244,101.244,101.245,101.246, 101.246,101.233)
ORBIT_NUMBER = 17803
ORBITAL_ECCENTRICITY = 0.575
ORBITAL_INCLINATION = 86.96
ORBITAL_SEMIMAJOR_AXIS = 8834.65
PERIAPSIS_ALTITUDE = 360.57
PERIAPSIS_ARGUMENT_ANGLE = 151.95
PERIAPSIS_TIME = 2018-01-24T19:57:12.000Z
SPACECRAFT_ORIENTATION = (0.0,-1.0,0.0)
^MEX_ORIENTATION_DESC = "MEX_ORIENTATION_DESC.TXT"
SPACECRAFT_POINTING_MODE = ACROSSTRACK
^MEX_POINTING_DESC = "MEX_POINTING_DESC.TXT"
RIGHT_ASCENSION = -1e+32
DECLINATION = -1e+32
OFFSET_ANGLE = 0.686
SPACECRAFT_SOLAR_DISTANCE = 2.40818e+08
TARGET_NAME = MARS
/* CAMERA DATA ELEMENTS */
DETECTOR_TEMPERATURE = 19.1861
FOCAL_PLANE_TEMPERATURE = 9.3989
INST_CMPRS_NAME = "DISCRETE COSINE TRANSFORMATION (DCT)"
INST_CMPRS_RATIO = 5.21672
INST_CMPRS_QUALITY = 0
INST_CMPRS_QUANTZ_TBL_ID = 0
INSTRUMENT_TEMPERATURE = 12.2535
LENS_TEMPERATURE = 9.8067
MACROPIXEL_SIZE = 2
MISSING_FRAMES = 0
PIXEL_SUBSAMPLING_FLAG = N
SIGNAL_CHAIN_ID = 3
/* RADIOMETRIC DATA ELEMENTS */
BANDWIDTH = 177.0
CENTER_FILTER_WAVELENGTH = 676.5
RADIANCE_OFFSET = 1.52324
RADIANCE_SCALING_FACTOR = 0.0134957
REFLECTANCE_SCALING_FACTOR = 0.00041498
MEX:REFLECTANCE_OFFSET = 0.0468384
/* IMAGE OBJECT DEFINITIONS */
OBJECT = IMAGE
  INTERCHANGE_FORMAT = BINARY
  LINES = 20058
  LINE_SAMPLES = 3956
  SAMPLE_TYPE = UNSIGNED_INTEGER
  SAMPLE_BITS = 8
  BANDS = 1
  BAND_STORAGE_TYPE = BAND_SEQUENTIAL
  MAXIMUM = 255
  MEAN = 104.632
  MINIMUM = 1
  STANDARD_DEVIATION = 28.2733
END_OBJECT = IMAGE
/* MAP OBJECT DEFINITIONS */
OBJECT = IMAGE_MAP_PROJECTION
  ^DATA_SET_MAP_PROJECTION_CATALOG= "DSMAP.CAT"
  A_AXIS_RADIUS = 3396.0
  B_AXIS_RADIUS = 3396.0
  C_AXIS_RADIUS = 3396.0
  CENTER_LATITUDE = 0.0
  CENTER_LONGITUDE = 100.0
  COORDINATE_SYSTEM_NAME = PLANETOGRAPHIC
  COORDINATE_SYSTEM_TYPE = "BODY-FIXED ROTATING"
  EASTERNMOST_LONGITUDE = 101.25
  FIRST_STANDARD_PARALLEL = "N/A"
  LINE_FIRST_PIXEL = 1
  LINE_LAST_PIXEL = 20058
  LINE_PROJECTION_OFFSET = 31172.25
  MAP_PROJECTION_ROTATION = 0.0
  MAP_PROJECTION_TYPE = SINUSOIDAL
  MAP_RESOLUTION = 2370.85521546667
  MAP_SCALE = 0.025
  MAXIMUM_LATITUDE = 13.1515
  MINIMUM_LATITUDE = 4.70781
  POSITIVE_LONGITUDE_DIRECTION = EAST
  REFERENCE_LATITUDE = "N/A"
  REFERENCE_LONGITUDE = "N/A"
  SAMPLE_FIRST_PIXEL = 1
  SAMPLE_LAST_PIXEL = 3956
  SAMPLE_PROJECTION_OFFSET = 1090.75
  SECOND_STANDARD_PARALLEL = "N/A"
  WESTERNMOST_LONGITUDE = 99.50239999999999
END_OBJECT = IMAGE_MAP_PROJECTION
END
