PDS_VERSION_ID = PDS3
/* FILE DATA ELEMENTS */
RECORD_TYPE = UNDEFINED
/* POINTERS TO DATA OBJECTS */
^IMAGE = ("HH804_0000_S24.TIF")
/* IDENTIFICATION DATA ELEMENTS */
DATA_SET_ID = "MEX-M-HRSC-4-REFDR-MAPPROJECT-EXT6-V4.0"
DATA_SET_NAME = "MARS EXPRESS HRSC MAP PROJECTED REFDR EXTENSION6 V4.0"
DETECTOR_ID = MEX_HRSC_S2
EVENT_TYPE = "MARS-REGIONAL-MAPPING-Im-Gl-Pf"
INSTRUMENT_HOST_ID = MEX
INSTRUMENT_HOST_NAME = "MARS EXPRESS"
INSTRUMENT_ID = HRSC
INSTRUMENT_NAME = "HIGH RESOLUTION STEREO CAMERA"
MISSION_NAME = "MARS EXPRESS"
MISSION_PHASE_NAME = ME_Phase_38
PROCESSING_LEVEL_ID = 4
PRODUCT_CREATION_TIME = 2023-01-28T19:29:54.000Z
PRODUCT_ID = "HH804_0000_S24.TIF"
RELEASE_ID = 0003
REVISION_ID = 0000
/* QUALITY DATA ELEMENTS */
DATA_QUALITY_ID = 1
DATA_QUALITY_DESC = "Data calculated based on original SPICE kernels"
/* TIME DATA ELEMENTS */
SPACECRAFT_CLOCK_START_COUNT = "1/0464928509.07338"
SPACECRAFT_CLOCK_STOP_COUNT = "1/0464928722.64321"
START_TIME = 2018-01-25T02:50:20.234Z
STOP_TIME = 2018-01-25T02:52:10.153Z
/* ORBITAL DATA ELEMENTS */
ASCENDING_NODE_LONGITUDE = 239.87
MAXIMUM_RESOLUTION = 0.0362
FOOTPRINT_POINT_LATITUDE = (53.5232,53.5105,53.5004,53.4921, 53.4803,53.4673,53.4595,53.4504,53.4495 ,53.5571,53.404,53.1771,53.0272,52.8776 ,52.7277,52.5778,52.4277,52.2044, 52.0575,51.9109,51.7638,51.6167,51.4694 ,51.3225,51.1762,51.0324,50.8166, 50.6723,50.5288,50.3128,50.1686,50.0255 ,49.8849,49.744,49.6032,49.392,49.2511, 49.0398,48.8987,48.7596,48.5534,48.2783 ,47.934,47.6582,47.3859,47.1171,46.8483 ,46.5119,46.4447,46.4328,46.4404, 46.4452,46.453,46.459,46.4633,46.4667, 46.4703,46.4747,46.4752,46.4759,46.813, 47.0832,47.2858,47.6946,47.9713,48.1098 ,48.3862,48.6626,48.8696,49.0105, 49.1522,49.3647,49.506,49.6474,49.789, 49.9303,50.0715,50.2878,50.5047,50.6495 ,50.7941,51.0107,51.1552,51.3003, 51.4482,51.5958,51.7435,51.9651,52.1129 ,52.2603,52.4845,52.6353,52.7863, 52.9375,53.0883,53.2389,53.3897,53.5437 ,53.6208,53.5232)
FOOTPRINT_POINT_LONGITUDE = (358.162,357.548,357.121,356.801, 356.376,355.949,355.71,355.443,355.416, 355.34,355.362,355.394,355.416,355.436, 355.457,355.477,355.498,355.527,355.547 ,355.565,355.584,355.603,355.622,355.64 ,355.658,355.675,355.701,355.718, 355.734,355.759,355.776,355.792,355.807 ,355.823,355.838,355.861,355.875, 355.897,355.912,355.926,355.947,355.974 ,356.007,356.033,356.058,356.082, 356.106,356.135,356.14,356.141,356.456, 356.667,357.024,357.339,357.57,357.78, 358.012,358.285,358.306,358.314,358.31, 358.308,358.306,358.302,358.299,358.298 ,358.295,358.291,358.289,358.287, 358.285,358.283,358.281,358.279,358.277 ,358.275,358.273,358.27,358.267,358.265 ,358.263,358.26,358.257,358.255,358.253 ,358.25,358.248,358.244,358.242,358.239 ,358.235,358.232,358.23,358.227,358.224 ,358.221,358.218,358.215,358.214, 358.162)
ORBIT_NUMBER = 17804
ORBITAL_ECCENTRICITY = 0.575
ORBITAL_INCLINATION = 86.95
ORBITAL_SEMIMAJOR_AXIS = 8827.34
PERIAPSIS_ALTITUDE = 361.57
PERIAPSIS_ARGUMENT_ANGLE = 151.77
PERIAPSIS_TIME = 2018-01-25T02:56:17.000Z
SPACECRAFT_ORIENTATION = (0.0,-1.0,0.0)
^MEX_ORIENTATION_DESC = "MEX_ORIENTATION_DESC.TXT"
SPACECRAFT_POINTING_MODE = ACROSSTRACK
^MEX_POINTING_DESC = "MEX_POINTING_DESC.TXT"
RIGHT_ASCENSION = -1e+32
DECLINATION = -1e+32
OFFSET_ANGLE = -0.58
SPACECRAFT_SOLAR_DISTANCE = 2.40775e+08
TARGET_NAME = MARS
/* CAMERA DATA ELEMENTS */
DETECTOR_TEMPERATURE = 18.3705
FOCAL_PLANE_TEMPERATURE = 8.1755
INST_CMPRS_NAME = "DISCRETE COSINE TRANSFORMATION (DCT)"
INST_CMPRS_RATIO = 12.87
INST_CMPRS_QUALITY = 0
INST_CMPRS_QUANTZ_TBL_ID = 0
INSTRUMENT_TEMPERATURE = 11.234
LENS_TEMPERATURE = 8.9911
MACROPIXEL_SIZE = 2
MISSING_FRAMES = 0
PIXEL_SUBSAMPLING_FLAG = N
SIGNAL_CHAIN_ID = 1
/* RADIOMETRIC DATA ELEMENTS */
BANDWIDTH = 178.0
CENTER_FILTER_WAVELENGTH = 679.0
RADIANCE_OFFSET = 1.7105
RADIANCE_SCALING_FACTOR = 0.0144889
REFLECTANCE_SCALING_FACTOR = 0.000444829
MEX:REFLECTANCE_OFFSET = 0.0525145
/* IMAGE OBJECT DEFINITIONS */
OBJECT = IMAGE
  INTERCHANGE_FORMAT = BINARY
  LINES = 17097
  LINE_SAMPLES = 4663
  SAMPLE_TYPE = UNSIGNED_INTEGER
  SAMPLE_BITS = 8
  BANDS = 1
  BAND_STORAGE_TYPE = BAND_SEQUENTIAL
  MAXIMUM = 255
  MEAN = 90.5868
  MINIMUM = 1
  STANDARD_DEVIATION = 20.8238
END_OBJECT = IMAGE
/* MAP OBJECT DEFINITIONS */
OBJECT = IMAGE_MAP_PROJECTION
  ^DATA_SET_MAP_PROJECTION_CATALOG= "DSMAP.CAT"
  A_AXIS_RADIUS = 3396.0
  B_AXIS_RADIUS = 3396.0
  C_AXIS_RADIUS = 3396.0
  CENTER_LATITUDE = 0.0
  CENTER_LONGITUDE = 357.0
  COORDINATE_SYSTEM_NAME = PLANETOGRAPHIC
  COORDINATE_SYSTEM_TYPE = "BODY-FIXED ROTATING"
  EASTERNMOST_LONGITUDE = 358.314
  FIRST_STANDARD_PARALLEL = "N/A"
  LINE_FIRST_PIXEL = 1
  LINE_LAST_PIXEL = 17097
  LINE_PROJECTION_OFFSET = 127206.75
  MAP_PROJECTION_ROTATION = 0.0
  MAP_PROJECTION_TYPE = SINUSOIDAL
  MAP_RESOLUTION = 2370.85521546667
  MAP_SCALE = 0.025
  MAXIMUM_LATITUDE = 53.6208
  MINIMUM_LATITUDE = 46.4328
  POSITIVE_LONGITUDE_DIRECTION = EAST
  REFERENCE_LATITUDE = "N/A"
  REFERENCE_LONGITUDE = "N/A"
  SAMPLE_FIRST_PIXEL = 1
  SAMPLE_LAST_PIXEL = 4663
  SAMPLE_PROJECTION_OFFSET = 2458.75
  SECOND_STANDARD_PARALLEL = "N/A"
  WESTERNMOST_LONGITUDE = 355.34
END_OBJECT = IMAGE_MAP_PROJECTION
END
