PDS_VERSION_ID = PDS3
/* FILE DATA ELEMENTS */
RECORD_TYPE = UNDEFINED
/* POINTERS TO DATA OBJECTS */
^IMAGE = ("HH806_0000_ND4.TIF")
/* IDENTIFICATION DATA ELEMENTS */
DATA_SET_ID = "MEX-M-HRSC-4-REFDR-MAPPROJECT-EXT6-V4.0"
DATA_SET_NAME = "MARS EXPRESS HRSC MAP PROJECTED REFDR EXTENSION6 V4.0"
DETECTOR_ID = MEX_HRSC_NADIR
EVENT_TYPE = "MARS-REGIONAL-MAPPING-Vo-Te-Im"
INSTRUMENT_HOST_ID = MEX
INSTRUMENT_HOST_NAME = "MARS EXPRESS"
INSTRUMENT_ID = HRSC
INSTRUMENT_NAME = "HIGH RESOLUTION STEREO CAMERA"
MISSION_NAME = "MARS EXPRESS"
MISSION_PHASE_NAME = ME_Phase_38
PROCESSING_LEVEL_ID = 4
PRODUCT_CREATION_TIME = 2023-01-28T19:29:54.000Z
PRODUCT_ID = "HH806_0000_ND4.TIF"
RELEASE_ID = 0003
REVISION_ID = 0000
/* QUALITY DATA ELEMENTS */
DATA_QUALITY_ID = 1
DATA_QUALITY_DESC = "Data calculated based on original SPICE kernels"
/* TIME DATA ELEMENTS */
SPACECRAFT_CLOCK_START_COUNT = "1/0464979232.08266"
SPACECRAFT_CLOCK_STOP_COUNT = "1/0464979482.62872"
START_TIME = 2018-01-25T16:54:35.003Z
STOP_TIME = 2018-01-25T16:57:33.006Z
/* ORBITAL DATA ELEMENTS */
ASCENDING_NODE_LONGITUDE = 239.82
MAXIMUM_RESOLUTION = 0.0145
FOOTPRINT_POINT_LATITUDE = (28.5704,28.5697,28.568,28.5634,28.5633 ,28.5626,28.3298,28.097,27.6404,27.2504 ,26.8603,26.5231,26.2903,26.0576,25.825 ,25.5923,25.3597,25.1272,24.8946, 24.6621,24.4296,24.1972,23.9649,23.7325 ,23.5003,23.2681,23.0359,22.8038, 22.5718,22.3398,22.1079,21.8761,21.6444 ,21.4127,21.1811,20.9496,20.7182, 20.4869,20.2557,20.0246,19.7935,19.5626 ,19.3318,19.101,18.8704,18.6399,18.1793 ,17.7191,17.2594,17.1446,17.126,17.1255 ,17.1237,17.1194,17.1193,17.1195, 17.5796,18.0401,18.5012,18.7319,18.9627 ,19.1936,19.4246,19.6558,19.887,20.1184 ,20.3498,20.5813,20.813,21.0447,21.2765 ,21.5084,21.7403,21.9724,22.2045, 22.4367,22.669,22.9013,23.1337,23.3662, 23.5987,23.8312,24.0639,24.2965,24.5293 ,24.762,24.9948,25.2277,25.4606,25.6935 ,25.9265,26.1594,26.3924,26.8497, 27.2403,27.6308,28.2016,28.4347,28.5513 ,28.5704)
FOOTPRINT_POINT_LONGITUDE = (154.003,153.54,153.175,152.6,152.586, 152.567,152.57,152.574,152.579,152.584, 152.588,152.592,152.594,152.596,152.598 ,152.599,152.601,152.603,152.604, 152.605,152.605,152.607,152.608,152.609 ,152.609,152.61,152.61,152.61,152.61, 152.61,152.61,152.609,152.609,152.608, 152.608,152.607,152.606,152.605,152.604 ,152.603,152.602,152.6,152.599,152.597, 152.595,152.594,152.59,152.586,152.581, 152.58,152.58,152.846,153.321,153.979, 153.993,154.0,154.0,154.001,154.001, 154.001,154.001,154.001,154.002,154.002 ,154.002,154.002,154.002,154.003, 154.003,154.003,154.003,154.004,154.004 ,154.004,154.004,154.005,154.005, 154.005,154.006,154.006,154.006,154.008 ,154.007,154.007,154.008,154.008, 154.009,154.009,154.009,154.01,154.01, 154.011,154.011,154.012,154.013,154.014 ,154.015,154.015,154.015,154.003)
ORBIT_NUMBER = 17806
ORBITAL_ECCENTRICITY = 0.575
ORBITAL_INCLINATION = 86.95
ORBITAL_SEMIMAJOR_AXIS = 8827.23
PERIAPSIS_ALTITUDE = 362.1
PERIAPSIS_ARGUMENT_ANGLE = 151.47
PERIAPSIS_TIME = 2018-01-25T16:54:37.000Z
SPACECRAFT_ORIENTATION = (0.0,-1.0,0.0)
^MEX_ORIENTATION_DESC = "MEX_ORIENTATION_DESC.TXT"
SPACECRAFT_POINTING_MODE = ACROSSTRACK
^MEX_POINTING_DESC = "MEX_POINTING_DESC.TXT"
RIGHT_ASCENSION = -1e+32
DECLINATION = -1e+32
OFFSET_ANGLE = 1.374
SPACECRAFT_SOLAR_DISTANCE = 2.40689e+08
TARGET_NAME = MARS
/* CAMERA DATA ELEMENTS */
DETECTOR_TEMPERATURE = 18.3705
FOCAL_PLANE_TEMPERATURE = 8.5833
INST_CMPRS_NAME = "DISCRETE COSINE TRANSFORMATION (DCT)"
INST_CMPRS_RATIO = 5.74494
INST_CMPRS_QUALITY = 0
INST_CMPRS_QUANTZ_TBL_ID = 0
INSTRUMENT_TEMPERATURE = 11.234
LENS_TEMPERATURE = 8.7872
MACROPIXEL_SIZE = 1
MISSING_FRAMES = 0
PIXEL_SUBSAMPLING_FLAG = N
SIGNAL_CHAIN_ID = 0
/* RADIOMETRIC DATA ELEMENTS */
BANDWIDTH = 177.0
CENTER_FILTER_WAVELENGTH = 677.5
RADIANCE_OFFSET = 1.7825
RADIANCE_SCALING_FACTOR = 0.0201762
REFLECTANCE_SCALING_FACTOR = 0.000620925
MEX:REFLECTANCE_OFFSET = 0.0548566
/* IMAGE OBJECT DEFINITIONS */
OBJECT = IMAGE
  INTERCHANGE_FORMAT = BINARY
  LINES = 54297
  LINE_SAMPLES = 6438
  SAMPLE_TYPE = UNSIGNED_INTEGER
  SAMPLE_BITS = 8
  BANDS = 1
  BAND_STORAGE_TYPE = BAND_SEQUENTIAL
  MAXIMUM = 255
  MEAN = 94.5787
  MINIMUM = 1
  STANDARD_DEVIATION = 14.2933
END_OBJECT = IMAGE
/* MAP OBJECT DEFINITIONS */
OBJECT = IMAGE_MAP_PROJECTION
  ^DATA_SET_MAP_PROJECTION_CATALOG= "DSMAP.CAT"
  A_AXIS_RADIUS = 3396.0
  B_AXIS_RADIUS = 3396.0
  C_AXIS_RADIUS = 3396.0
  CENTER_LATITUDE = 0.0
  CENTER_LONGITUDE = 153.0
  COORDINATE_SYSTEM_NAME = PLANETOGRAPHIC
  COORDINATE_SYSTEM_TYPE = "BODY-FIXED ROTATING"
  EASTERNMOST_LONGITUDE = 154.015
  FIRST_STANDARD_PARALLEL = "N/A"
  LINE_FIRST_PIXEL = 1
  LINE_LAST_PIXEL = 54297
  LINE_PROJECTION_OFFSET = 135471.0
  MAP_PROJECTION_ROTATION = 0.0
  MAP_PROJECTION_TYPE = SINUSOIDAL
  MAP_RESOLUTION = 4741.71043093333
  MAP_SCALE = 0.0125
  MAXIMUM_LATITUDE = 28.5704
  MINIMUM_LATITUDE = 17.1193
  POSITIVE_LONGITUDE_DIRECTION = EAST
  REFERENCE_LATITUDE = "N/A"
  REFERENCE_LONGITUDE = "N/A"
  SAMPLE_FIRST_PIXEL = 1
  SAMPLE_LAST_PIXEL = 6438
  SAMPLE_PROJECTION_OFFSET = 1904.0
  SECOND_STANDARD_PARALLEL = "N/A"
  WESTERNMOST_LONGITUDE = 152.567
END_OBJECT = IMAGE_MAP_PROJECTION
END
