PDS_VERSION_ID = PDS3
/* FILE DATA ELEMENTS */
RECORD_TYPE = UNDEFINED
/* POINTERS TO DATA OBJECTS */
^IMAGE = ("HH807_0000_IR4.TIF")
/* IDENTIFICATION DATA ELEMENTS */
DATA_SET_ID = "MEX-M-HRSC-4-REFDR-MAPPROJECT-EXT6-V4.0"
DATA_SET_NAME = "MARS EXPRESS HRSC MAP PROJECTED REFDR EXTENSION6 V4.0"
DETECTOR_ID = MEX_HRSC_IR
EVENT_TYPE = "MARS-REGIONAL-MAPPING-Te-Im-Gl"
INSTRUMENT_HOST_ID = MEX
INSTRUMENT_HOST_NAME = "MARS EXPRESS"
INSTRUMENT_ID = HRSC
INSTRUMENT_NAME = "HIGH RESOLUTION STEREO CAMERA"
MISSION_NAME = "MARS EXPRESS"
MISSION_PHASE_NAME = ME_Phase_38
PROCESSING_LEVEL_ID = 4
PRODUCT_CREATION_TIME = 2023-01-28T19:29:54.000Z
PRODUCT_ID = "HH807_0000_IR4.TIF"
RELEASE_ID = 0003
REVISION_ID = 0000
/* QUALITY DATA ELEMENTS */
DATA_QUALITY_ID = 1
DATA_QUALITY_DESC = "Data calculated based on original SPICE kernels"
/* TIME DATA ELEMENTS */
SPACECRAFT_CLOCK_START_COUNT = "1/0465004262.09060"
SPACECRAFT_CLOCK_STOP_COUNT = "1/0465004523.39184"
START_TIME = 2018-01-25T23:51:17.752Z
STOP_TIME = 2018-01-25T23:54:28.625Z
/* ORBITAL DATA ELEMENTS */
ASCENDING_NODE_LONGITUDE = 239.81
MAXIMUM_RESOLUTION = 0.0608
FOOTPRINT_POINT_LATITUDE = (36.0235,35.9864,35.9453,35.8843, 35.8827,35.8473,35.4714,35.2206,34.9689 ,34.5916,34.3389,34.0868,33.8344, 33.5763,33.3234,33.0734,32.8189,32.4374 ,32.1827,31.8005,31.4193,31.1649, 30.9098,30.6552,30.3995,30.0157,29.7597 ,29.5034,29.1193,28.7341,28.4768, 28.2204,27.8359,27.4518,27.2096,26.9947 ,26.6727,26.3468,26.1258,25.9088, 25.6921,25.3673,25.1506,24.8278,24.6109 ,24.2861,24.0695,23.856,23.7504,23.6895 ,23.7235,23.7637,23.7993,23.7999,23.801 ,24.1289,24.4545,24.6715,24.8884, 25.1057,25.3216,25.5392,25.8639,26.0808 ,26.2967,26.5114,26.7276,27.0521, 27.3744,27.6258,27.8834,28.2699,28.5274 ,28.7854,29.0427,29.2994,29.6838, 29.9416,30.1986,30.4546,30.7104,31.0938 ,31.3497,31.7332,31.9888,32.3714, 32.6264,32.8816,33.1365,33.3915,33.6455 ,33.899,34.1529,34.406,34.7858,35.1646, 35.4174,35.7948,35.9206,36.0235)
FOOTPRINT_POINT_LONGITUDE = (50.1966,49.7049,49.1981,48.5084, 48.4916,48.4457,48.4675,48.4818,48.4952 ,48.5156,48.5279,48.5409,48.5537, 48.5594,48.5716,48.5875,48.5979,48.6138 ,48.6241,48.6393,48.6559,48.6666, 48.6765,48.687,48.6962,48.7098,48.7188, 48.7273,48.7405,48.7524,48.7598,48.7683 ,48.7811,48.7942,48.8026,48.8095, 48.8202,48.8263,48.8258,48.8301,48.8348 ,48.842,48.8465,48.856,48.8602,48.8671, 48.8716,48.8797,48.8851,48.889,49.3009, 49.8482,50.3374,50.3502,50.3545,50.3522 ,50.3488,50.3466,50.3443,50.3422, 50.3394,50.3374,50.3337,50.3314,50.3287 ,50.3254,50.3228,50.3191,50.3143, 50.3106,50.3074,50.3027,50.2994,50.2965 ,50.2932,50.2897,50.2842,50.2812, 50.2779,50.2742,50.2704,50.2646,50.261, 50.2554,50.2517,50.2458,50.2419,50.2381 ,50.2342,50.2304,50.2262,50.2218, 50.2176,50.2131,50.2065,50.1995,50.195, 50.1876,50.1851,50.1966)
ORBIT_NUMBER = 17807
ORBITAL_ECCENTRICITY = 0.575
ORBITAL_INCLINATION = 86.96
ORBITAL_SEMIMAJOR_AXIS = 8832.79
PERIAPSIS_ALTITUDE = 361.47
PERIAPSIS_ARGUMENT_ANGLE = 151.3
PERIAPSIS_TIME = 2018-01-25T23:53:41.000Z
SPACECRAFT_ORIENTATION = (0.0,-1.0,0.0)
^MEX_ORIENTATION_DESC = "MEX_ORIENTATION_DESC.TXT"
SPACECRAFT_POINTING_MODE = ACROSSTRACK
^MEX_POINTING_DESC = "MEX_POINTING_DESC.TXT"
RIGHT_ASCENSION = -1e+32
DECLINATION = -1e+32
OFFSET_ANGLE = -1.374
SPACECRAFT_SOLAR_DISTANCE = 2.40646e+08
TARGET_NAME = MARS
/* CAMERA DATA ELEMENTS */
DETECTOR_TEMPERATURE = 17.1471
FOCAL_PLANE_TEMPERATURE = 7.9716
INST_CMPRS_NAME = "DISCRETE COSINE TRANSFORMATION (DCT)"
INST_CMPRS_RATIO = 5.50442
INST_CMPRS_QUALITY = 0
INST_CMPRS_QUANTZ_TBL_ID = 0
INSTRUMENT_TEMPERATURE = 9.195
LENS_TEMPERATURE = 8.5833
MACROPIXEL_SIZE = 4
MISSING_FRAMES = 0
PIXEL_SUBSAMPLING_FLAG = N
SIGNAL_CHAIN_ID = 2
/* RADIOMETRIC DATA ELEMENTS */
BANDWIDTH = 81.0
CENTER_FILTER_WAVELENGTH = 955.5
RADIANCE_OFFSET = 0.470196
RADIANCE_SCALING_FACTOR = 0.00704782
REFLECTANCE_SCALING_FACTOR = 0.000880525
MEX:REFLECTANCE_OFFSET = 0.0587443
/* IMAGE OBJECT DEFINITIONS */
OBJECT = IMAGE
  INTERCHANGE_FORMAT = BINARY
  LINES = 14453
  LINE_SAMPLES = 1867
  SAMPLE_TYPE = UNSIGNED_INTEGER
  SAMPLE_BITS = 8
  BANDS = 1
  BAND_STORAGE_TYPE = BAND_SEQUENTIAL
  MAXIMUM = 255
  MEAN = 131.244
  MINIMUM = 1
  STANDARD_DEVIATION = 22.3246
END_OBJECT = IMAGE
/* MAP OBJECT DEFINITIONS */
OBJECT = IMAGE_MAP_PROJECTION
  ^DATA_SET_MAP_PROJECTION_CATALOG= "DSMAP.CAT"
  A_AXIS_RADIUS = 3396.0
  B_AXIS_RADIUS = 3396.0
  C_AXIS_RADIUS = 3396.0
  CENTER_LATITUDE = 0.0
  CENTER_LONGITUDE = 50.0
  COORDINATE_SYSTEM_NAME = PLANETOGRAPHIC
  COORDINATE_SYSTEM_TYPE = "BODY-FIXED ROTATING"
  EASTERNMOST_LONGITUDE = 50.3545
  FIRST_STANDARD_PARALLEL = "N/A"
  LINE_FIRST_PIXEL = 1
  LINE_LAST_PIXEL = 14453
  LINE_PROJECTION_OFFSET = 42605.375
  MAP_PROJECTION_ROTATION = 0.0
  MAP_PROJECTION_TYPE = SINUSOIDAL
  MAP_RESOLUTION = 1185.42760773333
  MAP_SCALE = 0.05
  MAXIMUM_LATITUDE = 36.0235
  MINIMUM_LATITUDE = 23.6895
  POSITIVE_LONGITUDE_DIRECTION = EAST
  REFERENCE_LATITUDE = "N/A"
  REFERENCE_LONGITUDE = "N/A"
  SAMPLE_FIRST_PIXEL = 1
  SAMPLE_LAST_PIXEL = 1867
  SAMPLE_PROJECTION_OFFSET = 1472.875
  SECOND_STANDARD_PARALLEL = "N/A"
  WESTERNMOST_LONGITUDE = 48.4457
END_OBJECT = IMAGE_MAP_PROJECTION
END
