PDS_VERSION_ID = PDS3
/* FILE DATA ELEMENTS */
RECORD_TYPE = UNDEFINED
/* POINTERS TO DATA OBJECTS */
^IMAGE = ("HH807_0000_ND4.TIF")
/* IDENTIFICATION DATA ELEMENTS */
DATA_SET_ID = "MEX-M-HRSC-4-REFDR-MAPPROJECT-EXT6-V4.0"
DATA_SET_NAME = "MARS EXPRESS HRSC MAP PROJECTED REFDR EXTENSION6 V4.0"
DETECTOR_ID = MEX_HRSC_NADIR
EVENT_TYPE = "MARS-REGIONAL-MAPPING-Te-Im-Gl"
INSTRUMENT_HOST_ID = MEX
INSTRUMENT_HOST_NAME = "MARS EXPRESS"
INSTRUMENT_ID = HRSC
INSTRUMENT_NAME = "HIGH RESOLUTION STEREO CAMERA"
MISSION_NAME = "MARS EXPRESS"
MISSION_PHASE_NAME = ME_Phase_38
PROCESSING_LEVEL_ID = 4
PRODUCT_CREATION_TIME = 2023-01-28T19:29:54.000Z
PRODUCT_ID = "HH807_0000_ND4.TIF"
RELEASE_ID = 0003
REVISION_ID = 0000
/* QUALITY DATA ELEMENTS */
DATA_QUALITY_ID = 1
DATA_QUALITY_DESC = "Data calculated based on original SPICE kernels"
/* TIME DATA ELEMENTS */
SPACECRAFT_CLOCK_START_COUNT = "1/0465004262.09060"
SPACECRAFT_CLOCK_STOP_COUNT = "1/0465004523.39184"
START_TIME = 2018-01-25T23:51:47.407Z
STOP_TIME = 2018-01-25T23:54:56.393Z
/* ORBITAL DATA ELEMENTS */
ASCENDING_NODE_LONGITUDE = 239.81
MAXIMUM_RESOLUTION = 0.0146
FOOTPRINT_POINT_LATITUDE = (35.9419,35.9315,35.9184,35.9108, 35.9002,35.8997,35.8974,35.6421,35.3866 ,35.131,34.8753,34.6195,34.3636,34.1076 ,33.7232,33.4668,33.2106,32.9542, 32.6977,32.4411,32.1844,31.9276,31.6709 ,31.4141,31.1572,30.9003,30.6433, 30.3863,30.1292,29.8721,29.6149,29.3578 ,29.1057,28.6747,28.2436,27.9204, 27.5971,27.1662,26.7352,26.412,25.9809, 25.5501,25.1675,24.9106,24.6537,24.3968 ,24.1399,23.8832,23.755,23.7494,23.7566 ,23.76,23.7633,23.7633,23.7636,24.0209, 24.2782,24.5356,24.793,25.0505,25.308, 25.5634,25.9951,26.4269,26.8588,27.2907 ,27.7226,27.9386,28.2626,28.4787, 28.6947,29.1267,29.3785,29.6362,29.894, 30.1517,30.4094,30.667,30.9247,31.1822, 31.4398,31.6973,31.9547,32.2121,32.4694 ,32.7267,32.9839,33.2411,33.4981, 33.7551,34.012,34.2688,34.5256,34.7822, 35.0387,35.2952,35.5515,35.8077,35.9358 ,35.9419)
FOOTPRINT_POINT_LONGITUDE = (50.1874,49.6766,49.1488,48.8782, 48.5328,48.5153,48.4627,48.4784,48.4919 ,48.5061,48.519,48.5322,48.5446,48.5575 ,48.5718,48.5802,48.5945,48.6079, 48.6173,48.6279,48.6378,48.6474,48.6578 ,48.6684,48.6788,48.6884,48.6987, 48.7075,48.7168,48.7249,48.7333,48.7417 ,48.7499,48.7625,48.7753,48.7857, 48.7931,48.81,48.8234,48.8316,48.8333, 48.8419,48.8496,48.8561,48.8625,48.8671 ,48.872,48.8793,48.8889,48.889,49.4735, 49.8369,50.3424,50.3562,50.3629,50.3609 ,50.3582,50.3551,50.3518,50.3491, 50.3456,50.3428,50.3374,50.3313,50.3257 ,50.3193,50.3122,50.3092,50.3045, 50.3016,50.2986,50.2927,50.2889,50.2845 ,50.2811,50.2773,50.2733,50.2691,50.265 ,50.2606,50.2565,50.2518,50.248,50.2439 ,50.2394,50.235,50.2307,50.2265,50.2221 ,50.2171,50.2123,50.2075,50.2024, 50.1974,50.1921,50.1871,50.1817,50.1761 ,50.1733,50.1874)
ORBIT_NUMBER = 17807
ORBITAL_ECCENTRICITY = 0.575
ORBITAL_INCLINATION = 86.96
ORBITAL_SEMIMAJOR_AXIS = 8832.79
PERIAPSIS_ALTITUDE = 361.47
PERIAPSIS_ARGUMENT_ANGLE = 151.3
PERIAPSIS_TIME = 2018-01-25T23:53:41.000Z
SPACECRAFT_ORIENTATION = (0.0,-1.0,0.0)
^MEX_ORIENTATION_DESC = "MEX_ORIENTATION_DESC.TXT"
SPACECRAFT_POINTING_MODE = ACROSSTRACK
^MEX_POINTING_DESC = "MEX_POINTING_DESC.TXT"
RIGHT_ASCENSION = -1e+32
DECLINATION = -1e+32
OFFSET_ANGLE = -1.374
SPACECRAFT_SOLAR_DISTANCE = 2.40646e+08
TARGET_NAME = MARS
/* CAMERA DATA ELEMENTS */
DETECTOR_TEMPERATURE = 17.9627
FOCAL_PLANE_TEMPERATURE = 7.9716
INST_CMPRS_NAME = "DISCRETE COSINE TRANSFORMATION (DCT)"
INST_CMPRS_RATIO = 4.8232
INST_CMPRS_QUALITY = 0
INST_CMPRS_QUANTZ_TBL_ID = 0
INSTRUMENT_TEMPERATURE = 9.195
LENS_TEMPERATURE = 8.5833
MACROPIXEL_SIZE = 1
MISSING_FRAMES = 0
PIXEL_SUBSAMPLING_FLAG = N
SIGNAL_CHAIN_ID = 0
/* RADIOMETRIC DATA ELEMENTS */
BANDWIDTH = 177.0
CENTER_FILTER_WAVELENGTH = 677.5
RADIANCE_OFFSET = 1.66096
RADIANCE_SCALING_FACTOR = 0.0243068
REFLECTANCE_SCALING_FACTOR = 0.000747774
MEX:REFLECTANCE_OFFSET = 0.0510979
/* IMAGE OBJECT DEFINITIONS */
OBJECT = IMAGE
  INTERCHANGE_FORMAT = BINARY
  LINES = 57810
  LINE_SAMPLES = 7468
  SAMPLE_TYPE = UNSIGNED_INTEGER
  SAMPLE_BITS = 8
  BANDS = 1
  BAND_STORAGE_TYPE = BAND_SEQUENTIAL
  MAXIMUM = 255
  MEAN = 121.747
  MINIMUM = 1
  STANDARD_DEVIATION = 22.7739
END_OBJECT = IMAGE
/* MAP OBJECT DEFINITIONS */
OBJECT = IMAGE_MAP_PROJECTION
  ^DATA_SET_MAP_PROJECTION_CATALOG= "DSMAP.CAT"
  A_AXIS_RADIUS = 3396.0
  B_AXIS_RADIUS = 3396.0
  C_AXIS_RADIUS = 3396.0
  CENTER_LATITUDE = 0.0
  CENTER_LONGITUDE = 50.0
  COORDINATE_SYSTEM_NAME = PLANETOGRAPHIC
  COORDINATE_SYSTEM_TYPE = "BODY-FIXED ROTATING"
  EASTERNMOST_LONGITUDE = 50.3629
  FIRST_STANDARD_PARALLEL = "N/A"
  LINE_FIRST_PIXEL = 1
  LINE_LAST_PIXEL = 57810
  LINE_PROJECTION_OFFSET = 170423.0
  MAP_PROJECTION_ROTATION = 0.0
  MAP_PROJECTION_TYPE = SINUSOIDAL
  MAP_RESOLUTION = 4741.71043093333
  MAP_SCALE = 0.0125
  MAXIMUM_LATITUDE = 35.9419
  MINIMUM_LATITUDE = 23.7494
  POSITIVE_LONGITUDE_DIRECTION = EAST
  REFERENCE_LATITUDE = "N/A"
  REFERENCE_LONGITUDE = "N/A"
  SAMPLE_FIRST_PIXEL = 1
  SAMPLE_LAST_PIXEL = 7468
  SAMPLE_PROJECTION_OFFSET = 5893.0
  SECOND_STANDARD_PARALLEL = "N/A"
  WESTERNMOST_LONGITUDE = 48.4627
END_OBJECT = IMAGE_MAP_PROJECTION
END
