PDS_VERSION_ID = PDS3
/* FILE DATA ELEMENTS */
RECORD_TYPE = UNDEFINED
/* POINTERS TO DATA OBJECTS */
^IMAGE = ("HH807_0000_S24.TIF")
/* IDENTIFICATION DATA ELEMENTS */
DATA_SET_ID = "MEX-M-HRSC-4-REFDR-MAPPROJECT-EXT6-V4.0"
DATA_SET_NAME = "MARS EXPRESS HRSC MAP PROJECTED REFDR EXTENSION6 V4.0"
DETECTOR_ID = MEX_HRSC_S2
EVENT_TYPE = "MARS-REGIONAL-MAPPING-Te-Im-Gl"
INSTRUMENT_HOST_ID = MEX
INSTRUMENT_HOST_NAME = "MARS EXPRESS"
INSTRUMENT_ID = HRSC
INSTRUMENT_NAME = "HIGH RESOLUTION STEREO CAMERA"
MISSION_NAME = "MARS EXPRESS"
MISSION_PHASE_NAME = ME_Phase_38
PROCESSING_LEVEL_ID = 4
PRODUCT_CREATION_TIME = 2023-01-28T19:29:54.000Z
PRODUCT_ID = "HH807_0000_S24.TIF"
RELEASE_ID = 0003
REVISION_ID = 0000
/* QUALITY DATA ELEMENTS */
DATA_QUALITY_ID = 1
DATA_QUALITY_DESC = "Data calculated based on original SPICE kernels"
/* TIME DATA ELEMENTS */
SPACECRAFT_CLOCK_START_COUNT = "1/0465004262.09060"
SPACECRAFT_CLOCK_STOP_COUNT = "1/0465004523.39184"
START_TIME = 2018-01-25T23:52:22.294Z
STOP_TIME = 2018-01-25T23:55:30.772Z
/* ORBITAL DATA ELEMENTS */
ASCENDING_NODE_LONGITUDE = 239.81
MAXIMUM_RESOLUTION = 0.0311
FOOTPRINT_POINT_LATITUDE = (35.8144,35.8383,35.862,35.8738,35.8899 ,35.8907,35.9284,35.5398,35.2814, 34.8945,34.6365,34.2501,33.8632,33.6112 ,33.354,33.0923,32.8357,32.4513,32.195, 31.9388,31.6818,31.308,31.0923,30.877, 30.5548,30.3402,30.1252,29.8039,29.5899 ,29.3754,29.0543,28.7337,28.3065, 27.9851,27.7707,27.5164,27.2578,27.0023 ,26.7465,26.4921,26.2453,25.9931, 25.6146,25.2353,24.9832,24.7275,24.3495 ,23.9698,23.8405,23.8156,23.7803, 23.7579,23.7272,23.7104,23.7094,23.7096 ,23.9604,24.211,24.4643,24.7169,24.9707 ,25.3509,25.6041,25.8588,26.1124, 26.3689,26.6246,27.0068,27.263,27.5208, 27.7605,28.1894,28.6168,28.8326,29.1528 ,29.3677,29.5841,30.012,30.3349,30.6583 ,30.9817,31.1974,31.5691,31.8249,32.082 ,32.3398,32.5974,32.8546,33.1122, 33.3693,33.6274,33.8859,34.1438,34.4024 ,34.7898,35.0486,35.3068,35.6954, 35.8252,35.8144)
FOOTPRINT_POINT_LONGITUDE = (50.1761,49.6793,49.1653,48.9015, 48.5303,48.5132,48.4603,48.4826,48.4962 ,48.5156,48.5283,48.5463,48.5646, 48.5694,48.5803,48.5966,48.6065,48.6205 ,48.6299,48.639,48.6489,48.6636,48.6722 ,48.6802,48.6915,48.6986,48.7061,48.716 ,48.7223,48.7292,48.7388,48.7477, 48.7593,48.7691,48.7745,48.7808,48.7917 ,48.7992,48.8072,48.8135,48.8115, 48.8156,48.822,48.8293,48.8335,48.8416, 48.8479,48.8562,48.8618,48.8642,49.3778 ,49.7139,50.0877,50.3515,50.3653, 50.3702,50.3676,50.365,50.3615,50.3583, 50.3547,50.3495,50.3462,50.3424,50.339, 50.3345,50.3303,50.3247,50.3204,50.3155 ,50.3117,50.3048,50.2985,50.2945,50.29, 50.2865,50.2822,50.2759,50.2702,50.2644 ,50.2586,50.2546,50.2472,50.2432, 50.2386,50.2337,50.2288,50.2241,50.2191 ,50.2144,50.2092,50.2037,50.1985, 50.1929,50.1847,50.1789,50.1733,50.1642 ,50.161,50.1761)
ORBIT_NUMBER = 17807
ORBITAL_ECCENTRICITY = 0.575
ORBITAL_INCLINATION = 86.96
ORBITAL_SEMIMAJOR_AXIS = 8832.79
PERIAPSIS_ALTITUDE = 361.47
PERIAPSIS_ARGUMENT_ANGLE = 151.3
PERIAPSIS_TIME = 2018-01-25T23:53:41.000Z
SPACECRAFT_ORIENTATION = (0.0,-1.0,0.0)
^MEX_ORIENTATION_DESC = "MEX_ORIENTATION_DESC.TXT"
SPACECRAFT_POINTING_MODE = ACROSSTRACK
^MEX_POINTING_DESC = "MEX_POINTING_DESC.TXT"
RIGHT_ASCENSION = -1e+32
DECLINATION = -1e+32
OFFSET_ANGLE = -1.374
SPACECRAFT_SOLAR_DISTANCE = 2.40646e+08
TARGET_NAME = MARS
/* CAMERA DATA ELEMENTS */
DETECTOR_TEMPERATURE = 18.5744
FOCAL_PLANE_TEMPERATURE = 7.9716
INST_CMPRS_NAME = "DISCRETE COSINE TRANSFORMATION (DCT)"
INST_CMPRS_RATIO = 6.62286
INST_CMPRS_QUALITY = 0
INST_CMPRS_QUANTZ_TBL_ID = 0
INSTRUMENT_TEMPERATURE = 9.195
LENS_TEMPERATURE = 8.5833
MACROPIXEL_SIZE = 2
MISSING_FRAMES = 0
PIXEL_SUBSAMPLING_FLAG = N
SIGNAL_CHAIN_ID = 1
/* RADIOMETRIC DATA ELEMENTS */
BANDWIDTH = 178.0
CENTER_FILTER_WAVELENGTH = 679.0
RADIANCE_OFFSET = 1.99339
RADIANCE_SCALING_FACTOR = 0.0255256
REFLECTANCE_SCALING_FACTOR = 0.000782827
MEX:REFLECTANCE_OFFSET = 0.0611339
/* IMAGE OBJECT DEFINITIONS */
OBJECT = IMAGE
  INTERCHANGE_FORMAT = BINARY
  LINES = 28905
  LINE_SAMPLES = 3734
  SAMPLE_TYPE = UNSIGNED_INTEGER
  SAMPLE_BITS = 8
  BANDS = 1
  BAND_STORAGE_TYPE = BAND_SEQUENTIAL
  MAXIMUM = 255
  MEAN = 121.241
  MINIMUM = 1
  STANDARD_DEVIATION = 22.2466
END_OBJECT = IMAGE
/* MAP OBJECT DEFINITIONS */
OBJECT = IMAGE_MAP_PROJECTION
  ^DATA_SET_MAP_PROJECTION_CATALOG= "DSMAP.CAT"
  A_AXIS_RADIUS = 3396.0
  B_AXIS_RADIUS = 3396.0
  C_AXIS_RADIUS = 3396.0
  CENTER_LATITUDE = 0.0
  CENTER_LONGITUDE = 50.0
  COORDINATE_SYSTEM_NAME = PLANETOGRAPHIC
  COORDINATE_SYSTEM_TYPE = "BODY-FIXED ROTATING"
  EASTERNMOST_LONGITUDE = 50.3702
  FIRST_STANDARD_PARALLEL = "N/A"
  LINE_FIRST_PIXEL = 1
  LINE_LAST_PIXEL = 28905
  LINE_PROJECTION_OFFSET = 85211.25
  MAP_PROJECTION_ROTATION = 0.0
  MAP_PROJECTION_TYPE = SINUSOIDAL
  MAP_RESOLUTION = 2370.85521546667
  MAP_SCALE = 0.025
  MAXIMUM_LATITUDE = 35.9284
  MINIMUM_LATITUDE = 23.7094
  POSITIVE_LONGITUDE_DIRECTION = EAST
  REFERENCE_LATITUDE = "N/A"
  REFERENCE_LONGITUDE = "N/A"
  SAMPLE_FIRST_PIXEL = 1
  SAMPLE_LAST_PIXEL = 3734
  SAMPLE_PROJECTION_OFFSET = 2946.25
  SECOND_STANDARD_PARALLEL = "N/A"
  WESTERNMOST_LONGITUDE = 48.4603
END_OBJECT = IMAGE_MAP_PROJECTION
END
