PDS_VERSION_ID = PDS3
/* FILE DATA ELEMENTS */
RECORD_TYPE = UNDEFINED
/* POINTERS TO DATA OBJECTS */
^IMAGE = ("HH809_0000_S24.TIF")
/* IDENTIFICATION DATA ELEMENTS */
DATA_SET_ID = "MEX-M-HRSC-4-REFDR-MAPPROJECT-EXT6-V4.0"
DATA_SET_NAME = "MARS EXPRESS HRSC MAP PROJECTED REFDR EXTENSION6 V4.0"
DETECTOR_ID = MEX_HRSC_S2
EVENT_TYPE = "MARS-REGIONAL-VARIABLE-Eo-At-Sh"
INSTRUMENT_HOST_ID = MEX
INSTRUMENT_HOST_NAME = "MARS EXPRESS"
INSTRUMENT_ID = HRSC
INSTRUMENT_NAME = "HIGH RESOLUTION STEREO CAMERA"
MISSION_NAME = "MARS EXPRESS"
MISSION_PHASE_NAME = ME_Phase_38
PROCESSING_LEVEL_ID = 4
PRODUCT_CREATION_TIME = 2023-01-28T19:29:54.000Z
PRODUCT_ID = "HH809_0000_S24.TIF"
RELEASE_ID = 0003
REVISION_ID = 0000
/* QUALITY DATA ELEMENTS */
DATA_QUALITY_ID = 1
DATA_QUALITY_DESC = "Data calculated based on original SPICE kernels"
/* TIME DATA ELEMENTS */
SPACECRAFT_CLOCK_START_COUNT = "1/0465054522.09083"
SPACECRAFT_CLOCK_STOP_COUNT = "1/0465054716.59708"
START_TIME = 2018-01-26T13:50:01.656Z
STOP_TIME = 2018-01-26T13:52:04.032Z
/* ORBITAL DATA ELEMENTS */
ASCENDING_NODE_LONGITUDE = 239.77
MAXIMUM_RESOLUTION = 0.0156
FOOTPRINT_POINT_LATITUDE = (38.0674,38.0642,38.0615,38.0561, 38.0526,38.0483,38.0481,38.1188,37.8415 ,37.5633,37.2858,37.1006,36.9156, 36.7306,36.5641,36.3317,36.1768,35.9444 ,35.7121,35.4801,35.3253,35.0932, 34.9386,34.7839,34.6295,34.4749,34.3204 ,34.1659,34.0114,33.857,33.7028,33.5484 ,33.3941,33.2399,33.0085,32.7775, 32.6234,32.4693,32.2383,32.0844,31.777, 31.6232,31.3159,31.0857,30.7788,30.4721 ,30.2423,30.1657,30.1636,30.1647,30.166 ,30.1669,30.168,30.1689,30.1697,30.1697 ,30.1699,30.4767,30.7839,31.0913, 31.3218,31.4756,31.6295,31.7836,32.0145 ,32.2456,32.3998,32.5542,32.7085,32.863 ,33.0173,33.1719,33.3264,33.5581, 33.7125,33.8671,34.099,34.2538,34.4086, 34.5634,34.7957,34.9503,35.1049,35.3376 ,35.4929,35.648,35.8806,36.0357,36.2685 ,36.5014,36.6566,36.838,37.0233,37.2086 ,37.3941,37.5797,37.8579,38.0434, 38.1362,38.0674)
FOOTPRINT_POINT_LONGITUDE = (207.559,207.204,206.945,206.493, 206.235,205.944,205.928,205.89,205.901, 205.912,205.923,205.93,205.937,205.943, 205.949,205.957,205.963,205.97,205.978, 205.985,205.99,205.997,206.002,206.006, 206.011,206.015,206.019,206.024,206.028 ,206.032,206.036,206.04,206.044,206.047 ,206.053,206.058,206.062,206.065,206.07 ,206.073,206.08,206.083,206.089,206.093 ,206.098,206.103,206.107,206.108, 206.108,206.299,206.549,206.77,207.02, 207.284,207.578,207.593,207.6,207.6, 207.6,207.6,207.599,207.599,207.599, 207.599,207.599,207.598,207.598,207.598 ,207.598,207.598,207.598,207.598, 207.597,207.597,207.597,207.596,207.596 ,207.596,207.596,207.595,207.595, 207.594,207.594,207.594,207.593,207.593 ,207.593,207.592,207.592,207.591, 207.591,207.59,207.59,207.589,207.589, 207.588,207.587,207.586,207.586, 207.559)
ORBIT_NUMBER = 17809
ORBITAL_ECCENTRICITY = 0.575
ORBITAL_INCLINATION = 86.97
ORBITAL_SEMIMAJOR_AXIS = 8825.94
PERIAPSIS_ALTITUDE = 361.75
PERIAPSIS_ARGUMENT_ANGLE = 150.91
PERIAPSIS_TIME = 2018-01-26T13:51:49.000Z
SPACECRAFT_ORIENTATION = (0.0,-1.0,0.0)
^MEX_ORIENTATION_DESC = "MEX_ORIENTATION_DESC.TXT"
SPACECRAFT_POINTING_MODE = NADIR
^MEX_POINTING_DESC = "MEX_POINTING_DESC.TXT"
RIGHT_ASCENSION = -1e+32
DECLINATION = -1e+32
OFFSET_ANGLE = -1e+32
SPACECRAFT_SOLAR_DISTANCE = 2.4056e+08
TARGET_NAME = MARS
/* CAMERA DATA ELEMENTS */
DETECTOR_TEMPERATURE = 18.5744
FOCAL_PLANE_TEMPERATURE = 8.3794
INST_CMPRS_NAME = "DISCRETE COSINE TRANSFORMATION (DCT)"
INST_CMPRS_RATIO = 6.88633
INST_CMPRS_QUALITY = 0
INST_CMPRS_QUANTZ_TBL_ID = 0
INSTRUMENT_TEMPERATURE = 12.6613
LENS_TEMPERATURE = 8.5833
MACROPIXEL_SIZE = 1
MISSING_FRAMES = 0
PIXEL_SUBSAMPLING_FLAG = N
SIGNAL_CHAIN_ID = 1
/* RADIOMETRIC DATA ELEMENTS */
BANDWIDTH = 178.0
CENTER_FILTER_WAVELENGTH = 679.0
RADIANCE_OFFSET = 3.26266
RADIANCE_SCALING_FACTOR = 0.0152639
REFLECTANCE_SCALING_FACTOR = 0.000467781
MEX:REFLECTANCE_OFFSET = 0.0999883
/* IMAGE OBJECT DEFINITIONS */
OBJECT = IMAGE
  INTERCHANGE_FORMAT = BINARY
  LINES = 37909
  LINE_SAMPLES = 6629
  SAMPLE_TYPE = UNSIGNED_INTEGER
  SAMPLE_BITS = 8
  BANDS = 1
  BAND_STORAGE_TYPE = BAND_SEQUENTIAL
  MAXIMUM = 255
  MEAN = 112.538
  MINIMUM = 1
  STANDARD_DEVIATION = 14.3311
END_OBJECT = IMAGE
/* MAP OBJECT DEFINITIONS */
OBJECT = IMAGE_MAP_PROJECTION
  ^DATA_SET_MAP_PROJECTION_CATALOG= "DSMAP.CAT"
  A_AXIS_RADIUS = 3396.0
  B_AXIS_RADIUS = 3396.0
  C_AXIS_RADIUS = 3396.0
  CENTER_LATITUDE = 0.0
  CENTER_LONGITUDE = 207.0
  COORDINATE_SYSTEM_NAME = PLANETOGRAPHIC
  COORDINATE_SYSTEM_TYPE = "BODY-FIXED ROTATING"
  EASTERNMOST_LONGITUDE = 207.6
  FIRST_STANDARD_PARALLEL = "N/A"
  LINE_FIRST_PIXEL = 1
  LINE_LAST_PIXEL = 37909
  LINE_PROJECTION_OFFSET = 180785.0
  MAP_PROJECTION_ROTATION = 0.0
  MAP_PROJECTION_TYPE = SINUSOIDAL
  MAP_RESOLUTION = 4741.71043093333
  MAP_SCALE = 0.0125
  MAXIMUM_LATITUDE = 38.1362
  MINIMUM_LATITUDE = 30.1636
  POSITIVE_LONGITUDE_DIRECTION = EAST
  REFERENCE_LATITUDE = "N/A"
  REFERENCE_LONGITUDE = "N/A"
  SAMPLE_FIRST_PIXEL = 1
  SAMPLE_LAST_PIXEL = 6629
  SAMPLE_PROJECTION_OFFSET = 4182.0
  SECOND_STANDARD_PARALLEL = "N/A"
  WESTERNMOST_LONGITUDE = 205.89
END_OBJECT = IMAGE_MAP_PROJECTION
END
