PDS_VERSION_ID = PDS3
/* FILE DATA ELEMENTS */
RECORD_TYPE = UNDEFINED
/* POINTERS TO DATA OBJECTS */
^IMAGE = ("HH813_0000_S14.TIF")
/* IDENTIFICATION DATA ELEMENTS */
DATA_SET_ID = "MEX-M-HRSC-4-REFDR-MAPPROJECT-EXT6-V4.0"
DATA_SET_NAME = "MARS EXPRESS HRSC MAP PROJECTED REFDR EXTENSION6 V4.0"
DETECTOR_ID = MEX_HRSC_S1
EVENT_TYPE = "MARS-LOCAL-STEREO-Vo-Te-Eo"
INSTRUMENT_HOST_ID = MEX
INSTRUMENT_HOST_NAME = "MARS EXPRESS"
INSTRUMENT_ID = HRSC
INSTRUMENT_NAME = "HIGH RESOLUTION STEREO CAMERA"
MISSION_NAME = "MARS EXPRESS"
MISSION_PHASE_NAME = ME_Phase_38
PROCESSING_LEVEL_ID = 4
PRODUCT_CREATION_TIME = 2023-01-28T19:29:54.000Z
PRODUCT_ID = "HH813_0000_S14.TIF"
RELEASE_ID = 0003
REVISION_ID = 0000
/* QUALITY DATA ELEMENTS */
DATA_QUALITY_ID = 1
DATA_QUALITY_DESC = "Data calculated based on original SPICE kernels"
/* TIME DATA ELEMENTS */
SPACECRAFT_CLOCK_START_COUNT = "1/0465155482.09042"
SPACECRAFT_CLOCK_STOP_COUNT = "1/0465155700.56117"
START_TIME = 2018-01-27T17:51:31.322Z
STOP_TIME = 2018-01-27T17:53:37.056Z
/* ORBITAL DATA ELEMENTS */
ASCENDING_NODE_LONGITUDE = 239.69
MAXIMUM_RESOLUTION = 0.0335
FOOTPRINT_POINT_LATITUDE = (15.1525,15.1737,15.1883,15.2023, 15.2156,15.2283,15.2404,15.2411,15.2173 ,15.0594,14.9015,14.7436,14.5856, 14.4276,14.1118,13.9538,13.7958,13.4803 ,13.2436,12.7704,12.4548,12.2183, 11.8995,11.6567,11.4948,11.2522,11.0904 ,10.9289,10.7671,10.5247,10.2777, 10.1119,9.94614,9.78027,9.532,9.36637, 9.20099,9.03535,8.7811,8.61152,8.357, 8.18617,8.01654,7.76232,7.50384,7.3303, 7.15681,7.07008,7.02359,7.01019,6.996, 6.98129,6.96597,6.94998,6.92719,6.92611 ,6.92629,7.18644,7.35987,7.61979, 7.78938,7.959,8.21301,8.46878,8.6397, 8.80644,8.97845,9.14382,9.30857,9.47479 ,9.72391,9.89056,10.0556,10.2228, 10.3883,10.5502,10.7924,10.9549,11.1167 ,11.279,11.4397,11.6014,11.7645,11.9253 ,12.0837,12.3992,12.6359,12.9516, 13.3464,13.5043,13.6624,13.8204,14.1362 ,14.2942,14.5312,14.6892,14.8474, 15.0056,15.0846,15.1525)
FOOTPRINT_POINT_LONGITUDE = (159.888,159.572,159.344,159.119, 158.896,158.676,158.457,158.444,158.442 ,158.439,158.436,158.434,158.431, 158.428,158.422,158.419,158.416,158.41, 158.405,158.395,158.389,158.384,158.377 ,158.371,158.368,158.362,158.359, 158.355,158.351,158.346,158.34,158.336, 158.332,158.328,158.322,158.318,158.314 ,158.31,158.303,158.299,158.292,158.288 ,158.284,158.277,158.27,158.265,158.261 ,158.258,158.257,158.5,158.746,158.993, 159.243,159.496,159.847,159.864,159.869 ,159.87,159.871,159.871,159.872,159.872 ,159.874,159.874,159.873,159.876, 159.874,159.875,159.876,159.877,159.878 ,159.878,159.879,159.879,159.88,159.88, 159.882,159.882,159.883,159.883,159.885 ,159.886,159.886,159.888,159.888,159.89 ,159.891,159.893,159.895,159.896, 159.897,159.898,159.9,159.901,159.903, 159.904,159.905,159.906,159.907, 159.888)
ORBIT_NUMBER = 17813
ORBITAL_ECCENTRICITY = 0.575
ORBITAL_INCLINATION = 86.96
ORBITAL_SEMIMAJOR_AXIS = 8824.09
PERIAPSIS_ALTITUDE = 362.77
PERIAPSIS_ARGUMENT_ANGLE = 150.25
PERIAPSIS_TIME = 2018-01-27T17:48:21.000Z
SPACECRAFT_ORIENTATION = (0.0,-1.0,0.0)
^MEX_ORIENTATION_DESC = "MEX_ORIENTATION_DESC.TXT"
SPACECRAFT_POINTING_MODE = ACROSSTRACK
^MEX_POINTING_DESC = "MEX_POINTING_DESC.TXT"
RIGHT_ASCENSION = -1e+32
DECLINATION = -1e+32
OFFSET_ANGLE = 0.916
SPACECRAFT_SOLAR_DISTANCE = 2.40386e+08
TARGET_NAME = MARS
/* CAMERA DATA ELEMENTS */
DETECTOR_TEMPERATURE = 18.3705
FOCAL_PLANE_TEMPERATURE = 8.5833
INST_CMPRS_NAME = "DISCRETE COSINE TRANSFORMATION (DCT)"
INST_CMPRS_RATIO = 7.36391
INST_CMPRS_QUALITY = 0
INST_CMPRS_QUANTZ_TBL_ID = 0
INSTRUMENT_TEMPERATURE = 11.6418
LENS_TEMPERATURE = 9.3989
MACROPIXEL_SIZE = 2
MISSING_FRAMES = 0
PIXEL_SUBSAMPLING_FLAG = N
SIGNAL_CHAIN_ID = 1
/* RADIOMETRIC DATA ELEMENTS */
BANDWIDTH = 180.0
CENTER_FILTER_WAVELENGTH = 677.0
RADIANCE_OFFSET = 1.63904
RADIANCE_SCALING_FACTOR = 0.0174663
REFLECTANCE_SCALING_FACTOR = 0.000526574
MEX:REFLECTANCE_OFFSET = 0.0494137
/* IMAGE OBJECT DEFINITIONS */
OBJECT = IMAGE
  INTERCHANGE_FORMAT = BINARY
  LINES = 19481
  LINE_SAMPLES = 3973
  SAMPLE_TYPE = UNSIGNED_INTEGER
  SAMPLE_BITS = 8
  BANDS = 1
  BAND_STORAGE_TYPE = BAND_SEQUENTIAL
  MAXIMUM = 255
  MEAN = 124.039
  MINIMUM = 1
  STANDARD_DEVIATION = 24.8676
END_OBJECT = IMAGE
/* MAP OBJECT DEFINITIONS */
OBJECT = IMAGE_MAP_PROJECTION
  ^DATA_SET_MAP_PROJECTION_CATALOG= "DSMAP.CAT"
  A_AXIS_RADIUS = 3396.0
  B_AXIS_RADIUS = 3396.0
  C_AXIS_RADIUS = 3396.0
  CENTER_LATITUDE = 0.0
  CENTER_LONGITUDE = 159.0
  COORDINATE_SYSTEM_NAME = PLANETOGRAPHIC
  COORDINATE_SYSTEM_TYPE = "BODY-FIXED ROTATING"
  EASTERNMOST_LONGITUDE = 159.907
  FIRST_STANDARD_PARALLEL = "N/A"
  LINE_FIRST_PIXEL = 1
  LINE_LAST_PIXEL = 19481
  LINE_PROJECTION_OFFSET = 36046.75
  MAP_PROJECTION_ROTATION = 0.0
  MAP_PROJECTION_TYPE = SINUSOIDAL
  MAP_RESOLUTION = 2370.85521546667
  MAP_SCALE = 0.025
  MAXIMUM_LATITUDE = 15.2411
  MINIMUM_LATITUDE = 6.92611
  POSITIVE_LONGITUDE_DIRECTION = EAST
  REFERENCE_LATITUDE = "N/A"
  REFERENCE_LONGITUDE = "N/A"
  SAMPLE_FIRST_PIXEL = 1
  SAMPLE_LAST_PIXEL = 3973
  SAMPLE_PROJECTION_OFFSET = 1862.25
  SECOND_STANDARD_PARALLEL = "N/A"
  WESTERNMOST_LONGITUDE = 158.257
END_OBJECT = IMAGE_MAP_PROJECTION
END
