PDS_VERSION_ID = PDS3
/* FILE DATA ELEMENTS */
RECORD_TYPE = UNDEFINED
/* POINTERS TO DATA OBJECTS */
^IMAGE = ("HH815_0000_ND4.TIF")
/* IDENTIFICATION DATA ELEMENTS */
DATA_SET_ID = "MEX-M-HRSC-4-REFDR-MAPPROJECT-EXT6-V4.0"
DATA_SET_NAME = "MARS EXPRESS HRSC MAP PROJECTED REFDR EXTENSION6 V4.0"
DETECTOR_ID = MEX_HRSC_NADIR
EVENT_TYPE = "MARS-REGIONAL-MAPPING-Vo-Fl-La"
INSTRUMENT_HOST_ID = MEX
INSTRUMENT_HOST_NAME = "MARS EXPRESS"
INSTRUMENT_ID = HRSC
INSTRUMENT_NAME = "HIGH RESOLUTION STEREO CAMERA"
MISSION_NAME = "MARS EXPRESS"
MISSION_PHASE_NAME = ME_Phase_38
PROCESSING_LEVEL_ID = 4
PRODUCT_CREATION_TIME = 2023-01-28T19:29:54.000Z
PRODUCT_ID = "HH815_0000_ND4.TIF"
RELEASE_ID = 0003
REVISION_ID = 0000
/* QUALITY DATA ELEMENTS */
DATA_QUALITY_ID = 1
DATA_QUALITY_DESC = "Data calculated based on original SPICE kernels"
/* TIME DATA ELEMENTS */
SPACECRAFT_CLOCK_START_COUNT = "1/0465205556.08242"
SPACECRAFT_CLOCK_STOP_COUNT = "1/0465205782.00521"
START_TIME = 2018-01-28T07:46:38.021Z
STOP_TIME = 2018-01-28T07:49:13.017Z
/* ORBITAL DATA ELEMENTS */
ASCENDING_NODE_LONGITUDE = 239.66
MAXIMUM_RESOLUTION = 0.0146
FOOTPRINT_POINT_LATITUDE = (29.4874,29.4883,29.4881,29.4876, 29.4867,29.4849,29.4848,29.4854,29.2036 ,29.0157,28.7339,28.5461,28.3583, 28.1705,27.9826,27.7949,27.6071,27.4193 ,27.2316,27.0439,26.6685,26.2933, 25.9182,25.5432,25.1683,24.7936,24.419, 24.0447,23.6705,23.2965,22.9688,22.7458 ,22.5229,22.3001,22.0774,21.8548, 21.6323,21.4098,21.1875,20.9653,20.7431 ,20.5211,20.2992,20.0773,19.8556,19.634 ,19.5233,19.5218,19.5212,19.5203, 19.5188,19.517,19.5136,19.5134,19.5136, 19.7354,19.9573,20.1793,20.4014,20.6236 ,20.8459,21.0684,21.2909,21.5135, 21.7362,21.959,22.1819,22.4049,22.628, 22.8512,23.0744,23.2911,23.6654,24.04, 24.4148,24.7897,25.1649,25.634,25.8217, 26.0094,26.1972,26.385,26.5729,26.7607, 26.9486,27.1365,27.3245,27.5124,27.7004 ,27.8884,28.0764,28.2645,28.4525, 28.6406,28.8287,29.0167,29.2048,29.3929 ,29.487,29.4874)
FOOTPRINT_POINT_LONGITUDE = (315.168,314.735,314.506,314.279, 314.053,313.743,313.729,313.717,313.72, 313.721,313.723,313.724,313.726,313.727 ,313.728,313.729,313.73,313.73,313.731, 313.732,313.733,313.734,313.734,313.734 ,313.734,313.734,313.733,313.733, 313.731,313.73,313.729,313.727,313.726, 313.725,313.724,313.722,313.721,313.719 ,313.717,313.716,313.714,313.712,313.71 ,313.708,313.705,313.703,313.702, 313.702,313.927,314.167,314.451,314.723 ,315.127,315.141,315.148,315.149,315.15 ,315.151,315.152,315.153,315.154, 315.155,315.156,315.157,315.159,315.16, 315.161,315.162,315.163,315.164,315.165 ,315.166,315.168,315.17,315.172,315.174 ,315.176,315.179,315.18,315.181,315.182 ,315.183,315.184,315.185,315.186, 315.187,315.189,315.19,315.191,315.192, 315.193,315.194,315.195,315.196,315.197 ,315.198,315.199,315.2,315.201,315.168)
ORBIT_NUMBER = 17815
ORBITAL_ECCENTRICITY = 0.575
ORBITAL_INCLINATION = 86.97
ORBITAL_SEMIMAJOR_AXIS = 8822.88
PERIAPSIS_ALTITUDE = 362.55
PERIAPSIS_ARGUMENT_ANGLE = 149.9
PERIAPSIS_TIME = 2018-01-28T07:46:29.000Z
SPACECRAFT_ORIENTATION = (0.0,-1.0,0.0)
^MEX_ORIENTATION_DESC = "MEX_ORIENTATION_DESC.TXT"
SPACECRAFT_POINTING_MODE = ACROSSTRACK
^MEX_POINTING_DESC = "MEX_POINTING_DESC.TXT"
RIGHT_ASCENSION = -1e+32
DECLINATION = -1e+32
OFFSET_ANGLE = 0.45
SPACECRAFT_SOLAR_DISTANCE = 2.40299e+08
TARGET_NAME = MARS
/* CAMERA DATA ELEMENTS */
DETECTOR_TEMPERATURE = 18.5744
FOCAL_PLANE_TEMPERATURE = 9.195
INST_CMPRS_NAME = "DISCRETE COSINE TRANSFORMATION (DCT)"
INST_CMPRS_RATIO = 5.392
INST_CMPRS_QUALITY = 0
INST_CMPRS_QUANTZ_TBL_ID = 0
INSTRUMENT_TEMPERATURE = 11.8457
LENS_TEMPERATURE = 9.8067
MACROPIXEL_SIZE = 1
MISSING_FRAMES = 0
PIXEL_SUBSAMPLING_FLAG = N
SIGNAL_CHAIN_ID = 0
/* RADIOMETRIC DATA ELEMENTS */
BANDWIDTH = 177.0
CENTER_FILTER_WAVELENGTH = 677.5
RADIANCE_OFFSET = 1.52974
RADIANCE_SCALING_FACTOR = 0.0125433
REFLECTANCE_SCALING_FACTOR = 0.000384768
MEX:REFLECTANCE_OFFSET = 0.0469249
/* IMAGE OBJECT DEFINITIONS */
OBJECT = IMAGE
  INTERCHANGE_FORMAT = BINARY
  LINES = 47303
  LINE_SAMPLES = 6465
  SAMPLE_TYPE = UNSIGNED_INTEGER
  SAMPLE_BITS = 8
  BANDS = 1
  BAND_STORAGE_TYPE = BAND_SEQUENTIAL
  MAXIMUM = 255
  MEAN = 101.458
  MINIMUM = 1
  STANDARD_DEVIATION = 14.1617
END_OBJECT = IMAGE
/* MAP OBJECT DEFINITIONS */
OBJECT = IMAGE_MAP_PROJECTION
  ^DATA_SET_MAP_PROJECTION_CATALOG= "DSMAP.CAT"
  A_AXIS_RADIUS = 3396.0
  B_AXIS_RADIUS = 3396.0
  C_AXIS_RADIUS = 3396.0
  CENTER_LATITUDE = 0.0
  CENTER_LONGITUDE = 314.0
  COORDINATE_SYSTEM_NAME = PLANETOGRAPHIC
  COORDINATE_SYSTEM_TYPE = "BODY-FIXED ROTATING"
  EASTERNMOST_LONGITUDE = 315.201
  FIRST_STANDARD_PARALLEL = "N/A"
  LINE_FIRST_PIXEL = 1
  LINE_LAST_PIXEL = 47303
  LINE_PROJECTION_OFFSET = 139829.0
  MAP_PROJECTION_ROTATION = 0.0
  MAP_PROJECTION_TYPE = SINUSOIDAL
  MAP_RESOLUTION = 4741.71043093333
  MAP_SCALE = 0.0125
  MAXIMUM_LATITUDE = 29.4883
  MINIMUM_LATITUDE = 19.5134
  POSITIVE_LONGITUDE_DIRECTION = EAST
  REFERENCE_LATITUDE = "N/A"
  REFERENCE_LONGITUDE = "N/A"
  SAMPLE_FIRST_PIXEL = 1
  SAMPLE_LAST_PIXEL = 6465
  SAMPLE_PROJECTION_OFFSET = 1332.0
  SECOND_STANDARD_PARALLEL = "N/A"
  WESTERNMOST_LONGITUDE = 313.702
END_OBJECT = IMAGE_MAP_PROJECTION
END
