PDS_VERSION_ID = PDS3
/* FILE DATA ELEMENTS */
RECORD_TYPE = UNDEFINED
/* POINTERS TO DATA OBJECTS */
^IMAGE = ("HH817_0009_S14.TIF")
/* IDENTIFICATION DATA ELEMENTS */
DATA_SET_ID = "MEX-M-HRSC-4-REFDR-MAPPROJECT-EXT6-V4.0"
DATA_SET_NAME = "MARS EXPRESS HRSC MAP PROJECTED REFDR EXTENSION6 V4.0"
DETECTOR_ID = MEX_HRSC_S1
EVENT_TYPE = "MARS-REGIONAL-STEREO-Vo-Mw"
INSTRUMENT_HOST_ID = MEX
INSTRUMENT_HOST_NAME = "MARS EXPRESS"
INSTRUMENT_ID = HRSC
INSTRUMENT_NAME = "HIGH RESOLUTION STEREO CAMERA"
MISSION_NAME = "MARS EXPRESS"
MISSION_PHASE_NAME = ME_Phase_38
PROCESSING_LEVEL_ID = 4
PRODUCT_CREATION_TIME = 2023-01-28T19:29:54.000Z
PRODUCT_ID = "HH817_0009_S14.TIF"
RELEASE_ID = 0003
REVISION_ID = 0000
/* QUALITY DATA ELEMENTS */
DATA_QUALITY_ID = 1
DATA_QUALITY_DESC = "Data calculated based on original SPICE kernels"
/* TIME DATA ELEMENTS */
SPACECRAFT_CLOCK_START_COUNT = "1/0465255999.08462"
SPACECRAFT_CLOCK_STOP_COUNT = "1/0465256156.65198"
START_TIME = 2018-01-28T21:46:48.279Z
STOP_TIME = 2018-01-28T21:48:07.654Z
/* ORBITAL DATA ELEMENTS */
ASCENDING_NODE_LONGITUDE = 239.62
MAXIMUM_RESOLUTION = 0.016
FOOTPRINT_POINT_LATITUDE = (19.9049,19.9061,19.907,19.908,19.9087, 19.9086,19.9082,19.9072,19.9071,19.8719 ,19.7166,19.5613,19.3543,19.1988, 19.0435,18.8884,18.6811,18.5773,18.4737 ,18.3702,18.2665,18.1111,18.0076, 17.8528,17.6978,17.5942,17.4903,17.3866 ,17.1798,17.0251,16.87,16.7149,16.5081, 16.3523,16.1971,16.0416,15.9378,15.7827 ,15.6791,15.5238,15.3686,15.11,14.9549, 14.8514,14.748,14.6961,14.6936,14.6941, 14.694,14.6938,14.6929,14.6921,14.6912, 14.6899,14.6888,14.6872,14.6851,14.6849 ,14.6851,14.8405,14.9443,15.0998, 15.2036,15.359,15.4631,15.5666,15.6702, 15.774,15.8778,16.0331,16.1887,16.2924, 16.4475,16.5517,16.7061,16.8607,17.0161 ,17.1197,17.2753,17.3789,17.4829, 17.5868,17.6905,17.8458,17.9495,18.1048 ,18.26,18.3637,18.4673,18.6231,18.7787, 18.9342,19.0379,19.1934,19.2971,19.4526 ,19.6081,19.8152,19.8672,19.9049)
FOOTPRINT_POINT_LONGITUDE = (110.327,110.177,110.04,109.835,109.574 ,109.355,109.177,108.958,108.944, 108.927,108.926,108.925,108.924,108.923 ,108.922,108.921,108.92,108.919,108.918 ,108.917,108.916,108.915,108.914, 108.913,108.912,108.911,108.91,108.909, 108.907,108.906,108.904,108.903,108.901 ,108.899,108.897,108.895,108.894, 108.892,108.891,108.889,108.887,108.884 ,108.882,108.881,108.879,108.878, 108.878,109.093,109.221,109.336,109.507 ,109.621,109.735,109.878,109.992, 110.135,110.307,110.321,110.328,110.328 ,110.328,110.329,110.329,110.329, 110.329,110.329,110.33,110.33,110.33, 110.33,110.331,110.331,110.331,110.331, 110.332,110.332,110.333,110.333,110.333 ,110.334,110.334,110.334,110.334, 110.334,110.335,110.335,110.335,110.336 ,110.336,110.336,110.336,110.337, 110.337,110.337,110.338,110.338,110.338 ,110.339,110.339,110.327)
ORBIT_NUMBER = 17817
ORBITAL_ECCENTRICITY = 0.575
ORBITAL_INCLINATION = 86.96
ORBITAL_SEMIMAJOR_AXIS = 8830.8
PERIAPSIS_ALTITUDE = 362.14
PERIAPSIS_ARGUMENT_ANGLE = 149.53
PERIAPSIS_TIME = 2018-01-28T21:44:38.000Z
SPACECRAFT_ORIENTATION = (0.0,-1.0,0.0)
^MEX_ORIENTATION_DESC = "MEX_ORIENTATION_DESC.TXT"
SPACECRAFT_POINTING_MODE = NADIR
^MEX_POINTING_DESC = "MEX_POINTING_DESC.TXT"
RIGHT_ASCENSION = -1e+32
DECLINATION = -1e+32
OFFSET_ANGLE = -1e+32
SPACECRAFT_SOLAR_DISTANCE = 2.40211e+08
TARGET_NAME = MARS
/* CAMERA DATA ELEMENTS */
DETECTOR_TEMPERATURE = 17.9627
FOCAL_PLANE_TEMPERATURE = 8.5833
INST_CMPRS_NAME = "DISCRETE COSINE TRANSFORMATION (DCT)"
INST_CMPRS_RATIO = 7.95016
INST_CMPRS_QUALITY = 0
INST_CMPRS_QUANTZ_TBL_ID = 0
INSTRUMENT_TEMPERATURE = 11.8457
LENS_TEMPERATURE = 9.8067
MACROPIXEL_SIZE = 1
MISSING_FRAMES = 0
PIXEL_SUBSAMPLING_FLAG = N
SIGNAL_CHAIN_ID = 2
/* RADIOMETRIC DATA ELEMENTS */
BANDWIDTH = 180.0
CENTER_FILTER_WAVELENGTH = 677.0
RADIANCE_OFFSET = 2.56539
RADIANCE_SCALING_FACTOR = 0.013997
REFLECTANCE_SCALING_FACTOR = 0.000421368
MEX:REFLECTANCE_OFFSET = 0.0772289
/* IMAGE OBJECT DEFINITIONS */
OBJECT = IMAGE
  INTERCHANGE_FORMAT = BINARY
  LINES = 24666
  LINE_SAMPLES = 6846
  SAMPLE_TYPE = UNSIGNED_INTEGER
  SAMPLE_BITS = 8
  BANDS = 1
  BAND_STORAGE_TYPE = BAND_SEQUENTIAL
  MAXIMUM = 255
  MEAN = 105.447
  MINIMUM = 1
  STANDARD_DEVIATION = 11.4037
END_OBJECT = IMAGE
/* MAP OBJECT DEFINITIONS */
OBJECT = IMAGE_MAP_PROJECTION
  ^DATA_SET_MAP_PROJECTION_CATALOG= "DSMAP.CAT"
  A_AXIS_RADIUS = 3396.0
  B_AXIS_RADIUS = 3396.0
  C_AXIS_RADIUS = 3396.0
  CENTER_LATITUDE = 0.0
  CENTER_LONGITUDE = 110.0
  COORDINATE_SYSTEM_NAME = PLANETOGRAPHIC
  COORDINATE_SYSTEM_TYPE = "BODY-FIXED ROTATING"
  EASTERNMOST_LONGITUDE = 110.339
  FIRST_STANDARD_PARALLEL = "N/A"
  LINE_FIRST_PIXEL = 1
  LINE_LAST_PIXEL = 24666
  LINE_PROJECTION_OFFSET = 94389.0
  MAP_PROJECTION_ROTATION = 0.0
  MAP_PROJECTION_TYPE = SINUSOIDAL
  MAP_RESOLUTION = 4741.71043093333
  MAP_SCALE = 0.0125
  MAXIMUM_LATITUDE = 19.9087
  MINIMUM_LATITUDE = 14.6849
  POSITIVE_LONGITUDE_DIRECTION = EAST
  REFERENCE_LATITUDE = "N/A"
  REFERENCE_LONGITUDE = "N/A"
  SAMPLE_FIRST_PIXEL = 1
  SAMPLE_LAST_PIXEL = 6846
  SAMPLE_PROJECTION_OFFSET = 5250.0
  SECOND_STANDARD_PARALLEL = "N/A"
  WESTERNMOST_LONGITUDE = 108.878
END_OBJECT = IMAGE_MAP_PROJECTION
END
