PDS_VERSION_ID = PDS3
/* FILE DATA ELEMENTS */
RECORD_TYPE = UNDEFINED
/* POINTERS TO DATA OBJECTS */
^IMAGE = ("HH817_0009_S24.TIF")
/* IDENTIFICATION DATA ELEMENTS */
DATA_SET_ID = "MEX-M-HRSC-4-REFDR-MAPPROJECT-EXT6-V4.0"
DATA_SET_NAME = "MARS EXPRESS HRSC MAP PROJECTED REFDR EXTENSION6 V4.0"
DETECTOR_ID = MEX_HRSC_S2
EVENT_TYPE = "MARS-REGIONAL-STEREO-Vo-Mw"
INSTRUMENT_HOST_ID = MEX
INSTRUMENT_HOST_NAME = "MARS EXPRESS"
INSTRUMENT_ID = HRSC
INSTRUMENT_NAME = "HIGH RESOLUTION STEREO CAMERA"
MISSION_NAME = "MARS EXPRESS"
MISSION_PHASE_NAME = ME_Phase_38
PROCESSING_LEVEL_ID = 4
PRODUCT_CREATION_TIME = 2023-01-28T19:29:54.000Z
PRODUCT_ID = "HH817_0009_S24.TIF"
RELEASE_ID = 0003
REVISION_ID = 0000
/* QUALITY DATA ELEMENTS */
DATA_QUALITY_ID = 1
DATA_QUALITY_DESC = "Data calculated based on original SPICE kernels"
/* TIME DATA ELEMENTS */
SPACECRAFT_CLOCK_START_COUNT = "1/0465255999.08462"
SPACECRAFT_CLOCK_STOP_COUNT = "1/0465256156.65198"
START_TIME = 2018-01-28T21:47:58.280Z
STOP_TIME = 2018-01-28T21:49:24.162Z
/* ORBITAL DATA ELEMENTS */
ASCENDING_NODE_LONGITUDE = 239.62
MAXIMUM_RESOLUTION = 0.017
FOOTPRINT_POINT_LATITUDE = (19.8927,19.8935,19.8942,19.8948, 19.8953,19.8962,19.8968,19.8974,19.8981 ,19.8987,19.8993,19.9001,19.9002, 19.9369,19.8329,19.7292,19.5738,19.4701 ,19.3666,19.2115,18.9532,18.8498, 18.6947,18.3862,18.1807,18.0267,17.8213 ,17.5134,17.3602,17.0534,16.8482, 16.6919,16.5873,16.4307,16.2743,16.17, 16.066,15.9621,15.8581,15.754,15.6501, 15.5464,15.3896,15.2832,15.1763,15.07, 14.9636,14.8046,14.7517,14.7383,14.7364 ,14.7343,14.7319,14.7309,14.7297, 14.7288,14.7275,14.7266,14.7257,14.7246 ,14.7245,14.7247,14.8838,14.9897, 15.0959,15.2551,15.3615,15.5191,15.6229 ,15.7269,15.8832,15.9874,16.1439, 16.3007,16.4052,16.5618,16.6663,16.7716 ,16.9273,17.1827,17.3361,17.4897, 17.6946,17.8487,18.0546,18.158,18.364, 18.5185,18.6733,18.8798,19.0349,19.1901 ,19.2937,19.3972,19.5011,19.6048, 19.7607,19.8646,19.9164,19.8927)
FOOTPRINT_POINT_LONGITUDE = (110.366,110.207,110.047,109.931, 109.816,109.642,109.526,109.41,109.294, 109.178,109.062,108.917,108.902,108.884 ,108.883,108.882,108.881,108.88,108.879 ,108.877,108.874,108.873,108.872, 108.868,108.866,108.864,108.861,108.857 ,108.855,108.851,108.849,108.846, 108.845,108.843,108.84,108.838,108.837, 108.835,108.833,108.832,108.83,108.828, 108.825,108.824,108.822,108.82,108.818, 108.815,108.814,108.814,109.0,109.156, 109.373,109.497,109.621,109.761,109.916 ,110.071,110.18,110.366,110.382,110.389 ,110.389,110.388,110.388,110.388, 110.387,110.387,110.387,110.386,110.386 ,110.386,110.385,110.385,110.385, 110.384,110.384,110.384,110.384,110.384 ,110.383,110.383,110.382,110.382, 110.382,110.382,110.381,110.381,110.381 ,110.38,110.38,110.38,110.379,110.379, 110.379,110.379,110.379,110.378,110.378 ,110.366)
ORBIT_NUMBER = 17817
ORBITAL_ECCENTRICITY = 0.575
ORBITAL_INCLINATION = 86.96
ORBITAL_SEMIMAJOR_AXIS = 8830.8
PERIAPSIS_ALTITUDE = 362.14
PERIAPSIS_ARGUMENT_ANGLE = 149.53
PERIAPSIS_TIME = 2018-01-28T21:44:38.000Z
SPACECRAFT_ORIENTATION = (0.0,-1.0,0.0)
^MEX_ORIENTATION_DESC = "MEX_ORIENTATION_DESC.TXT"
SPACECRAFT_POINTING_MODE = NADIR
^MEX_POINTING_DESC = "MEX_POINTING_DESC.TXT"
RIGHT_ASCENSION = -1e+32
DECLINATION = -1e+32
OFFSET_ANGLE = -1e+32
SPACECRAFT_SOLAR_DISTANCE = 2.40211e+08
TARGET_NAME = MARS
/* CAMERA DATA ELEMENTS */
DETECTOR_TEMPERATURE = 18.5744
FOCAL_PLANE_TEMPERATURE = 8.5833
INST_CMPRS_NAME = "DISCRETE COSINE TRANSFORMATION (DCT)"
INST_CMPRS_RATIO = 7.54973
INST_CMPRS_QUALITY = 0
INST_CMPRS_QUANTZ_TBL_ID = 0
INSTRUMENT_TEMPERATURE = 11.8457
LENS_TEMPERATURE = 9.8067
MACROPIXEL_SIZE = 1
MISSING_FRAMES = 0
PIXEL_SUBSAMPLING_FLAG = N
SIGNAL_CHAIN_ID = 1
/* RADIOMETRIC DATA ELEMENTS */
BANDWIDTH = 178.0
CENTER_FILTER_WAVELENGTH = 679.0
RADIANCE_OFFSET = 2.51372
RADIANCE_SCALING_FACTOR = 0.0144879
REFLECTANCE_SCALING_FACTOR = 0.000442708
MEX:REFLECTANCE_OFFSET = 0.0768121
/* IMAGE OBJECT DEFINITIONS */
OBJECT = IMAGE
  INTERCHANGE_FORMAT = BINARY
  LINES = 24666
  LINE_SAMPLES = 6846
  SAMPLE_TYPE = UNSIGNED_INTEGER
  SAMPLE_BITS = 8
  BANDS = 1
  BAND_STORAGE_TYPE = BAND_SEQUENTIAL
  MAXIMUM = 255
  MEAN = 97.3736
  MINIMUM = 1
  STANDARD_DEVIATION = 11.497
END_OBJECT = IMAGE
/* MAP OBJECT DEFINITIONS */
OBJECT = IMAGE_MAP_PROJECTION
  ^DATA_SET_MAP_PROJECTION_CATALOG= "DSMAP.CAT"
  A_AXIS_RADIUS = 3396.0
  B_AXIS_RADIUS = 3396.0
  C_AXIS_RADIUS = 3396.0
  CENTER_LATITUDE = 0.0
  CENTER_LONGITUDE = 110.0
  COORDINATE_SYSTEM_NAME = PLANETOGRAPHIC
  COORDINATE_SYSTEM_TYPE = "BODY-FIXED ROTATING"
  EASTERNMOST_LONGITUDE = 110.389
  FIRST_STANDARD_PARALLEL = "N/A"
  LINE_FIRST_PIXEL = 1
  LINE_LAST_PIXEL = 24666
  LINE_PROJECTION_OFFSET = 94389.0
  MAP_PROJECTION_ROTATION = 0.0
  MAP_PROJECTION_TYPE = SINUSOIDAL
  MAP_RESOLUTION = 4741.71043093333
  MAP_SCALE = 0.0125
  MAXIMUM_LATITUDE = 19.9369
  MINIMUM_LATITUDE = 14.7245
  POSITIVE_LONGITUDE_DIRECTION = EAST
  REFERENCE_LATITUDE = "N/A"
  REFERENCE_LONGITUDE = "N/A"
  SAMPLE_FIRST_PIXEL = 1
  SAMPLE_LAST_PIXEL = 6846
  SAMPLE_PROJECTION_OFFSET = 5250.0
  SECOND_STANDARD_PARALLEL = "N/A"
  WESTERNMOST_LONGITUDE = 108.814
END_OBJECT = IMAGE_MAP_PROJECTION
END
