PDS_VERSION_ID = PDS3
/* FILE DATA ELEMENTS */
RECORD_TYPE = UNDEFINED
/* POINTERS TO DATA OBJECTS */
^IMAGE = ("HH820_0000_P14.TIF")
/* IDENTIFICATION DATA ELEMENTS */
DATA_SET_ID = "MEX-M-HRSC-4-REFDR-MAPPROJECT-EXT6-V4.0"
DATA_SET_NAME = "MARS EXPRESS HRSC MAP PROJECTED REFDR EXTENSION6 V4.0"
DETECTOR_ID = MEX_HRSC_P1
EVENT_TYPE = "MARS-LOCAL-STEREO-Fl-Gl-Pf"
INSTRUMENT_HOST_ID = MEX
INSTRUMENT_HOST_NAME = "MARS EXPRESS"
INSTRUMENT_ID = HRSC
INSTRUMENT_NAME = "HIGH RESOLUTION STEREO CAMERA"
MISSION_NAME = "MARS EXPRESS"
MISSION_PHASE_NAME = ME_Phase_38
PROCESSING_LEVEL_ID = 4
PRODUCT_CREATION_TIME = 2023-01-28T19:29:54.000Z
PRODUCT_ID = "HH820_0000_P14.TIF"
RELEASE_ID = 0003
REVISION_ID = 0000
/* QUALITY DATA ELEMENTS */
DATA_QUALITY_ID = 1
DATA_QUALITY_DESC = "Data calculated based on original SPICE kernels"
/* TIME DATA ELEMENTS */
SPACECRAFT_CLOCK_START_COUNT = "1/0465331128.08253"
SPACECRAFT_CLOCK_STOP_COUNT = "1/0465331320.49969"
START_TIME = 2018-01-29T18:39:10.051Z
STOP_TIME = 2018-01-29T18:41:12.924Z
/* ORBITAL DATA ELEMENTS */
ASCENDING_NODE_LONGITUDE = 239.56
MAXIMUM_RESOLUTION = 0.0304
FOOTPRINT_POINT_LATITUDE = (40.391,40.398,40.402,40.4052,40.4075, 40.4089,40.4096,40.4096,40.3641,40.1256 ,39.9666,39.8077,39.6486,39.4099, 39.2506,39.0909,38.8514,38.6919,38.5336 ,38.3722,38.2112,37.9696,37.8093, 37.5685,37.408,37.2474,37.0867,36.9259, 36.765,36.604,36.4431,36.2024,36.0402, 35.8787,35.7171,35.475,35.2325,35.0714, 34.8281,34.6657,34.503,34.3406,34.1783, 34.0161,33.8741,33.6019,33.3976,33.0569 ,32.8523,32.6477,32.5794,32.5786, 32.5768,32.5718,32.5648,32.5599,32.5522 ,32.5461,32.5456,32.5459,32.7509, 33.0923,33.365,33.7739,34.1483,34.3922, 34.5564,34.7194,34.8806,35.1233,35.2849 ,35.4468,35.61,35.7688,35.9312,36.095, 36.256,36.4202,36.5788,36.7399,36.9808, 37.1416,37.3822,37.543,37.7051,37.9473, 38.1096,38.2729,38.5162,38.7544,38.914, 39.0708,39.3106,39.47,39.7089,39.8682, 40.0256,40.2645,40.3439,40.391)
FOOTPRINT_POINT_LONGITUDE = (164.772,164.384,164.104,163.827, 163.552,163.279,163.008,162.991,162.988 ,162.997,163.003,163.009,163.014, 163.023,163.028,163.034,163.042,163.047 ,163.052,163.057,163.062,163.069, 163.074,163.081,163.085,163.09,163.094, 163.098,163.103,163.107,163.111,163.116 ,163.12,163.124,163.128,163.133,163.138 ,163.142,163.146,163.15,163.153,163.156 ,163.159,163.162,163.164,163.169, 163.172,163.177,163.18,163.183,163.184, 163.184,163.39,163.643,163.989,164.201, 164.508,164.725,164.74,164.746,164.748, 164.751,164.755,164.759,164.761,164.763 ,164.763,164.764,164.767,164.77,164.772 ,164.774,164.774,164.779,164.78,164.779 ,164.782,164.78,164.785,164.787,164.791 ,164.793,164.797,164.799,164.799,164.8, 164.8,164.798,164.798,164.803,164.805, 164.811,164.814,164.816,164.819,164.821 ,164.826,164.828,164.83,164.772)
ORBIT_NUMBER = 17820
ORBITAL_ECCENTRICITY = 0.574
ORBITAL_INCLINATION = 86.96
ORBITAL_SEMIMAJOR_AXIS = 8821.21
PERIAPSIS_ALTITUDE = 363.48
PERIAPSIS_ARGUMENT_ANGLE = 149.03
PERIAPSIS_TIME = 2018-01-29T18:42:00.000Z
SPACECRAFT_ORIENTATION = (0.0,-1.0,0.0)
^MEX_ORIENTATION_DESC = "MEX_ORIENTATION_DESC.TXT"
SPACECRAFT_POINTING_MODE = ACROSSTRACK
^MEX_POINTING_DESC = "MEX_POINTING_DESC.TXT"
RIGHT_ASCENSION = -1e+32
DECLINATION = -1e+32
OFFSET_ANGLE = 0.686
SPACECRAFT_SOLAR_DISTANCE = 2.40079e+08
TARGET_NAME = MARS
/* CAMERA DATA ELEMENTS */
DETECTOR_TEMPERATURE = 17.7588
FOCAL_PLANE_TEMPERATURE = 8.9911
INST_CMPRS_NAME = "DISCRETE COSINE TRANSFORMATION (DCT)"
INST_CMPRS_RATIO = 4.67931
INST_CMPRS_QUALITY = 0
INST_CMPRS_QUANTZ_TBL_ID = 0
INSTRUMENT_TEMPERATURE = 11.6418
LENS_TEMPERATURE = 9.6028
MACROPIXEL_SIZE = 2
MISSING_FRAMES = 0
PIXEL_SUBSAMPLING_FLAG = N
SIGNAL_CHAIN_ID = 3
/* RADIOMETRIC DATA ELEMENTS */
BANDWIDTH = 174.0
CENTER_FILTER_WAVELENGTH = 675.0
RADIANCE_OFFSET = 1.88056
RADIANCE_SCALING_FACTOR = 0.0262809
REFLECTANCE_SCALING_FACTOR = 0.000814768
MEX:REFLECTANCE_OFFSET = 0.0583016
/* IMAGE OBJECT DEFINITIONS */
OBJECT = IMAGE
  INTERCHANGE_FORMAT = BINARY
  LINES = 18476
  LINE_SAMPLES = 3285
  SAMPLE_TYPE = UNSIGNED_INTEGER
  SAMPLE_BITS = 8
  BANDS = 1
  BAND_STORAGE_TYPE = BAND_SEQUENTIAL
  MAXIMUM = 255
  MEAN = 120.871
  MINIMUM = 1
  STANDARD_DEVIATION = 27.9971
END_OBJECT = IMAGE
/* MAP OBJECT DEFINITIONS */
OBJECT = IMAGE_MAP_PROJECTION
  ^DATA_SET_MAP_PROJECTION_CATALOG= "DSMAP.CAT"
  A_AXIS_RADIUS = 3396.0
  B_AXIS_RADIUS = 3396.0
  C_AXIS_RADIUS = 3396.0
  CENTER_LATITUDE = 0.0
  CENTER_LONGITUDE = 164.0
  COORDINATE_SYSTEM_NAME = PLANETOGRAPHIC
  COORDINATE_SYSTEM_TYPE = "BODY-FIXED ROTATING"
  EASTERNMOST_LONGITUDE = 164.83
  FIRST_STANDARD_PARALLEL = "N/A"
  LINE_FIRST_PIXEL = 1
  LINE_LAST_PIXEL = 18476
  LINE_PROJECTION_OFFSET = 95730.75
  MAP_PROJECTION_ROTATION = 0.0
  MAP_PROJECTION_TYPE = SINUSOIDAL
  MAP_RESOLUTION = 2370.85521546667
  MAP_SCALE = 0.025
  MAXIMUM_LATITUDE = 40.4096
  MINIMUM_LATITUDE = 32.5456
  POSITIVE_LONGITUDE_DIRECTION = EAST
  REFERENCE_LATITUDE = "N/A"
  REFERENCE_LONGITUDE = "N/A"
  SAMPLE_FIRST_PIXEL = 1
  SAMPLE_LAST_PIXEL = 3285
  SAMPLE_PROJECTION_OFFSET = 1809.25
  SECOND_STANDARD_PARALLEL = "N/A"
  WESTERNMOST_LONGITUDE = 162.988
END_OBJECT = IMAGE_MAP_PROJECTION
END
