PDS_VERSION_ID = PDS3
/* FILE DATA ELEMENTS */
RECORD_TYPE = UNDEFINED
/* POINTERS TO DATA OBJECTS */
^IMAGE = ("HH828_0000_P24.TIF")
/* IDENTIFICATION DATA ELEMENTS */
DATA_SET_ID = "MEX-M-HRSC-4-REFDR-MAPPROJECT-EXT6-V4.0"
DATA_SET_NAME = "MARS EXPRESS HRSC MAP PROJECTED REFDR EXTENSION6 V4.0"
DETECTOR_ID = MEX_HRSC_P2
EVENT_TYPE = "MARS-REGIONAL-MAPPING-Im-Fl-Gl"
INSTRUMENT_HOST_ID = MEX
INSTRUMENT_HOST_NAME = "MARS EXPRESS"
INSTRUMENT_ID = HRSC
INSTRUMENT_NAME = "HIGH RESOLUTION STEREO CAMERA"
MISSION_NAME = "MARS EXPRESS"
MISSION_PHASE_NAME = ME_Phase_38
PROCESSING_LEVEL_ID = 4
PRODUCT_CREATION_TIME = 2023-01-28T19:29:54.000Z
PRODUCT_ID = "HH828_0000_P24.TIF"
RELEASE_ID = 0003
REVISION_ID = 0000
/* QUALITY DATA ELEMENTS */
DATA_QUALITY_ID = 1
DATA_QUALITY_DESC = "Data calculated based on original SPICE kernels"
/* TIME DATA ELEMENTS */
SPACECRAFT_CLOCK_START_COUNT = "1/0465532398.09054"
SPACECRAFT_CLOCK_STOP_COUNT = "1/0465532610.09880"
START_TIME = 2018-02-01T02:34:22.842Z
STOP_TIME = 2018-02-01T02:36:45.426Z
/* ORBITAL DATA ELEMENTS */
ASCENDING_NODE_LONGITUDE = 239.42
MAXIMUM_RESOLUTION = 0.03
FOOTPRINT_POINT_LATITUDE = (35.0198,35.0114,35.005,34.9983,34.9915 ,34.9844,34.977,34.9766,35.0111,34.8338 ,34.6545,34.3874,34.2078,34.0278, 33.7592,33.4917,33.2222,32.9568,32.7774 ,32.511,32.3335,32.1562,31.8914,31.7129 ,31.4466,31.1801,30.8315,30.6514, 30.4711,30.2941,30.1171,29.7652,29.5883 ,29.3237,29.1467,28.7954,28.5305, 28.3538,28.1782,27.9146,27.7389,27.4295 ,27.2202,27.0112,26.8019,26.4917, 26.2817,25.9704,25.8662,25.8472,25.8551 ,25.8634,25.8718,25.8761,25.8801, 25.8804,25.881,26.0893,26.2977,26.5058, 26.8194,27.0282,27.237,27.4487,27.7613, 28.1099,28.2863,28.4622,28.6387,28.816, 29.0801,29.2568,29.4329,29.6088,29.8734 ,30.2252,30.403,30.5799,30.8456,31.0239 ,31.2906,31.4681,31.6458,31.9121, 32.1787,32.4457,32.6241,32.8013,32.9787 ,33.2459,33.4247,33.6055,33.7833, 33.9594,34.23,34.4115,34.5904,34.9494, 35.0376,35.0198)
FOOTPRINT_POINT_LONGITUDE = (67.5637,67.2235,66.9791,66.7368,66.497 ,66.2592,66.0232,66.0086,66.0066, 66.0093,66.0119,66.0156,66.0179,66.0201 ,66.0233,66.0263,66.0291,66.0319, 66.0335,66.036,66.0376,66.0391,66.0412, 66.0424,66.0442,66.0458,66.0481,66.0487 ,66.0492,66.0499,66.0505,66.0517, 66.0521,66.0526,66.0529,66.0533,66.0533 ,66.0532,66.0531,66.0529,66.0527,66.052 ,66.0516,66.051,66.0503,66.0493,66.0484 ,66.047,66.0464,66.0463,66.3406,66.6672 ,67.0414,67.3025,67.5081,67.5229, 67.5282,67.5293,67.5303,67.5309,67.5329 ,67.5339,67.5347,67.5385,67.541,67.54, 67.5417,67.5428,67.5443,67.5468,67.5482 ,67.5498,67.5506,67.551,67.5525,67.5529 ,67.5552,67.5564,67.5583,67.5608, 67.5637,67.5652,67.5668,67.5687,67.571, 67.5735,67.5756,67.5762,67.5769,67.5793 ,67.5815,67.586,67.5871,67.5859,67.5918 ,67.5969,67.599,67.6044,67.6039, 67.5637)
ORBIT_NUMBER = 17828
ORBITAL_ECCENTRICITY = 0.575
ORBITAL_INCLINATION = 86.97
ORBITAL_SEMIMAJOR_AXIS = 8827.44
PERIAPSIS_ALTITUDE = 363.27
PERIAPSIS_ARGUMENT_ANGLE = 147.63
PERIAPSIS_TIME = 2018-02-01T02:34:42.000Z
SPACECRAFT_ORIENTATION = (0.0,-1.0,0.0)
^MEX_ORIENTATION_DESC = "MEX_ORIENTATION_DESC.TXT"
SPACECRAFT_POINTING_MODE = ACROSSTRACK
^MEX_POINTING_DESC = "MEX_POINTING_DESC.TXT"
RIGHT_ASCENSION = -1e+32
DECLINATION = -1e+32
OFFSET_ANGLE = 0.727
SPACECRAFT_SOLAR_DISTANCE = 2.39722e+08
TARGET_NAME = MARS
/* CAMERA DATA ELEMENTS */
DETECTOR_TEMPERATURE = 19.1861
FOCAL_PLANE_TEMPERATURE = 8.5833
INST_CMPRS_NAME = "DISCRETE COSINE TRANSFORMATION (DCT)"
INST_CMPRS_RATIO = 3.78868
INST_CMPRS_QUALITY = 0
INST_CMPRS_QUANTZ_TBL_ID = 0
INSTRUMENT_TEMPERATURE = 11.8457
LENS_TEMPERATURE = 9.3989
MACROPIXEL_SIZE = 2
MISSING_FRAMES = 0
PIXEL_SUBSAMPLING_FLAG = N
SIGNAL_CHAIN_ID = 3
/* RADIOMETRIC DATA ELEMENTS */
BANDWIDTH = 177.0
CENTER_FILTER_WAVELENGTH = 676.5
RADIANCE_OFFSET = 1.67721
RADIANCE_SCALING_FACTOR = 0.0230206
REFLECTANCE_SCALING_FACTOR = 0.000701441
MEX:REFLECTANCE_OFFSET = 0.051105
/* IMAGE OBJECT DEFINITIONS */
OBJECT = IMAGE
  INTERCHANGE_FORMAT = BINARY
  LINES = 21747
  LINE_SAMPLES = 3183
  SAMPLE_TYPE = UNSIGNED_INTEGER
  SAMPLE_BITS = 8
  BANDS = 1
  BAND_STORAGE_TYPE = BAND_SEQUENTIAL
  MAXIMUM = 255
  MEAN = 135.348
  MINIMUM = 1
  STANDARD_DEVIATION = 24.2924
END_OBJECT = IMAGE
/* MAP OBJECT DEFINITIONS */
OBJECT = IMAGE_MAP_PROJECTION
  ^DATA_SET_MAP_PROJECTION_CATALOG= "DSMAP.CAT"
  A_AXIS_RADIUS = 3396.0
  B_AXIS_RADIUS = 3396.0
  C_AXIS_RADIUS = 3396.0
  CENTER_LATITUDE = 0.0
  CENTER_LONGITUDE = 67.0
  COORDINATE_SYSTEM_NAME = PLANETOGRAPHIC
  COORDINATE_SYSTEM_TYPE = "BODY-FIXED ROTATING"
  EASTERNMOST_LONGITUDE = 67.6044
  FIRST_STANDARD_PARALLEL = "N/A"
  LINE_FIRST_PIXEL = 1
  LINE_LAST_PIXEL = 21747
  LINE_PROJECTION_OFFSET = 83056.25
  MAP_PROJECTION_ROTATION = 0.0
  MAP_PROJECTION_TYPE = SINUSOIDAL
  MAP_RESOLUTION = 2370.85521546667
  MAP_SCALE = 0.025
  MAXIMUM_LATITUDE = 35.0376
  MINIMUM_LATITUDE = 25.8472
  POSITIVE_LONGITUDE_DIRECTION = EAST
  REFERENCE_LATITUDE = "N/A"
  REFERENCE_LONGITUDE = "N/A"
  SAMPLE_FIRST_PIXEL = 1
  SAMPLE_LAST_PIXEL = 3183
  SAMPLE_PROJECTION_OFFSET = 2015.75
  SECOND_STANDARD_PARALLEL = "N/A"
  WESTERNMOST_LONGITUDE = 66.00660000000001
END_OBJECT = IMAGE_MAP_PROJECTION
END
