PDS_VERSION_ID = PDS3
/* FILE DATA ELEMENTS */
RECORD_TYPE = UNDEFINED
/* POINTERS TO DATA OBJECTS */
^IMAGE = ("HH834_0000_P24.TIF")
/* IDENTIFICATION DATA ELEMENTS */
DATA_SET_ID = "MEX-M-HRSC-4-REFDR-MAPPROJECT-EXT6-V4.0"
DATA_SET_NAME = "MARS EXPRESS HRSC MAP PROJECTED REFDR EXTENSION6 V4.0"
DETECTOR_ID = MEX_HRSC_P2
EVENT_TYPE = "MARS-LOCAL-STEREO-Vo-Te-Fl"
INSTRUMENT_HOST_ID = MEX
INSTRUMENT_HOST_NAME = "MARS EXPRESS"
INSTRUMENT_ID = HRSC
INSTRUMENT_NAME = "HIGH RESOLUTION STEREO CAMERA"
MISSION_NAME = "MARS EXPRESS"
MISSION_PHASE_NAME = ME_Phase_38
PROCESSING_LEVEL_ID = 4
PRODUCT_CREATION_TIME = 2023-01-28T19:29:54.000Z
PRODUCT_ID = "HH834_0000_P24.TIF"
RELEASE_ID = 0003
REVISION_ID = 0000
/* QUALITY DATA ELEMENTS */
DATA_QUALITY_ID = 1
DATA_QUALITY_DESC = "Data calculated based on original SPICE kernels"
/* TIME DATA ELEMENTS */
SPACECRAFT_CLOCK_START_COUNT = "1/0465683646.09040"
SPACECRAFT_CLOCK_STOP_COUNT = "1/0465683951.31192"
START_TIME = 2018-02-02T20:35:28.727Z
STOP_TIME = 2018-02-02T20:38:53.080Z
/* ORBITAL DATA ELEMENTS */
ASCENDING_NODE_LONGITUDE = 239.3
MAXIMUM_RESOLUTION = 0.0398
FOOTPRINT_POINT_LATITUDE = (12.1755,12.1564,12.1429,12.1298,12.117 ,12.1046,12.0923,12.0916,12.1114, 11.8028,11.2793,10.8619,10.4367,10.0129 ,9.58226,9.15237,8.93397,8.60648, 8.38866,8.05762,7.83638,7.6156,7.28016, 7.05608,6.83243,6.6056,6.37849,6.15178, 5.92295,5.69289,5.4633,5.23155,4.99865, 4.76627,4.53124,4.29559,4.0605,3.82195, 3.46481,3.22396,2.86263,2.49719,2.25373 ,2.00741,1.63807,1.38862,1.13969, 0.888513,0.762551,0.711666,0.721892, 0.73282,0.745025,0.757186,0.768149, 0.789602,0.790349,0.791373,1.0433, 1.41843,1.79208,2.03853,2.28557,2.52912 ,2.77316,3.13604,3.37736,3.73622, 3.97471,4.21223,4.56545,4.80132,5.03369 ,5.26659,5.49924,5.72884,5.95895,6.1886 ,6.41528,6.64243,6.87003,7.09385, 7.31802,7.65444,7.87527,8.09653,8.4285, 8.64639,8.86469,9.08332,9.30059,9.73092 ,9.94661,10.2657,10.7958,11.2177, 11.6337,12.0499,12.1532,12.1755)
FOOTPRINT_POINT_LONGITUDE = (175.95,175.538,175.247,174.961,174.681 ,174.407,174.137,174.121,174.129, 174.118,174.1,174.086,174.071,174.056, 174.041,174.025,174.017,174.005,173.997 ,173.985,173.976,173.968,173.955, 173.946,173.937,173.929,173.92,173.911, 173.901,173.892,173.883,173.873,173.864 ,173.854,173.844,173.834,173.824, 173.814,173.799,173.788,173.772,173.756 ,173.745,173.734,173.718,173.706, 173.695,173.683,173.677,173.675,174.019 ,174.37,174.747,175.109,175.407,175.969 ,175.993,176.001,175.999,175.996, 175.993,175.991,175.99,175.988,175.986, 175.984,175.982,175.98,175.979,175.978, 175.976,175.975,175.974,175.974,175.973 ,175.972,175.972,175.971,175.971, 175.971,175.97,175.97,175.97,175.97, 175.97,175.97,175.971,175.971,175.971, 175.972,175.972,175.973,175.974,175.974 ,175.974,175.978,175.976,175.979,175.98 ,175.95)
ORBIT_NUMBER = 17834
ORBITAL_ECCENTRICITY = 0.574
ORBITAL_INCLINATION = 86.97
ORBITAL_SEMIMAJOR_AXIS = 8816.46
PERIAPSIS_ALTITUDE = 364.88
PERIAPSIS_ARGUMENT_ANGLE = 146.59
PERIAPSIS_TIME = 2018-02-02T20:29:24.000Z
SPACECRAFT_ORIENTATION = (0.0,-1.0,0.0)
^MEX_ORIENTATION_DESC = "MEX_ORIENTATION_DESC.TXT"
SPACECRAFT_POINTING_MODE = ACROSSTRACK
^MEX_POINTING_DESC = "MEX_POINTING_DESC.TXT"
RIGHT_ASCENSION = -1e+32
DECLINATION = -1e+32
OFFSET_ANGLE = 2.0
SPACECRAFT_SOLAR_DISTANCE = 2.39451e+08
TARGET_NAME = MARS
/* CAMERA DATA ELEMENTS */
DETECTOR_TEMPERATURE = 18.3705
FOCAL_PLANE_TEMPERATURE = 8.3794
INST_CMPRS_NAME = "DISCRETE COSINE TRANSFORMATION (DCT)"
INST_CMPRS_RATIO = 9.93944
INST_CMPRS_QUALITY = 0
INST_CMPRS_QUANTZ_TBL_ID = 0
INSTRUMENT_TEMPERATURE = 11.6418
LENS_TEMPERATURE = 8.5833
MACROPIXEL_SIZE = 2
MISSING_FRAMES = 0
PIXEL_SUBSAMPLING_FLAG = N
SIGNAL_CHAIN_ID = 3
/* RADIOMETRIC DATA ELEMENTS */
BANDWIDTH = 177.0
CENTER_FILTER_WAVELENGTH = 676.5
RADIANCE_OFFSET = 2.1199
RADIANCE_SCALING_FACTOR = 0.0149358
REFLECTANCE_SCALING_FACTOR = 0.000454067
MEX:REFLECTANCE_OFFSET = 0.0644475
/* IMAGE OBJECT DEFINITIONS */
OBJECT = IMAGE
  INTERCHANGE_FORMAT = BINARY
  LINES = 27137
  LINE_SAMPLES = 5177
  SAMPLE_TYPE = UNSIGNED_INTEGER
  SAMPLE_BITS = 8
  BANDS = 1
  BAND_STORAGE_TYPE = BAND_SEQUENTIAL
  MAXIMUM = 255
  MEAN = 119.343
  MINIMUM = 1
  STANDARD_DEVIATION = 25.1389
END_OBJECT = IMAGE
/* MAP OBJECT DEFINITIONS */
OBJECT = IMAGE_MAP_PROJECTION
  ^DATA_SET_MAP_PROJECTION_CATALOG= "DSMAP.CAT"
  A_AXIS_RADIUS = 3396.0
  B_AXIS_RADIUS = 3396.0
  C_AXIS_RADIUS = 3396.0
  CENTER_LATITUDE = 0.0
  CENTER_LONGITUDE = 175.0
  COORDINATE_SYSTEM_NAME = PLANETOGRAPHIC
  COORDINATE_SYSTEM_TYPE = "BODY-FIXED ROTATING"
  EASTERNMOST_LONGITUDE = 176.001
  FIRST_STANDARD_PARALLEL = "N/A"
  LINE_FIRST_PIXEL = 1
  LINE_LAST_PIXEL = 27137
  LINE_PROJECTION_OFFSET = 28817.75
  MAP_PROJECTION_ROTATION = 0.0
  MAP_PROJECTION_TYPE = SINUSOIDAL
  MAP_RESOLUTION = 2370.85521546667
  MAP_SCALE = 0.025
  MAXIMUM_LATITUDE = 12.1755
  MINIMUM_LATITUDE = 0.711666
  POSITIVE_LONGITUDE_DIRECTION = EAST
  REFERENCE_LATITUDE = "N/A"
  REFERENCE_LONGITUDE = "N/A"
  SAMPLE_FIRST_PIXEL = 1
  SAMPLE_LAST_PIXEL = 5177
  SAMPLE_PROJECTION_OFFSET = 2997.25
  SECOND_STANDARD_PARALLEL = "N/A"
  WESTERNMOST_LONGITUDE = 173.675
END_OBJECT = IMAGE_MAP_PROJECTION
END
