PDS_VERSION_ID = PDS3
/* FILE DATA ELEMENTS */
RECORD_TYPE = UNDEFINED
/* POINTERS TO DATA OBJECTS */
^IMAGE = ("HH836_0000_S14.TIF")
/* IDENTIFICATION DATA ELEMENTS */
DATA_SET_ID = "MEX-M-HRSC-4-REFDR-MAPPROJECT-EXT6-V4.0"
DATA_SET_NAME = "MARS EXPRESS HRSC MAP PROJECTED REFDR EXTENSION6 V4.0"
DETECTOR_ID = MEX_HRSC_S1
EVENT_TYPE = "MARS-REGIONAL-MAPPING-Vo-Fl-La"
INSTRUMENT_HOST_ID = MEX
INSTRUMENT_HOST_NAME = "MARS EXPRESS"
INSTRUMENT_ID = HRSC
INSTRUMENT_NAME = "HIGH RESOLUTION STEREO CAMERA"
MISSION_NAME = "MARS EXPRESS"
MISSION_PHASE_NAME = ME_Phase_38
PROCESSING_LEVEL_ID = 4
PRODUCT_CREATION_TIME = 2023-01-28T19:29:54.000Z
PRODUCT_ID = "HH836_0000_S14.TIF"
RELEASE_ID = 0003
REVISION_ID = 0000
/* QUALITY DATA ELEMENTS */
DATA_QUALITY_ID = 1
DATA_QUALITY_DESC = "Data calculated based on original SPICE kernels"
/* TIME DATA ELEMENTS */
SPACECRAFT_CLOCK_START_COUNT = "1/0465733658.09029"
SPACECRAFT_CLOCK_STOP_COUNT = "1/0465733849.08662"
START_TIME = 2018-02-03T10:27:47.352Z
STOP_TIME = 2018-02-03T10:29:44.934Z
/* ORBITAL DATA ELEMENTS */
ASCENDING_NODE_LONGITUDE = 239.27
MAXIMUM_RESOLUTION = 0.0313
FOOTPRINT_POINT_LATITUDE = (30.6748,30.6633,30.6511,30.6382, 30.6245,30.61,30.5887,30.5877,30.5257, 30.1761,29.9668,29.7567,29.547,29.2667, 29.0563,28.9161,28.7057,28.495,28.3545, 28.1442,28.0038,27.8633,27.723,27.5825, 27.302,27.1615,26.9502,26.8094,26.5287, 26.3831,26.1305,25.9615,25.7944,25.6256 ,25.4568,25.2888,25.121,24.9524,24.7001 ,24.448,24.2798,24.1113,23.9429,23.7745 ,23.522,23.2693,23.0158,22.9315,22.9037 ,22.9144,22.9235,22.9408,22.9571, 22.9678,22.9785,22.9791,22.9798,23.2319 ,23.4006,23.5695,23.7383,23.9074, 24.0771,24.2466,24.4161,24.5851,24.7538 ,24.9228,25.0913,25.3424,25.5105, 25.6793,25.9319,26.1005,26.2704,26.5198 ,26.8705,27.0817,27.2225,27.3634, 27.5043,27.645,27.7857,27.926,28.1371, 28.278,28.4882,28.6289,28.7692,28.9098, 29.1205,29.3315,29.4722,29.6126,29.8227 ,30.1028,30.2432,30.5238,30.5937, 30.6748)
FOOTPRINT_POINT_LONGITUDE = (328.496,328.271,328.044,327.814, 327.583,327.349,327.023,327.008,326.957 ,326.966,326.972,326.977,326.982, 326.989,326.993,326.996,327.001,327.005 ,327.008,327.012,327.015,327.018,327.02 ,327.023,327.028,327.031,327.034, 327.036,327.041,327.044,327.047,327.048 ,327.051,327.053,327.055,327.057, 327.059,327.061,327.064,327.066,327.068 ,327.07,327.071,327.072,327.075,327.076 ,327.077,327.078,327.078,327.269, 327.444,327.777,328.105,328.331,328.542 ,328.555,328.56,328.559,328.557,328.556 ,328.555,328.554,328.553,328.551,328.55 ,328.549,328.548,328.546,328.545, 328.543,328.541,328.54,328.538,328.536, 328.535,328.533,328.53,328.528,328.526, 328.525,328.524,328.522,328.521,328.52, 328.518,328.516,328.514,328.513,328.511 ,328.51,328.507,328.505,328.504,328.502 ,328.5,328.497,328.495,328.492,328.491, 328.496)
ORBIT_NUMBER = 17836
ORBITAL_ECCENTRICITY = 0.574
ORBITAL_INCLINATION = 86.97
ORBITAL_SEMIMAJOR_AXIS = 8816.61
PERIAPSIS_ALTITUDE = 364.76
PERIAPSIS_ARGUMENT_ANGLE = 146.24
PERIAPSIS_TIME = 2018-02-03T10:27:32.000Z
SPACECRAFT_ORIENTATION = (0.0,-1.0,0.0)
^MEX_ORIENTATION_DESC = "MEX_ORIENTATION_DESC.TXT"
SPACECRAFT_POINTING_MODE = ACROSSTRACK
^MEX_POINTING_DESC = "MEX_POINTING_DESC.TXT"
RIGHT_ASCENSION = -1e+32
DECLINATION = -1e+32
OFFSET_ANGLE = -0.8
SPACECRAFT_SOLAR_DISTANCE = 2.3936e+08
TARGET_NAME = MARS
/* CAMERA DATA ELEMENTS */
DETECTOR_TEMPERATURE = 18.1666
FOCAL_PLANE_TEMPERATURE = 8.5833
INST_CMPRS_NAME = "DISCRETE COSINE TRANSFORMATION (DCT)"
INST_CMPRS_RATIO = 7.57625
INST_CMPRS_QUALITY = 0
INST_CMPRS_QUANTZ_TBL_ID = 0
INSTRUMENT_TEMPERATURE = 11.8457
LENS_TEMPERATURE = 8.9911
MACROPIXEL_SIZE = 2
MISSING_FRAMES = 0
PIXEL_SUBSAMPLING_FLAG = N
SIGNAL_CHAIN_ID = 1
/* RADIOMETRIC DATA ELEMENTS */
BANDWIDTH = 180.0
CENTER_FILTER_WAVELENGTH = 677.0
RADIANCE_OFFSET = 2.05311
RADIANCE_SCALING_FACTOR = 0.0130061
REFLECTANCE_SCALING_FACTOR = 0.000388772
MEX:REFLECTANCE_OFFSET = 0.0613704
/* IMAGE OBJECT DEFINITIONS */
OBJECT = IMAGE
  INTERCHANGE_FORMAT = BINARY
  LINES = 18111
  LINE_SAMPLES = 3389
  SAMPLE_TYPE = UNSIGNED_INTEGER
  SAMPLE_BITS = 8
  BANDS = 1
  BAND_STORAGE_TYPE = BAND_SEQUENTIAL
  MAXIMUM = 255
  MEAN = 107.97
  MINIMUM = 1
  STANDARD_DEVIATION = 15.0775
END_OBJECT = IMAGE
/* MAP OBJECT DEFINITIONS */
OBJECT = IMAGE_MAP_PROJECTION
  ^DATA_SET_MAP_PROJECTION_CATALOG= "DSMAP.CAT"
  A_AXIS_RADIUS = 3396.0
  B_AXIS_RADIUS = 3396.0
  C_AXIS_RADIUS = 3396.0
  CENTER_LATITUDE = 0.0
  CENTER_LONGITUDE = 328.0
  COORDINATE_SYSTEM_NAME = PLANETOGRAPHIC
  COORDINATE_SYSTEM_TYPE = "BODY-FIXED ROTATING"
  EASTERNMOST_LONGITUDE = 328.56
  FIRST_STANDARD_PARALLEL = "N/A"
  LINE_FIRST_PIXEL = 1
  LINE_LAST_PIXEL = 18111
  LINE_PROJECTION_OFFSET = 72572.25
  MAP_PROJECTION_ROTATION = 0.0
  MAP_PROJECTION_TYPE = SINUSOIDAL
  MAP_RESOLUTION = 2370.85521546667
  MAP_SCALE = 0.025
  MAXIMUM_LATITUDE = 30.6748
  MINIMUM_LATITUDE = 22.9037
  POSITIVE_LONGITUDE_DIRECTION = EAST
  REFERENCE_LATITUDE = "N/A"
  REFERENCE_LONGITUDE = "N/A"
  SAMPLE_FIRST_PIXEL = 1
  SAMPLE_LAST_PIXEL = 3389
  SAMPLE_PROJECTION_OFFSET = 2128.25
  SECOND_STANDARD_PARALLEL = "N/A"
  WESTERNMOST_LONGITUDE = 326.957
END_OBJECT = IMAGE_MAP_PROJECTION
END
