PDS_VERSION_ID = PDS3
/* FILE DATA ELEMENTS */
RECORD_TYPE = UNDEFINED
/* POINTERS TO DATA OBJECTS */
^IMAGE = ("HH847_0000_ND4.TIF")
/* IDENTIFICATION DATA ELEMENTS */
DATA_SET_ID = "MEX-M-HRSC-4-REFDR-MAPPROJECT-EXT6-V4.0"
DATA_SET_NAME = "MARS EXPRESS HRSC MAP PROJECTED REFDR EXTENSION6 V4.0"
DETECTOR_ID = MEX_HRSC_NADIR
EVENT_TYPE = "MARS-REGIONAL-STEREO-Vo-Te"
INSTRUMENT_HOST_ID = MEX
INSTRUMENT_HOST_NAME = "MARS EXPRESS"
INSTRUMENT_ID = HRSC
INSTRUMENT_NAME = "HIGH RESOLUTION STEREO CAMERA"
MISSION_NAME = "MARS EXPRESS"
MISSION_PHASE_NAME = ME_Phase_38
PROCESSING_LEVEL_ID = 4
PRODUCT_CREATION_TIME = 2023-01-28T19:29:54.000Z
PRODUCT_ID = "HH847_0000_ND4.TIF"
RELEASE_ID = 0003
REVISION_ID = 0000
/* QUALITY DATA ELEMENTS */
DATA_QUALITY_ID = 1
DATA_QUALITY_DESC = "Data calculated based on original SPICE kernels"
/* TIME DATA ELEMENTS */
SPACECRAFT_CLOCK_START_COUNT = "1/0466010138.09093"
SPACECRAFT_CLOCK_STOP_COUNT = "1/0466010310.35080"
START_TIME = 2018-02-06T15:16:20.593Z
STOP_TIME = 2018-02-06T15:18:03.605Z
/* ORBITAL DATA ELEMENTS */
ASCENDING_NODE_LONGITUDE = 239.06
MAXIMUM_RESOLUTION = 0.0146
FOOTPRINT_POINT_LATITUDE = (36.7572,36.7551,36.7532,36.7507, 36.7477,36.7451,36.7403,36.7401,36.7399 ,36.541,36.3421,36.2095,36.0769,35.878, 35.7454,35.5464,35.4138,35.2812,35.1486 ,35.016,34.8834,34.6844,34.5518,34.4192 ,34.2866,34.154,34.0214,33.8888,33.7562 ,33.6237,33.4911,33.3585,33.0934, 32.8283,32.5633,32.2983,32.0333,31.7684 ,31.5035,31.2388,30.974,30.7094,30.4448 ,30.1803,30.1142,30.1035,30.1057, 30.1069,30.1089,30.1097,30.1102,30.1102 ,30.1102,30.1104,30.3753,30.6402, 30.9053,31.1704,31.3029,31.4355,31.5682 ,31.7008,31.8334,31.9661,32.0987, 32.2314,32.3641,32.4968,32.6295,32.7623 ,32.895,33.0278,33.1605,33.2933,33.4261 ,33.5589,33.6917,33.8245,33.9573, 34.0901,34.2229,34.3557,34.4886,34.6214 ,34.7542,34.8871,35.0199,35.1527, 35.2856,35.4184,35.6177,35.7505,35.9498 ,36.0827,36.2155,36.3483,36.5476, 36.6804,36.7468,36.7572)
FOOTPRINT_POINT_LONGITUDE = (286.191,285.849,285.616,285.369, 285.122,284.937,284.645,284.63,284.614, 284.62,284.625,284.629,284.632,284.637, 284.641,284.646,284.649,284.652,284.655 ,284.658,284.661,284.665,284.668,284.67 ,284.673,284.676,284.678,284.681, 284.683,284.686,284.688,284.69,284.695, 284.7,284.704,284.708,284.712,284.715, 284.719,284.722,284.725,284.728,284.731 ,284.733,284.734,284.734,284.968,285.13 ,285.453,285.674,285.896,286.208, 286.223,286.23,286.229,286.229,286.229, 286.228,286.228,286.227,286.227,286.227 ,286.227,286.226,286.226,286.226, 286.225,286.225,286.225,286.224,286.224 ,286.223,286.223,286.223,286.222, 286.222,286.221,286.221,286.22,286.22, 286.219,286.219,286.218,286.217,286.216 ,286.216,286.215,286.215,286.214, 286.214,286.213,286.212,286.211,286.211 ,286.21,286.21,286.209,286.208,286.207, 286.191)
ORBIT_NUMBER = 17847
ORBITAL_ECCENTRICITY = 0.574
ORBITAL_INCLINATION = 86.96
ORBITAL_SEMIMAJOR_AXIS = 8819.22
PERIAPSIS_ALTITUDE = 365.61
PERIAPSIS_ARGUMENT_ANGLE = 144.35
PERIAPSIS_TIME = 2018-02-06T15:16:39.000Z
SPACECRAFT_ORIENTATION = (0.0,-1.0,0.0)
^MEX_ORIENTATION_DESC = "MEX_ORIENTATION_DESC.TXT"
SPACECRAFT_POINTING_MODE = ACROSSTRACK
^MEX_POINTING_DESC = "MEX_POINTING_DESC.TXT"
RIGHT_ASCENSION = -1e+32
DECLINATION = -1e+32
OFFSET_ANGLE = 0.2
SPACECRAFT_SOLAR_DISTANCE = 2.38854e+08
TARGET_NAME = MARS
/* CAMERA DATA ELEMENTS */
DETECTOR_TEMPERATURE = 18.5744
FOCAL_PLANE_TEMPERATURE = 8.5833
INST_CMPRS_NAME = "DISCRETE COSINE TRANSFORMATION (DCT)"
INST_CMPRS_RATIO = 5.41544
INST_CMPRS_QUALITY = 0
INST_CMPRS_QUANTZ_TBL_ID = 0
INSTRUMENT_TEMPERATURE = 11.234
LENS_TEMPERATURE = 8.7872
MACROPIXEL_SIZE = 1
MISSING_FRAMES = 0
PIXEL_SUBSAMPLING_FLAG = N
SIGNAL_CHAIN_ID = 0
/* RADIOMETRIC DATA ELEMENTS */
BANDWIDTH = 177.0
CENTER_FILTER_WAVELENGTH = 677.5
RADIANCE_OFFSET = 2.31069
RADIANCE_SCALING_FACTOR = 0.0277338
REFLECTANCE_SCALING_FACTOR = 0.000840542
MEX:REFLECTANCE_OFFSET = 0.0700313
/* IMAGE OBJECT DEFINITIONS */
OBJECT = IMAGE
  INTERCHANGE_FORMAT = BINARY
  LINES = 31551
  LINE_SAMPLES = 6511
  SAMPLE_TYPE = UNSIGNED_INTEGER
  SAMPLE_BITS = 8
  BANDS = 1
  BAND_STORAGE_TYPE = BAND_SEQUENTIAL
  MAXIMUM = 255
  MEAN = 105.401
  MINIMUM = 1
  STANDARD_DEVIATION = 13.5827
END_OBJECT = IMAGE
/* MAP OBJECT DEFINITIONS */
OBJECT = IMAGE_MAP_PROJECTION
  ^DATA_SET_MAP_PROJECTION_CATALOG= "DSMAP.CAT"
  A_AXIS_RADIUS = 3396.0
  B_AXIS_RADIUS = 3396.0
  C_AXIS_RADIUS = 3396.0
  CENTER_LATITUDE = 0.0
  CENTER_LONGITUDE = 285.0
  COORDINATE_SYSTEM_NAME = PLANETOGRAPHIC
  COORDINATE_SYSTEM_TYPE = "BODY-FIXED ROTATING"
  EASTERNMOST_LONGITUDE = 286.23
  FIRST_STANDARD_PARALLEL = "N/A"
  LINE_FIRST_PIXEL = 1
  LINE_LAST_PIXEL = 31551
  LINE_PROJECTION_OFFSET = 174293.0
  MAP_PROJECTION_ROTATION = 0.0
  MAP_PROJECTION_TYPE = SINUSOIDAL
  MAP_RESOLUTION = 4741.71043093333
  MAP_SCALE = 0.0125
  MAXIMUM_LATITUDE = 36.7572
  MINIMUM_LATITUDE = 30.1035
  POSITIVE_LONGITUDE_DIRECTION = EAST
  REFERENCE_LATITUDE = "N/A"
  REFERENCE_LONGITUDE = "N/A"
  SAMPLE_FIRST_PIXEL = 1
  SAMPLE_LAST_PIXEL = 6511
  SAMPLE_PROJECTION_OFFSET = 1466.0
  SECOND_STANDARD_PARALLEL = "N/A"
  WESTERNMOST_LONGITUDE = 284.614
END_OBJECT = IMAGE_MAP_PROJECTION
END
