PDS_VERSION_ID = PDS3
/* FILE DATA ELEMENTS */
RECORD_TYPE = UNDEFINED
/* POINTERS TO DATA OBJECTS */
^IMAGE = ("HH848_0009_ND4.TIF")
/* IDENTIFICATION DATA ELEMENTS */
DATA_SET_ID = "MEX-M-HRSC-4-REFDR-MAPPROJECT-EXT6-V4.0"
DATA_SET_NAME = "MARS EXPRESS HRSC MAP PROJECTED REFDR EXTENSION6 V4.0"
DETECTOR_ID = MEX_HRSC_NADIR
EVENT_TYPE = "MARS-REGIONAL-MAPPING-Te-Gl-Pf"
INSTRUMENT_HOST_ID = MEX
INSTRUMENT_HOST_NAME = "MARS EXPRESS"
INSTRUMENT_ID = HRSC
INSTRUMENT_NAME = "HIGH RESOLUTION STEREO CAMERA"
MISSION_NAME = "MARS EXPRESS"
MISSION_PHASE_NAME = ME_Phase_38
PROCESSING_LEVEL_ID = 4
PRODUCT_CREATION_TIME = 2023-01-28T19:29:54.000Z
PRODUCT_ID = "HH848_0009_ND4.TIF"
RELEASE_ID = 0003
REVISION_ID = 0000
/* QUALITY DATA ELEMENTS */
DATA_QUALITY_ID = 1
DATA_QUALITY_DESC = "Data calculated based on original SPICE kernels"
/* TIME DATA ELEMENTS */
SPACECRAFT_CLOCK_START_COUNT = "1/0466035210.09049"
SPACECRAFT_CLOCK_STOP_COUNT = "1/0466035413.17637"
START_TIME = 2018-02-06T22:14:13.862Z
STOP_TIME = 2018-02-06T22:16:26.859Z
/* ORBITAL DATA ELEMENTS */
ASCENDING_NODE_LONGITUDE = 239.04
MAXIMUM_RESOLUTION = 0.0148
FOOTPRINT_POINT_LATITUDE = (40.8958,40.8891,40.882,40.8765,40.8676 ,40.8672,40.8666,40.6664,40.4661, 40.2658,40.0655,39.8789,39.543,39.207, 38.8709,38.5347,38.1984,37.8621,37.5256 ,37.1891,37.0209,36.8526,36.6843,36.516 ,36.3477,36.1794,36.0111,35.8428, 35.6745,35.5061,35.3378,35.0853,34.917, 34.6645,34.4962,34.3279,34.1596,33.823, 33.4865,33.0659,32.7295,32.3931,32.309, 32.3052,32.3123,32.3149,32.3164,32.3176 ,32.3177,32.3179,32.4863,32.739,32.9075 ,33.076,33.2446,33.4131,33.5816,33.7502 ,33.9188,34.0874,34.256,34.5089,34.6775 ,34.8462,35.0148,35.1835,35.3521, 35.5207,35.6894,35.858,36.0267,36.1953, 36.3639,36.5326,36.7012,36.8698,37.0384 ,37.2071,37.3756,37.5442,37.7128, 37.8814,38.0499,38.2184,38.387,38.5555, 38.7239,38.8924,39.0609,39.2293,39.3977 ,39.566,39.7344,39.9027,40.1895,40.3903 ,40.591,40.7918,40.8921,40.8958)
FOOTPRINT_POINT_LONGITUDE = (183.792,183.243,182.811,182.529,182.13 ,182.114,182.074,182.084,182.094, 182.103,182.112,182.12,182.135,182.149, 182.163,182.176,182.189,182.201,182.213 ,182.224,182.23,182.235,182.241,182.246 ,182.251,182.256,182.261,182.266, 182.271,182.275,182.28,182.287,182.291, 182.297,182.301,182.305,182.31,182.317, 182.325,182.333,182.339,182.346,182.347 ,182.347,182.954,183.272,183.53,183.864 ,183.879,183.886,183.885,183.884, 183.883,183.882,183.882,183.881,183.88, 183.88,183.879,183.878,183.877,183.875, 183.874,183.873,183.872,183.871,183.87, 183.869,183.868,183.867,183.866,183.864 ,183.863,183.862,183.861,183.859, 183.858,183.857,183.856,183.854,183.853 ,183.852,183.85,183.849,183.847,183.846 ,183.844,183.843,183.841,183.84,183.838 ,183.837,183.835,183.833,183.831, 183.829,183.827,183.824,183.823, 183.792)
ORBIT_NUMBER = 17848
ORBITAL_ECCENTRICITY = 0.574
ORBITAL_INCLINATION = 86.97
ORBITAL_SEMIMAJOR_AXIS = 8810.19
PERIAPSIS_ALTITUDE = 366.05
PERIAPSIS_ARGUMENT_ANGLE = 144.17
PERIAPSIS_TIME = 2018-02-06T22:15:33.000Z
SPACECRAFT_ORIENTATION = (0.0,-1.0,0.0)
^MEX_ORIENTATION_DESC = "MEX_ORIENTATION_DESC.TXT"
SPACECRAFT_POINTING_MODE = NADIR
^MEX_POINTING_DESC = "MEX_POINTING_DESC.TXT"
RIGHT_ASCENSION = -1e+32
DECLINATION = -1e+32
OFFSET_ANGLE = -1e+32
SPACECRAFT_SOLAR_DISTANCE = 2.38808e+08
TARGET_NAME = MARS
/* CAMERA DATA ELEMENTS */
DETECTOR_TEMPERATURE = 18.5744
FOCAL_PLANE_TEMPERATURE = 9.195
INST_CMPRS_NAME = "DISCRETE COSINE TRANSFORMATION (DCT)"
INST_CMPRS_RATIO = 5.79915
INST_CMPRS_QUALITY = 0
INST_CMPRS_QUANTZ_TBL_ID = 0
INSTRUMENT_TEMPERATURE = 11.8457
LENS_TEMPERATURE = 9.3989
MACROPIXEL_SIZE = 1
MISSING_FRAMES = 0
PIXEL_SUBSAMPLING_FLAG = N
SIGNAL_CHAIN_ID = 0
/* RADIOMETRIC DATA ELEMENTS */
BANDWIDTH = 177.0
CENTER_FILTER_WAVELENGTH = 677.5
RADIANCE_OFFSET = 2.52269
RADIANCE_SCALING_FACTOR = 0.0230068
REFLECTANCE_SCALING_FACTOR = 0.000697008
MEX:REFLECTANCE_OFFSET = 0.0764269
/* IMAGE OBJECT DEFINITIONS */
OBJECT = IMAGE
  INTERCHANGE_FORMAT = BINARY
  LINES = 40739
  LINE_SAMPLES = 6870
  SAMPLE_TYPE = UNSIGNED_INTEGER
  SAMPLE_BITS = 8
  BANDS = 1
  BAND_STORAGE_TYPE = BAND_SEQUENTIAL
  MAXIMUM = 255
  MEAN = 96.2838
  MINIMUM = 1
  STANDARD_DEVIATION = 20.0734
END_OBJECT = IMAGE
/* MAP OBJECT DEFINITIONS */
OBJECT = IMAGE_MAP_PROJECTION
  ^DATA_SET_MAP_PROJECTION_CATALOG= "DSMAP.CAT"
  A_AXIS_RADIUS = 3396.0
  B_AXIS_RADIUS = 3396.0
  C_AXIS_RADIUS = 3396.0
  CENTER_LATITUDE = 0.0
  CENTER_LONGITUDE = 183.0
  COORDINATE_SYSTEM_NAME = PLANETOGRAPHIC
  COORDINATE_SYSTEM_TYPE = "BODY-FIXED ROTATING"
  EASTERNMOST_LONGITUDE = 183.886
  FIRST_STANDARD_PARALLEL = "N/A"
  LINE_FIRST_PIXEL = 1
  LINE_LAST_PIXEL = 40739
  LINE_PROJECTION_OFFSET = 193920.0
  MAP_PROJECTION_ROTATION = 0.0
  MAP_PROJECTION_TYPE = SINUSOIDAL
  MAP_RESOLUTION = 4741.71043093333
  MAP_SCALE = 0.0125
  MAXIMUM_LATITUDE = 40.8958
  MINIMUM_LATITUDE = 32.3052
  POSITIVE_LONGITUDE_DIRECTION = EAST
  REFERENCE_LATITUDE = "N/A"
  REFERENCE_LONGITUDE = "N/A"
  SAMPLE_FIRST_PIXEL = 1
  SAMPLE_LAST_PIXEL = 6870
  SAMPLE_PROJECTION_OFFSET = 3318.0
  SECOND_STANDARD_PARALLEL = "N/A"
  WESTERNMOST_LONGITUDE = 182.074
END_OBJECT = IMAGE_MAP_PROJECTION
END
