PDS_VERSION_ID = PDS3
/* FILE DATA ELEMENTS */
RECORD_TYPE = UNDEFINED
/* POINTERS TO DATA OBJECTS */
^IMAGE = ("HH852_0003_SR4.TIF")
/* IDENTIFICATION DATA ELEMENTS */
DATA_SET_ID = "MEX-M-HRSC-4-REFDR-MAPPROJECT-EXT6-V4.0"
DATA_SET_NAME = "MARS EXPRESS HRSC MAP PROJECTED REFDR EXTENSION6 V4.0"
DETECTOR_ID = MEX_HRSC_SRC
EVENT_TYPE = "MARS-LOCAL-STEREO-Tc-Ts"
INSTRUMENT_HOST_ID = MEX
INSTRUMENT_HOST_NAME = "MARS EXPRESS"
INSTRUMENT_ID = HRSC
INSTRUMENT_NAME = "HIGH RESOLUTION STEREO CAMERA"
MISSION_NAME = "MARS EXPRESS"
MISSION_PHASE_NAME = ME_Phase_38
PROCESSING_LEVEL_ID = 4
PRODUCT_CREATION_TIME = 2023-01-28T19:29:54.000Z
PRODUCT_ID = "HH852_0003_SR4.TIF"
RELEASE_ID = 0003
REVISION_ID = 0000
/* QUALITY DATA ELEMENTS */
DATA_QUALITY_ID = 1
DATA_QUALITY_DESC = "Data calculated based on original SPICE kernels"
/* TIME DATA ELEMENTS */
SPACECRAFT_CLOCK_START_COUNT = "1/0466135641.07331"
SPACECRAFT_CLOCK_STOP_COUNT = "1/0466135764.57012"
IMAGE_TIME = 2018-02-08T02:08:32.754Z
START_TIME = 2018-02-08T02:08:32.751Z
STOP_TIME = 2018-02-08T02:08:32.756Z
/* ORBITAL DATA ELEMENTS */
ASCENDING_NODE_LONGITUDE = 238.97
MAXIMUM_RESOLUTION = 0.003713
FOOTPRINT_POINT_LATITUDE = (47.431,47.4334,47.4356,47.4393,47.4429 ,47.4454,47.4476,47.4514,47.4536, 47.4563,47.4603,47.4642,47.4671,47.4698 ,47.472,47.4749,47.4793,47.4834,47.4853 ,47.4885,47.492,47.4943,47.4943,47.4943 ,47.4944,47.4944,47.4944,47.4945, 47.4945,47.4946,47.4946,47.4946,47.4947 ,47.4947,47.4947,47.4948,47.4948, 47.4948,47.4949,47.4949,47.4949,47.495, 47.495,47.495,47.4951,47.4951,47.4952, 47.4952,47.4952,47.4952,47.4952,47.4907 ,47.4887,47.4859,47.4828,47.479,47.4756 ,47.4725,47.4705,47.4677,47.4638, 47.4608,47.4566,47.4541,47.4505,47.448, 47.4447,47.4423,47.4384,47.4354,47.4319 ,47.4318,47.4318,47.4318,47.4318, 47.4317,47.4317,47.4317,47.4316,47.4316 ,47.4316,47.4315,47.4315,47.4315, 47.4315,47.4314,47.4314,47.4314,47.4313 ,47.4313,47.4313,47.4312,47.4312, 47.4312,47.4311,47.4311,47.4311,47.431, 47.431,47.431)
FOOTPRINT_POINT_LONGITUDE = (136.001,136.001,136.0,136.0,136.0, 136.0,136.0,136.0,136.0,136.0,136.0, 136.0,136.0,136.0,136.0,136.0,136.0, 135.999,136.0,136.0,136.0,136.0,136.0, 136.0,136.004,136.007,136.011,136.015, 136.019,136.023,136.026,136.03,136.034, 136.038,136.042,136.045,136.049,136.053 ,136.057,136.061,136.065,136.068, 136.072,136.076,136.08,136.084,136.087, 136.091,136.095,136.096,136.097,136.097 ,136.097,136.097,136.096,136.096, 136.096,136.096,136.097,136.097,136.097 ,136.097,136.097,136.097,136.097, 136.097,136.097,136.097,136.097,136.097 ,136.097,136.097,136.097,136.093,136.09 ,136.086,136.082,136.078,136.074,136.07 ,136.067,136.063,136.059,136.055, 136.051,136.048,136.044,136.04,136.036, 136.032,136.029,136.025,136.021,136.017 ,136.013,136.01,136.006,136.002,136.001 ,136.001)
ORBIT_NUMBER = 17852
ORBITAL_ECCENTRICITY = 0.574
ORBITAL_INCLINATION = 86.96
ORBITAL_SEMIMAJOR_AXIS = 8816.58
PERIAPSIS_ALTITUDE = 366.36
PERIAPSIS_ARGUMENT_ANGLE = 143.48
PERIAPSIS_TIME = 2018-02-08T02:11:24.000Z
SPACECRAFT_ORIENTATION = (0.0,-1.0,0.0)
^MEX_ORIENTATION_DESC = "MEX_ORIENTATION_DESC.TXT"
SPACECRAFT_POINTING_MODE = ACROSSTRACK
^MEX_POINTING_DESC = "MEX_POINTING_DESC.TXT"
RIGHT_ASCENSION = -1e+32
DECLINATION = -1e+32
OFFSET_ANGLE = 1.2
SPACECRAFT_SOLAR_DISTANCE = 2.38621e+08
TARGET_NAME = MARS
/* CAMERA DATA ELEMENTS */
BUFFER_MODE_ID = BUFFER_8
EXPOSURE_DURATION = 5.04
INST_CMPRS_NAME = NONE
INST_CMPRS_RATIO = 1.0
INST_CMPRS_QUALITY = -2147483648
INST_CMPRS_QUANTZ_TBL_ID = -2147483648
INSTRUMENT_TEMPERATURE = 6.07623
MISSING_FRAMES = 0
START_BIT = 0
/* RADIOMETRIC DATA ELEMENTS */
BANDWIDTH = 250.0
CENTER_FILTER_WAVELENGTH = 600.0
RADIANCE_OFFSET = -9.99e+31
RADIANCE_SCALING_FACTOR = -9.99e+31
REFLECTANCE_SCALING_FACTOR = -9.99e+31
MEX:REFLECTANCE_OFFSET = -9.99e+31
/* IMAGE OBJECT DEFINITIONS */
OBJECT = IMAGE
  INTERCHANGE_FORMAT = BINARY
  LINES = 1603
  LINE_SAMPLES = 1654
  SAMPLE_TYPE = UNSIGNED_INTEGER
  SAMPLE_BITS = 8
  BANDS = 1
  BAND_STORAGE_TYPE = BAND_SEQUENTIAL
  MAXIMUM = 253
  MEAN = 127.665
  MINIMUM = 14
  STANDARD_DEVIATION = 18.9105
END_OBJECT = IMAGE
/* MAP OBJECT DEFINITIONS */
OBJECT = IMAGE_MAP_PROJECTION
  ^DATA_SET_MAP_PROJECTION_CATALOG= "DSMAP.CAT"
  A_AXIS_RADIUS = 3396.19
  B_AXIS_RADIUS = 3396.19
  C_AXIS_RADIUS = 3396.19
  CENTER_LATITUDE = 0.0
  CENTER_LONGITUDE = 136.0
  COORDINATE_SYSTEM_NAME = PLANETOGRAPHIC
  COORDINATE_SYSTEM_TYPE = "BODY-FIXED ROTATING"
  EASTERNMOST_LONGITUDE = 136.097
  FIRST_STANDARD_PARALLEL = "N/A"
  LINE_FIRST_PIXEL = 1
  LINE_LAST_PIXEL = 1603
  LINE_PROJECTION_OFFSET = 1124817.0
  MAP_PROJECTION_ROTATION = 0.0
  MAP_PROJECTION_TYPE = SINUSOIDAL
  MAP_RESOLUTION = 23709.8786048756
  MAP_SCALE = 0.0025
  MAXIMUM_LATITUDE = 47.4952
  MINIMUM_LATITUDE = 47.431
  POSITIVE_LONGITUDE_DIRECTION = EAST
  REFERENCE_LATITUDE = "N/A"
  REFERENCE_LONGITUDE = "N/A"
  SAMPLE_FIRST_PIXEL = 1
  SAMPLE_LAST_PIXEL = 1654
  SAMPLE_PROJECTION_OFFSET = -850.0
  SECOND_STANDARD_PARALLEL = "N/A"
  WESTERNMOST_LONGITUDE = 135.999
END_OBJECT = IMAGE_MAP_PROJECTION
END
