PDS_VERSION_ID = PDS3
/* FILE DATA ELEMENTS */
RECORD_TYPE = UNDEFINED
/* POINTERS TO DATA OBJECTS */
^IMAGE = ("HH866_0000_GR4.TIF")
/* IDENTIFICATION DATA ELEMENTS */
DATA_SET_ID = "MEX-M-HRSC-4-REFDR-MAPPROJECT-EXT6-V4.0"
DATA_SET_NAME = "MARS EXPRESS HRSC MAP PROJECTED REFDR EXTENSION6 V4.0"
DETECTOR_ID = MEX_HRSC_GREEN
EVENT_TYPE = "MARS-REGIONAL-MAPPING-Vo-Te-Im"
INSTRUMENT_HOST_ID = MEX
INSTRUMENT_HOST_NAME = "MARS EXPRESS"
INSTRUMENT_ID = HRSC
INSTRUMENT_NAME = "HIGH RESOLUTION STEREO CAMERA"
MISSION_NAME = "MARS EXPRESS"
MISSION_PHASE_NAME = ME_Phase_38
PROCESSING_LEVEL_ID = 4
PRODUCT_CREATION_TIME = 2023-01-28T19:29:54.000Z
PRODUCT_ID = "HH866_0000_GR4.TIF"
RELEASE_ID = 0003
REVISION_ID = 0000
/* QUALITY DATA ELEMENTS */
DATA_QUALITY_ID = 1
DATA_QUALITY_DESC = "Data calculated based on original SPICE kernels"
/* TIME DATA ELEMENTS */
SPACECRAFT_CLOCK_START_COUNT = "1/0466487918.09058"
SPACECRAFT_CLOCK_STOP_COUNT = "1/0466488149.07029"
START_TIME = 2018-02-12T03:59:16.343Z
STOP_TIME = 2018-02-12T04:01:45.306Z
/* ORBITAL DATA ELEMENTS */
ASCENDING_NODE_LONGITUDE = 238.71
MAXIMUM_RESOLUTION = 0.0613
FOOTPRINT_POINT_LATITUDE = (30.0028,30.012,30.0168,30.0212,30.025, 30.0283,30.0311,30.0313,30.0258,29.7463 ,29.5601,29.2808,29.0948,28.9087, 28.7227,28.5367,28.3508,28.0722,27.7007 ,27.3296,26.9588,26.6808,26.3107, 25.9411,25.6642,25.3876,24.927,24.6464, 24.4568,24.2675,24.0778,23.8879,23.6982 ,23.5086,23.3194,23.1302,22.8418, 22.6482,22.455,22.1653,21.9724,21.7795, 21.5868,21.2928,21.0955,20.8984,20.7013 ,20.6028,20.5622,20.5576,20.5526, 20.5461,20.5372,20.5309,20.5232,20.5227 ,20.5236,20.7208,20.9182,21.1157, 21.3134,21.5101,21.7031,21.8962,22.0894 ,22.2828,22.4764,22.6703,22.8645, 23.0575,23.2472,23.4372,23.6278,23.8182 ,24.1039,24.2944,24.4844,24.674,24.8608 ,25.2281,25.6882,25.9647,26.3342, 26.7045,27.0752,27.4465,27.6323,27.911, 28.0968,28.2827,28.4687,28.6548,28.8409 ,29.0271,29.2135,29.3998,29.6793, 29.8656,29.9589,30.0028)
FOOTPRINT_POINT_LONGITUDE = (147.335,146.933,146.691,146.453, 146.218,145.987,145.76,145.745,145.753, 145.75,145.748,145.745,145.742,145.74, 145.737,145.735,145.733,145.729,145.724 ,145.719,145.713,145.709,145.702, 145.695,145.69,145.684,145.674,145.669, 145.667,145.664,145.661,145.659,145.658 ,145.655,145.653,145.65,145.645,145.642 ,145.638,145.632,145.628,145.624,145.62 ,145.613,145.609,145.605,145.6,145.598, 145.597,145.835,146.076,146.368,146.727 ,146.966,147.24,147.257,147.262,147.263 ,147.264,147.265,147.266,147.267, 147.268,147.269,147.27,147.271,147.271, 147.271,147.269,147.268,147.266,147.261 ,147.254,147.248,147.241,147.236, 147.235,147.237,147.24,147.258,147.277, 147.287,147.298,147.306,147.315,147.321 ,147.323,147.328,147.332,147.336,147.34 ,147.343,147.347,147.35,147.353,147.357 ,147.363,147.367,147.369,147.335)
ORBIT_NUMBER = 17866
ORBITAL_ECCENTRICITY = 0.574
ORBITAL_INCLINATION = 86.96
ORBITAL_SEMIMAJOR_AXIS = 8810.74
PERIAPSIS_ALTITUDE = 368.11
PERIAPSIS_ARGUMENT_ANGLE = 141.06
PERIAPSIS_TIME = 2018-02-12T03:57:04.000Z
SPACECRAFT_ORIENTATION = (0.0,-1.0,0.0)
^MEX_ORIENTATION_DESC = "MEX_ORIENTATION_DESC.TXT"
SPACECRAFT_POINTING_MODE = ACROSSTRACK
^MEX_POINTING_DESC = "MEX_POINTING_DESC.TXT"
RIGHT_ASCENSION = -1e+32
DECLINATION = -1e+32
OFFSET_ANGLE = 1.374
SPACECRAFT_SOLAR_DISTANCE = 2.37958e+08
TARGET_NAME = MARS
/* CAMERA DATA ELEMENTS */
DETECTOR_TEMPERATURE = 18.5744
FOCAL_PLANE_TEMPERATURE = 8.7872
INST_CMPRS_NAME = "DISCRETE COSINE TRANSFORMATION (DCT)"
INST_CMPRS_RATIO = 10.8614
INST_CMPRS_QUALITY = 0
INST_CMPRS_QUANTZ_TBL_ID = 0
INSTRUMENT_TEMPERATURE = 11.4379
LENS_TEMPERATURE = 8.7872
MACROPIXEL_SIZE = 4
MISSING_FRAMES = 0
PIXEL_SUBSAMPLING_FLAG = N
SIGNAL_CHAIN_ID = 2
/* RADIOMETRIC DATA ELEMENTS */
BANDWIDTH = 88.0
CENTER_FILTER_WAVELENGTH = 538.0
RADIANCE_OFFSET = 1.41929
RADIANCE_SCALING_FACTOR = 0.00626157
REFLECTANCE_SCALING_FACTOR = 0.000305262
MEX:REFLECTANCE_OFFSET = 0.0691926
/* IMAGE OBJECT DEFINITIONS */
OBJECT = IMAGE
  INTERCHANGE_FORMAT = BINARY
  LINES = 11252
  LINE_SAMPLES = 1872
  SAMPLE_TYPE = UNSIGNED_INTEGER
  SAMPLE_BITS = 8
  BANDS = 1
  BAND_STORAGE_TYPE = BAND_SEQUENTIAL
  MAXIMUM = 255
  MEAN = 152.395
  MINIMUM = 1
  STANDARD_DEVIATION = 25.685
END_OBJECT = IMAGE
/* MAP OBJECT DEFINITIONS */
OBJECT = IMAGE_MAP_PROJECTION
  ^DATA_SET_MAP_PROJECTION_CATALOG= "DSMAP.CAT"
  A_AXIS_RADIUS = 3396.0
  B_AXIS_RADIUS = 3396.0
  C_AXIS_RADIUS = 3396.0
  CENTER_LATITUDE = 0.0
  CENTER_LONGITUDE = 146.0
  COORDINATE_SYSTEM_NAME = PLANETOGRAPHIC
  COORDINATE_SYSTEM_TYPE = "BODY-FIXED ROTATING"
  EASTERNMOST_LONGITUDE = 147.369
  FIRST_STANDARD_PARALLEL = "N/A"
  LINE_FIRST_PIXEL = 1
  LINE_LAST_PIXEL = 11252
  LINE_PROJECTION_OFFSET = 35590.625
  MAP_PROJECTION_ROTATION = 0.0
  MAP_PROJECTION_TYPE = SINUSOIDAL
  MAP_RESOLUTION = 1185.42760773333
  MAP_SCALE = 0.05
  MAXIMUM_LATITUDE = 30.0313
  MINIMUM_LATITUDE = 20.5227
  POSITIVE_LONGITUDE_DIRECTION = EAST
  REFERENCE_LATITUDE = "N/A"
  REFERENCE_LONGITUDE = "N/A"
  SAMPLE_FIRST_PIXEL = 1
  SAMPLE_LAST_PIXEL = 1872
  SAMPLE_PROJECTION_OFFSET = 463.375
  SECOND_STANDARD_PARALLEL = "N/A"
  WESTERNMOST_LONGITUDE = 145.597
END_OBJECT = IMAGE_MAP_PROJECTION
END
