PDS_VERSION_ID = PDS3
/* FILE DATA ELEMENTS */
RECORD_TYPE = UNDEFINED
/* POINTERS TO DATA OBJECTS */
^IMAGE = ("HH867_0000_P24.TIF")
/* IDENTIFICATION DATA ELEMENTS */
DATA_SET_ID = "MEX-M-HRSC-4-REFDR-MAPPROJECT-EXT6-V4.0"
DATA_SET_NAME = "MARS EXPRESS HRSC MAP PROJECTED REFDR EXTENSION6 V4.0"
DETECTOR_ID = MEX_HRSC_P2
EVENT_TYPE = "MARS-REGIONAL-MAPPING-Im-Fl-Gl"
INSTRUMENT_HOST_ID = MEX
INSTRUMENT_HOST_NAME = "MARS EXPRESS"
INSTRUMENT_ID = HRSC
INSTRUMENT_NAME = "HIGH RESOLUTION STEREO CAMERA"
MISSION_NAME = "MARS EXPRESS"
MISSION_PHASE_NAME = ME_Phase_38
PROCESSING_LEVEL_ID = 4
PRODUCT_CREATION_TIME = 2023-01-28T19:29:54.000Z
PRODUCT_ID = "HH867_0000_P24.TIF"
RELEASE_ID = 0003
REVISION_ID = 0000
/* QUALITY DATA ELEMENTS */
DATA_QUALITY_ID = 1
DATA_QUALITY_DESC = "Data calculated based on original SPICE kernels"
/* TIME DATA ELEMENTS */
SPACECRAFT_CLOCK_START_COUNT = "1/0466512918.09047"
SPACECRAFT_CLOCK_STOP_COUNT = "1/0466513133.22701"
START_TIME = 2018-02-12T10:56:22.753Z
STOP_TIME = 2018-02-12T10:58:48.247Z
/* ORBITAL DATA ELEMENTS */
ASCENDING_NODE_LONGITUDE = 238.69
MAXIMUM_RESOLUTION = 0.0303
FOOTPRINT_POINT_LATITUDE = (39.1147,39.112,39.108,39.1046,39.1007, 39.0964,39.0905,39.0902,39.1223,38.8691 ,38.7011,38.3674,38.1972,38.0254, 37.8551,37.3535,37.0187,36.851,36.5162, 36.2646,36.0967,35.8451,35.5105,35.3426 ,35.0524,34.8532,34.6542,34.4541,34.256 ,33.9586,33.7597,33.562,33.364,33.0662, 32.8691,32.5733,32.3765,32.1793,31.8856 ,31.6873,31.4902,31.2961,31.0993, 30.9001,30.7039,30.5076,30.3115,30.018, 29.9203,29.8738,29.8755,29.8772,29.8832 ,29.8835,29.8819,29.8819,29.882,29.8825 ,30.0786,30.2743,30.4716,30.7656, 31.0627,31.2609,31.4565,31.6533,31.8508 ,32.0479,32.3443,32.641,32.8388,33.0367 ,33.2349,33.5322,33.7314,33.9301, 34.1283,34.3273,34.5266,34.8256,35.0247 ,35.3224,35.5737,35.7415,36.0767, 36.4117,36.5796,36.8311,36.9991,37.2507 ,37.5061,37.84,38.008,38.1759,38.3442, 38.5968,38.8516,39.0208,39.1047, 39.1147)
FOOTPRINT_POINT_LONGITUDE = (43.5436,43.3064,42.9909,42.7543, 42.5023,42.2505,41.9355,41.9197,41.8961 ,41.9053,41.9109,41.9205,41.9271, 41.9344,41.9408,41.9546,41.9636,41.9682 ,41.9768,41.9834,41.9878,41.9942,42.002 ,42.0061,42.0126,42.0167,42.0207, 42.0251,42.0285,42.0335,42.0371,42.0401 ,42.0431,42.0479,42.0503,42.0539, 42.0561,42.0584,42.0607,42.0635,42.0656 ,42.0662,42.0681,42.0712,42.0727, 42.0742,42.0757,42.0774,42.0779,42.0782 ,42.3827,42.6415,42.9159,43.1451,43.343 ,43.6331,43.6484,43.6539,43.6525, 43.6507,43.6498,43.6471,43.6459,43.645, 43.6426,43.6408,43.6392,43.6374,43.6348 ,43.6322,43.6303,43.6284,43.6266, 43.6236,43.6221,43.6202,43.618,43.616, 43.6142,43.6113,43.6091,43.6061,43.6037 ,43.6021,43.5986,43.5947,43.5929, 43.5899,43.588,43.5848,43.5837,43.5781, 43.5758,43.5734,43.5712,43.5678,43.5657 ,43.5637,43.5623,43.5436)
ORBIT_NUMBER = 17867
ORBITAL_ECCENTRICITY = 0.574
ORBITAL_INCLINATION = 86.96
ORBITAL_SEMIMAJOR_AXIS = 8813.85
PERIAPSIS_ALTITUDE = 367.74
PERIAPSIS_ARGUMENT_ANGLE = 140.89
PERIAPSIS_TIME = 2018-02-12T10:56:02.000Z
SPACECRAFT_ORIENTATION = (0.0,-1.0,0.0)
^MEX_ORIENTATION_DESC = "MEX_ORIENTATION_DESC.TXT"
SPACECRAFT_POINTING_MODE = ACROSSTRACK
^MEX_POINTING_DESC = "MEX_POINTING_DESC.TXT"
RIGHT_ASCENSION = -1e+32
DECLINATION = -1e+32
OFFSET_ANGLE = 0.05
SPACECRAFT_SOLAR_DISTANCE = 2.3791e+08
TARGET_NAME = MARS
/* CAMERA DATA ELEMENTS */
DETECTOR_TEMPERATURE = 18.3705
FOCAL_PLANE_TEMPERATURE = 7.7677
INST_CMPRS_NAME = "DISCRETE COSINE TRANSFORMATION (DCT)"
INST_CMPRS_RATIO = 4.44677
INST_CMPRS_QUALITY = 0
INST_CMPRS_QUANTZ_TBL_ID = 0
INSTRUMENT_TEMPERATURE = 11.4379
LENS_TEMPERATURE = 8.5833
MACROPIXEL_SIZE = 2
MISSING_FRAMES = 0
PIXEL_SUBSAMPLING_FLAG = N
SIGNAL_CHAIN_ID = 3
/* RADIOMETRIC DATA ELEMENTS */
BANDWIDTH = 177.0
CENTER_FILTER_WAVELENGTH = 676.5
RADIANCE_OFFSET = 2.75063
RADIANCE_SCALING_FACTOR = 0.0261777
REFLECTANCE_SCALING_FACTOR = 0.000785621
MEX:REFLECTANCE_OFFSET = 0.0825494
/* IMAGE OBJECT DEFINITIONS */
OBJECT = IMAGE
  INTERCHANGE_FORMAT = BINARY
  LINES = 21983
  LINE_SAMPLES = 3334
  SAMPLE_TYPE = UNSIGNED_INTEGER
  SAMPLE_BITS = 8
  BANDS = 1
  BAND_STORAGE_TYPE = BAND_SEQUENTIAL
  MAXIMUM = 255
  MEAN = 134.038
  MINIMUM = 1
  STANDARD_DEVIATION = 14.4021
END_OBJECT = IMAGE
/* MAP OBJECT DEFINITIONS */
OBJECT = IMAGE_MAP_PROJECTION
  ^DATA_SET_MAP_PROJECTION_CATALOG= "DSMAP.CAT"
  A_AXIS_RADIUS = 3396.0
  B_AXIS_RADIUS = 3396.0
  C_AXIS_RADIUS = 3396.0
  CENTER_LATITUDE = 0.0
  CENTER_LONGITUDE = 43.0
  COORDINATE_SYSTEM_NAME = PLANETOGRAPHIC
  COORDINATE_SYSTEM_TYPE = "BODY-FIXED ROTATING"
  EASTERNMOST_LONGITUDE = 43.6539
  FIRST_STANDARD_PARALLEL = "N/A"
  LINE_FIRST_PIXEL = 1
  LINE_LAST_PIXEL = 21983
  LINE_PROJECTION_OFFSET = 92819.25
  MAP_PROJECTION_ROTATION = 0.0
  MAP_PROJECTION_TYPE = SINUSOIDAL
  MAP_RESOLUTION = 2370.85521546667
  MAP_SCALE = 0.025
  MAXIMUM_LATITUDE = 39.1223
  MINIMUM_LATITUDE = 29.8738
  POSITIVE_LONGITUDE_DIRECTION = EAST
  REFERENCE_LATITUDE = "N/A"
  REFERENCE_LONGITUDE = "N/A"
  SAMPLE_FIRST_PIXEL = 1
  SAMPLE_LAST_PIXEL = 3334
  SAMPLE_PROJECTION_OFFSET = 2023.75
  SECOND_STANDARD_PARALLEL = "N/A"
  WESTERNMOST_LONGITUDE = 41.8961
END_OBJECT = IMAGE_MAP_PROJECTION
END
