PDS_VERSION_ID = PDS3
/* FILE DATA ELEMENTS */
RECORD_TYPE = UNDEFINED
/* POINTERS TO DATA OBJECTS */
^IMAGE = ("HH869_0000_ND4.TIF")
/* IDENTIFICATION DATA ELEMENTS */
DATA_SET_ID = "MEX-M-HRSC-4-REFDR-MAPPROJECT-EXT6-V4.0"
DATA_SET_NAME = "MARS EXPRESS HRSC MAP PROJECTED REFDR EXTENSION6 V4.0"
DETECTOR_ID = MEX_HRSC_NADIR
EVENT_TYPE = "MARS-LOCAL-VARIABLE-Eo-At-Sh"
INSTRUMENT_HOST_ID = MEX
INSTRUMENT_HOST_NAME = "MARS EXPRESS"
INSTRUMENT_ID = HRSC
INSTRUMENT_NAME = "HIGH RESOLUTION STEREO CAMERA"
MISSION_NAME = "MARS EXPRESS"
MISSION_PHASE_NAME = ME_Phase_38
PROCESSING_LEVEL_ID = 4
PRODUCT_CREATION_TIME = 2023-01-28T19:29:54.000Z
PRODUCT_ID = "HH869_0000_ND4.TIF"
RELEASE_ID = 0003
REVISION_ID = 0000
/* QUALITY DATA ELEMENTS */
DATA_QUALITY_ID = 1
DATA_QUALITY_DESC = "Data calculated based on original SPICE kernels"
/* TIME DATA ELEMENTS */
SPACECRAFT_CLOCK_START_COUNT = "1/0466563196.08305"
SPACECRAFT_CLOCK_STOP_COUNT = "1/0466563385.50863"
START_TIME = 2018-02-13T00:53:58.632Z
STOP_TIME = 2018-02-13T00:55:57.636Z
/* ORBITAL DATA ELEMENTS */
ASCENDING_NODE_LONGITUDE = 238.65
MAXIMUM_RESOLUTION = 0.0149
FOOTPRINT_POINT_LATITUDE = (39.3904,39.3848,39.3787,39.3738,39.366 ,39.3656,39.366,39.0773,38.9329,38.7886 ,38.6442,38.4998,38.3555,38.2111, 37.9946,37.8503,37.7059,37.5616,37.273, 36.9843,36.6958,36.4072,36.1188,35.8303 ,35.542,35.2537,34.9655,34.6773,34.3893 ,34.221,34.0492,33.8774,33.7056,33.5339 ,33.3622,33.1905,33.0189,32.8474, 32.6758,32.5044,32.3329,32.1615,31.9902 ,31.8189,31.7332,31.7186,31.7222, 31.7249,31.7266,31.7282,31.7298,31.7298 ,31.7301,31.9016,32.0733,32.2449, 32.4166,32.5884,32.7602,32.932,33.1039, 33.2759,33.4478,33.6198,33.7919,33.964, 34.1361,34.3931,34.6817,34.9704,35.2591 ,35.4035,35.5479,35.6924,35.8368, 35.9813,36.1258,36.2703,36.4149,36.5594 ,36.704,36.8485,36.9931,37.1377,37.2823 ,37.4269,37.5715,37.7161,37.8608, 38.0054,38.2224,38.367,38.5117,38.6564, 38.801,38.9457,39.1627,39.3074,39.3797, 39.3904)
FOOTPRINT_POINT_LONGITUDE = (199.234,198.704,198.288,198.015,197.63 ,197.614,197.577,197.588,197.594, 197.599,197.604,197.609,197.614,197.619 ,197.626,197.631,197.636,197.64,197.649 ,197.658,197.666,197.674,197.682, 197.689,197.696,197.703,197.71,197.716, 197.722,197.726,197.729,197.732,197.735 ,197.738,197.741,197.744,197.747,197.75 ,197.753,197.755,197.758,197.76,197.762 ,197.764,197.765,197.766,198.06,198.339 ,198.556,198.82,199.316,199.331,199.339 ,199.338,199.336,199.335,199.334, 199.332,199.331,199.33,199.328,199.327, 199.325,199.324,199.322,199.321,199.319 ,199.317,199.315,199.312,199.309, 199.308,199.306,199.305,199.303,199.302 ,199.301,199.299,199.298,199.296, 199.295,199.293,199.291,199.29,199.288, 199.287,199.285,199.283,199.282,199.28, 199.277,199.276,199.274,199.272,199.27, 199.269,199.266,199.264,199.263, 199.234)
ORBIT_NUMBER = 17869
ORBITAL_ECCENTRICITY = 0.573
ORBITAL_INCLINATION = 86.97
ORBITAL_SEMIMAJOR_AXIS = 8805.79
PERIAPSIS_ALTITUDE = 367.89
PERIAPSIS_ARGUMENT_ANGLE = 140.52
PERIAPSIS_TIME = 2018-02-13T00:53:58.000Z
SPACECRAFT_ORIENTATION = (0.0,-1.0,0.0)
^MEX_ORIENTATION_DESC = "MEX_ORIENTATION_DESC.TXT"
SPACECRAFT_POINTING_MODE = NADIR
^MEX_POINTING_DESC = "MEX_POINTING_DESC.TXT"
RIGHT_ASCENSION = -1e+32
DECLINATION = -1e+32
OFFSET_ANGLE = -1e+32
SPACECRAFT_SOLAR_DISTANCE = 2.37814e+08
TARGET_NAME = MARS
/* CAMERA DATA ELEMENTS */
DETECTOR_TEMPERATURE = 18.9822
FOCAL_PLANE_TEMPERATURE = 8.9911
INST_CMPRS_NAME = "DISCRETE COSINE TRANSFORMATION (DCT)"
INST_CMPRS_RATIO = 5.25599
INST_CMPRS_QUALITY = 0
INST_CMPRS_QUANTZ_TBL_ID = 0
INSTRUMENT_TEMPERATURE = 12.2535
LENS_TEMPERATURE = 9.6028
MACROPIXEL_SIZE = 1
MISSING_FRAMES = 0
PIXEL_SUBSAMPLING_FLAG = N
SIGNAL_CHAIN_ID = 0
/* RADIOMETRIC DATA ELEMENTS */
BANDWIDTH = 177.0
CENTER_FILTER_WAVELENGTH = 677.5
RADIANCE_OFFSET = 2.6987
RADIANCE_SCALING_FACTOR = 0.0154145
REFLECTANCE_SCALING_FACTOR = 0.000463117
MEX:REFLECTANCE_OFFSET = 0.0810801
/* IMAGE OBJECT DEFINITIONS */
OBJECT = IMAGE
  INTERCHANGE_FORMAT = BINARY
  LINES = 36385
  LINE_SAMPLES = 6950
  SAMPLE_TYPE = UNSIGNED_INTEGER
  SAMPLE_BITS = 8
  BANDS = 1
  BAND_STORAGE_TYPE = BAND_SEQUENTIAL
  MAXIMUM = 255
  MEAN = 144.967
  MINIMUM = 1
  STANDARD_DEVIATION = 39.2862
END_OBJECT = IMAGE
/* MAP OBJECT DEFINITIONS */
OBJECT = IMAGE_MAP_PROJECTION
  ^DATA_SET_MAP_PROJECTION_CATALOG= "DSMAP.CAT"
  A_AXIS_RADIUS = 3396.0
  B_AXIS_RADIUS = 3396.0
  C_AXIS_RADIUS = 3396.0
  CENTER_LATITUDE = 0.0
  CENTER_LONGITUDE = 198.0
  COORDINATE_SYSTEM_NAME = PLANETOGRAPHIC
  COORDINATE_SYSTEM_TYPE = "BODY-FIXED ROTATING"
  EASTERNMOST_LONGITUDE = 199.339
  FIRST_STANDARD_PARALLEL = "N/A"
  LINE_FIRST_PIXEL = 1
  LINE_LAST_PIXEL = 36385
  LINE_PROJECTION_OFFSET = 186785.0
  MAP_PROJECTION_ROTATION = 0.0
  MAP_PROJECTION_TYPE = SINUSOIDAL
  MAP_RESOLUTION = 4741.71043093333
  MAP_SCALE = 0.0125
  MAXIMUM_LATITUDE = 39.3904
  MINIMUM_LATITUDE = 31.7186
  POSITIVE_LONGITUDE_DIRECTION = EAST
  REFERENCE_LATITUDE = "N/A"
  REFERENCE_LONGITUDE = "N/A"
  SAMPLE_FIRST_PIXEL = 1
  SAMPLE_LAST_PIXEL = 6950
  SAMPLE_PROJECTION_OFFSET = 1549.0
  SECOND_STANDARD_PARALLEL = "N/A"
  WESTERNMOST_LONGITUDE = 197.577
END_OBJECT = IMAGE_MAP_PROJECTION
END
