PDS_VERSION_ID = PDS3
/* FILE DATA ELEMENTS */
RECORD_TYPE = UNDEFINED
/* POINTERS TO DATA OBJECTS */
^IMAGE = ("HH870_0000_GR4.TIF")
/* IDENTIFICATION DATA ELEMENTS */
DATA_SET_ID = "MEX-M-HRSC-4-REFDR-MAPPROJECT-EXT6-V4.0"
DATA_SET_NAME = "MARS EXPRESS HRSC MAP PROJECTED REFDR EXTENSION6 V4.0"
DETECTOR_ID = MEX_HRSC_GREEN
EVENT_TYPE = "MARS-REGIONAL-MAPPING-Vo-Im-Pf"
INSTRUMENT_HOST_ID = MEX
INSTRUMENT_HOST_NAME = "MARS EXPRESS"
INSTRUMENT_ID = HRSC
INSTRUMENT_NAME = "HIGH RESOLUTION STEREO CAMERA"
MISSION_NAME = "MARS EXPRESS"
MISSION_PHASE_NAME = ME_Phase_38
PROCESSING_LEVEL_ID = 4
PRODUCT_CREATION_TIME = 2023-01-28T19:29:54.000Z
PRODUCT_ID = "HH870_0000_GR4.TIF"
RELEASE_ID = 0003
REVISION_ID = 0000
/* QUALITY DATA ELEMENTS */
DATA_QUALITY_ID = 1
DATA_QUALITY_DESC = "Data calculated based on original SPICE kernels"
/* TIME DATA ELEMENTS */
SPACECRAFT_CLOCK_START_COUNT = "1/0466588352.08303"
SPACECRAFT_CLOCK_STOP_COUNT = "1/0466588541.63332"
START_TIME = 2018-02-13T07:53:09.024Z
STOP_TIME = 2018-02-13T07:55:07.938Z
/* ORBITAL DATA ELEMENTS */
ASCENDING_NODE_LONGITUDE = 238.64
MAXIMUM_RESOLUTION = 0.0593
FOOTPRINT_POINT_LATITUDE = (38.5689,38.5654,38.5618,38.5587,38.554 ,38.5467,38.5464,38.5344,38.3912, 38.1765,38.0333,37.8901,37.6754,37.3891 ,37.1027,36.8164,36.6017,36.3869, 36.2437,36.0289,35.8142,35.4563,35.17, 34.9554,34.7407,34.4546,34.097,33.811, 33.6481,33.4774,33.3068,33.1362,32.9656 ,32.795,32.6245,32.454,32.2836,32.1132, 31.9428,31.6873,31.517,31.3467,31.1765, 31.0063,30.9212,30.8827,30.8867,30.8884 ,30.8899,30.8912,30.8916,30.8918, 30.8918,30.8928,31.1484,31.3189,31.4894 ,31.66,31.8307,32.0867,32.3428,32.5135, 32.6843,32.8551,33.026,33.1968,33.3678, 33.5387,33.7935,33.9367,34.08,34.2233, 34.3666,34.51,34.6533,34.7966,34.94, 35.0833,35.2984,35.5135,35.6569,35.8004 ,36.0155,36.159,36.3741,36.5176,36.6611 ,36.8045,37.0197,37.1632,37.3784, 37.5219,37.6653,37.8087,37.9522,38.0957 ,38.2391,38.4543,38.5261,38.5689)
FOOTPRINT_POINT_LONGITUDE = (97.1106,96.7085,96.4105,96.1873, 95.9046,95.5321,95.5172,95.4872,95.4922 ,95.4996,95.5044,95.5091,95.5161, 95.5251,95.5339,95.5423,95.5486,95.5544 ,95.5583,95.5639,95.5695,95.5783, 95.5851,95.5899,95.5947,95.6009,95.6081 ,95.6138,95.6168,95.6198,95.6228, 95.6257,95.6285,95.6312,95.6339,95.6365 ,95.639,95.6414,95.6437,95.6471,95.6492 ,95.6511,95.653,95.655,95.6559,95.6563, 96.0316,96.2341,96.4655,96.784,96.9866, 97.1893,97.2038,97.2086,97.207,97.2059, 97.2047,97.2034,97.2022,97.2003,97.1983 ,97.197,97.1957,97.1944,97.193,97.1917, 97.1902,97.1888,97.1867,97.1854,97.1842 ,97.183,97.1817,97.1804,97.1791,97.1778 ,97.1766,97.1753,97.1733,97.1712, 97.1698,97.1683,97.1662,97.1647,97.1625 ,97.1609,97.1595,97.1579,97.1556,97.154 ,97.1516,97.15,97.1484,97.1469,97.1452, 97.1435,97.1418,97.1392,97.1383, 97.1106)
ORBIT_NUMBER = 17870
ORBITAL_ECCENTRICITY = 0.574
ORBITAL_INCLINATION = 86.97
ORBITAL_SEMIMAJOR_AXIS = 8815.21
PERIAPSIS_ALTITUDE = 367.31
PERIAPSIS_ARGUMENT_ANGLE = 140.34
PERIAPSIS_TIME = 2018-02-13T07:52:58.000Z
SPACECRAFT_ORIENTATION = (0.0,-1.0,0.0)
^MEX_ORIENTATION_DESC = "MEX_ORIENTATION_DESC.TXT"
SPACECRAFT_POINTING_MODE = NADIR
^MEX_POINTING_DESC = "MEX_POINTING_DESC.TXT"
RIGHT_ASCENSION = -1e+32
DECLINATION = -1e+32
OFFSET_ANGLE = -1e+32
SPACECRAFT_SOLAR_DISTANCE = 2.37766e+08
TARGET_NAME = MARS
/* CAMERA DATA ELEMENTS */
DETECTOR_TEMPERATURE = 18.5744
FOCAL_PLANE_TEMPERATURE = 8.7872
INST_CMPRS_NAME = "DISCRETE COSINE TRANSFORMATION (DCT)"
INST_CMPRS_RATIO = 8.80483
INST_CMPRS_QUALITY = 0
INST_CMPRS_QUANTZ_TBL_ID = 0
INSTRUMENT_TEMPERATURE = 11.4379
LENS_TEMPERATURE = 9.195
MACROPIXEL_SIZE = 4
MISSING_FRAMES = 0
PIXEL_SUBSAMPLING_FLAG = N
SIGNAL_CHAIN_ID = 2
/* RADIOMETRIC DATA ELEMENTS */
BANDWIDTH = 88.0
CENTER_FILTER_WAVELENGTH = 538.0
RADIANCE_OFFSET = 0.733824
RADIANCE_SCALING_FACTOR = 0.00575548
REFLECTANCE_SCALING_FACTOR = 0.000280136
MEX:REFLECTANCE_OFFSET = 0.0357174
/* IMAGE OBJECT DEFINITIONS */
OBJECT = IMAGE
  INTERCHANGE_FORMAT = BINARY
  LINES = 9090
  LINE_SAMPLES = 1717
  SAMPLE_TYPE = UNSIGNED_INTEGER
  SAMPLE_BITS = 8
  BANDS = 1
  BAND_STORAGE_TYPE = BAND_SEQUENTIAL
  MAXIMUM = 255
  MEAN = 117.352
  MINIMUM = 1
  STANDARD_DEVIATION = 20.3549
END_OBJECT = IMAGE
/* MAP OBJECT DEFINITIONS */
OBJECT = IMAGE_MAP_PROJECTION
  ^DATA_SET_MAP_PROJECTION_CATALOG= "DSMAP.CAT"
  A_AXIS_RADIUS = 3396.0
  B_AXIS_RADIUS = 3396.0
  C_AXIS_RADIUS = 3396.0
  CENTER_LATITUDE = 0.0
  CENTER_LONGITUDE = 96.0
  COORDINATE_SYSTEM_NAME = PLANETOGRAPHIC
  COORDINATE_SYSTEM_TYPE = "BODY-FIXED ROTATING"
  EASTERNMOST_LONGITUDE = 97.2086
  FIRST_STANDARD_PARALLEL = "N/A"
  LINE_FIRST_PIXEL = 1
  LINE_LAST_PIXEL = 9090
  LINE_PROJECTION_OFFSET = 45713.375
  MAP_PROJECTION_ROTATION = 0.0
  MAP_PROJECTION_TYPE = SINUSOIDAL
  MAP_RESOLUTION = 1185.42760773333
  MAP_SCALE = 0.05
  MAXIMUM_LATITUDE = 38.5689
  MINIMUM_LATITUDE = 30.8827
  POSITIVE_LONGITUDE_DIRECTION = EAST
  REFERENCE_LATITUDE = "N/A"
  REFERENCE_LONGITUDE = "N/A"
  SAMPLE_FIRST_PIXEL = 1
  SAMPLE_LAST_PIXEL = 1717
  SAMPLE_PROJECTION_OFFSET = 483.625
  SECOND_STANDARD_PARALLEL = "N/A"
  WESTERNMOST_LONGITUDE = 95.4872
END_OBJECT = IMAGE_MAP_PROJECTION
END
