PDS_VERSION_ID = PDS3
/* FILE DATA ELEMENTS */
RECORD_TYPE = UNDEFINED
/* POINTERS TO DATA OBJECTS */
^IMAGE = ("HH870_0000_ND4.TIF")
/* IDENTIFICATION DATA ELEMENTS */
DATA_SET_ID = "MEX-M-HRSC-4-REFDR-MAPPROJECT-EXT6-V4.0"
DATA_SET_NAME = "MARS EXPRESS HRSC MAP PROJECTED REFDR EXTENSION6 V4.0"
DETECTOR_ID = MEX_HRSC_NADIR
EVENT_TYPE = "MARS-REGIONAL-MAPPING-Vo-Im-Pf"
INSTRUMENT_HOST_ID = MEX
INSTRUMENT_HOST_NAME = "MARS EXPRESS"
INSTRUMENT_ID = HRSC
INSTRUMENT_NAME = "HIGH RESOLUTION STEREO CAMERA"
MISSION_NAME = "MARS EXPRESS"
MISSION_PHASE_NAME = ME_Phase_38
PROCESSING_LEVEL_ID = 4
PRODUCT_CREATION_TIME = 2023-01-28T19:29:54.000Z
PRODUCT_ID = "HH870_0000_ND4.TIF"
RELEASE_ID = 0003
REVISION_ID = 0000
/* QUALITY DATA ELEMENTS */
DATA_QUALITY_ID = 1
DATA_QUALITY_DESC = "Data calculated based on original SPICE kernels"
/* TIME DATA ELEMENTS */
SPACECRAFT_CLOCK_START_COUNT = "1/0466588352.08303"
SPACECRAFT_CLOCK_STOP_COUNT = "1/0466588541.63332"
START_TIME = 2018-02-13T07:53:14.637Z
STOP_TIME = 2018-02-13T07:55:13.639Z
/* ORBITAL DATA ELEMENTS */
ASCENDING_NODE_LONGITUDE = 238.64
MAXIMUM_RESOLUTION = 0.0148
FOOTPRINT_POINT_LATITUDE = (38.5616,38.5564,38.5506,38.5461, 38.5387,38.5383,38.5387,38.3247,38.182, 38.0393,37.8966,37.7539,37.6112,37.3259 ,37.0406,36.7553,36.4701,36.1849, 35.8998,35.6147,35.3298,35.0449,34.76, 34.4753,34.1906,34.0305,33.8607,33.6909 ,33.5212,33.3515,33.1818,33.0122, 32.8426,32.6731,32.5036,32.3342,32.1648 ,31.9954,31.8261,31.6569,31.4877, 31.3185,31.1494,30.9804,30.8959,30.8954 ,30.898,30.9013,30.9029,30.9047,30.9053 ,30.9053,30.9056,31.0749,31.2442, 31.4136,31.5831,31.7526,31.9222,32.0918 ,32.2615,32.4312,32.6009,32.7707, 32.9406,33.1105,33.2804,33.4504,33.6204 ,33.7905,33.9605,34.2061,34.4913, 34.7765,35.0619,35.3474,35.4901,35.6329 ,35.7757,35.9185,36.0613,36.2041,36.347 ,36.4898,36.6327,36.7756,36.9185, 37.0615,37.2044,37.3473,37.4903,37.6333 ,37.7762,37.9192,38.0622,38.2052, 38.3482,38.4912,38.5627,38.5616)
FOOTPRINT_POINT_LONGITUDE = (97.1111,96.5886,96.1771,95.9082,95.528 ,95.5122,95.4778,95.4852,95.4901, 95.4948,95.4995,95.5041,95.5087,95.5175 ,95.5261,95.5345,95.5425,95.55,95.5575, 95.5645,95.5714,95.5779,95.5842,95.5903 ,95.596,95.5992,95.6025,95.6056,95.6086 ,95.6116,95.6144,95.6172,95.6198, 95.6225,95.625,95.6275,95.6299,95.6321, 95.6344,95.6365,95.6385,95.6404,95.6422 ,95.6441,95.645,95.645,95.8764,96.2314, 96.4627,96.8488,97.1883,97.2038,97.2113 ,97.2103,97.2091,97.2078,97.2066, 97.2053,97.204,97.2027,97.2014,97.2, 97.1986,97.1972,97.1959,97.1945,97.193, 97.1915,97.19,97.1886,97.187,97.1849, 97.1822,97.1796,97.1769,97.1743,97.1728 ,97.1714,97.1699,97.1683,97.1669, 97.1654,97.1638,97.1623,97.1607,97.1592 ,97.1576,97.156,97.1544,97.1527,97.1511 ,97.1495,97.1479,97.1462,97.1445, 97.1427,97.1409,97.1391,97.1382, 97.1111)
ORBIT_NUMBER = 17870
ORBITAL_ECCENTRICITY = 0.574
ORBITAL_INCLINATION = 86.97
ORBITAL_SEMIMAJOR_AXIS = 8815.21
PERIAPSIS_ALTITUDE = 367.31
PERIAPSIS_ARGUMENT_ANGLE = 140.34
PERIAPSIS_TIME = 2018-02-13T07:52:58.000Z
SPACECRAFT_ORIENTATION = (0.0,-1.0,0.0)
^MEX_ORIENTATION_DESC = "MEX_ORIENTATION_DESC.TXT"
SPACECRAFT_POINTING_MODE = NADIR
^MEX_POINTING_DESC = "MEX_POINTING_DESC.TXT"
RIGHT_ASCENSION = -1e+32
DECLINATION = -1e+32
OFFSET_ANGLE = -1e+32
SPACECRAFT_SOLAR_DISTANCE = 2.37766e+08
TARGET_NAME = MARS
/* CAMERA DATA ELEMENTS */
DETECTOR_TEMPERATURE = 18.5744
FOCAL_PLANE_TEMPERATURE = 8.7872
INST_CMPRS_NAME = "DISCRETE COSINE TRANSFORMATION (DCT)"
INST_CMPRS_RATIO = 5.16488
INST_CMPRS_QUALITY = 0
INST_CMPRS_QUANTZ_TBL_ID = 0
INSTRUMENT_TEMPERATURE = 11.4379
LENS_TEMPERATURE = 9.195
MACROPIXEL_SIZE = 1
MISSING_FRAMES = 0
PIXEL_SUBSAMPLING_FLAG = N
SIGNAL_CHAIN_ID = 0
/* RADIOMETRIC DATA ELEMENTS */
BANDWIDTH = 177.0
CENTER_FILTER_WAVELENGTH = 677.5
RADIANCE_OFFSET = 1.82301
RADIANCE_SCALING_FACTOR = 0.0227181
REFLECTANCE_SCALING_FACTOR = 0.000682267
MEX:REFLECTANCE_OFFSET = 0.0547483
/* IMAGE OBJECT DEFINITIONS */
OBJECT = IMAGE
  INTERCHANGE_FORMAT = BINARY
  LINES = 36358
  LINE_SAMPLES = 6866
  SAMPLE_TYPE = UNSIGNED_INTEGER
  SAMPLE_BITS = 8
  BANDS = 1
  BAND_STORAGE_TYPE = BAND_SEQUENTIAL
  MAXIMUM = 255
  MEAN = 96.7531
  MINIMUM = 1
  STANDARD_DEVIATION = 35.0128
END_OBJECT = IMAGE
/* MAP OBJECT DEFINITIONS */
OBJECT = IMAGE_MAP_PROJECTION
  ^DATA_SET_MAP_PROJECTION_CATALOG= "DSMAP.CAT"
  A_AXIS_RADIUS = 3396.0
  B_AXIS_RADIUS = 3396.0
  C_AXIS_RADIUS = 3396.0
  CENTER_LATITUDE = 0.0
  CENTER_LONGITUDE = 96.0
  COORDINATE_SYSTEM_NAME = PLANETOGRAPHIC
  COORDINATE_SYSTEM_TYPE = "BODY-FIXED ROTATING"
  EASTERNMOST_LONGITUDE = 97.21129999999999
  FIRST_STANDARD_PARALLEL = "N/A"
  LINE_FIRST_PIXEL = 1
  LINE_LAST_PIXEL = 36358
  LINE_PROJECTION_OFFSET = 182855.0
  MAP_PROJECTION_ROTATION = 0.0
  MAP_PROJECTION_TYPE = SINUSOIDAL
  MAP_RESOLUTION = 4741.71043093333
  MAP_SCALE = 0.0125
  MAXIMUM_LATITUDE = 38.5627
  MINIMUM_LATITUDE = 30.8954
  POSITIVE_LONGITUDE_DIRECTION = EAST
  REFERENCE_LATITUDE = "N/A"
  REFERENCE_LONGITUDE = "N/A"
  SAMPLE_FIRST_PIXEL = 1
  SAMPLE_LAST_PIXEL = 6866
  SAMPLE_PROJECTION_OFFSET = 1936.0
  SECOND_STANDARD_PARALLEL = "N/A"
  WESTERNMOST_LONGITUDE = 95.4778
END_OBJECT = IMAGE_MAP_PROJECTION
END
