PDS_VERSION_ID = PDS3
/* FILE DATA ELEMENTS */
RECORD_TYPE = UNDEFINED
/* POINTERS TO DATA OBJECTS */
^IMAGE = ("HH873_0000_BL4.TIF")
/* IDENTIFICATION DATA ELEMENTS */
DATA_SET_ID = "MEX-M-HRSC-4-REFDR-MAPPROJECT-EXT6-V4.0"
DATA_SET_NAME = "MARS EXPRESS HRSC MAP PROJECTED REFDR EXTENSION6 V4.0"
DETECTOR_ID = MEX_HRSC_BLUE
EVENT_TYPE = "MARS-REGIONAL-MAPPING-Vo-Te-Im"
INSTRUMENT_HOST_ID = MEX
INSTRUMENT_HOST_NAME = "MARS EXPRESS"
INSTRUMENT_ID = HRSC
INSTRUMENT_NAME = "HIGH RESOLUTION STEREO CAMERA"
MISSION_NAME = "MARS EXPRESS"
MISSION_PHASE_NAME = ME_Phase_38
PROCESSING_LEVEL_ID = 4
PRODUCT_CREATION_TIME = 2023-01-28T19:29:54.000Z
PRODUCT_ID = "HH873_0000_BL4.TIF"
RELEASE_ID = 0003
REVISION_ID = 0000
/* QUALITY DATA ELEMENTS */
DATA_QUALITY_ID = 1
DATA_QUALITY_DESC = "Data calculated based on original SPICE kernels"
/* TIME DATA ELEMENTS */
SPACECRAFT_CLOCK_START_COUNT = "1/0466663889.07340"
SPACECRAFT_CLOCK_STOP_COUNT = "1/0466664163.32249"
START_TIME = 2018-02-14T04:52:18.599Z
STOP_TIME = 2018-02-14T04:55:31.857Z
/* ORBITAL DATA ELEMENTS */
ASCENDING_NODE_LONGITUDE = 238.58
MAXIMUM_RESOLUTION = 0.0607
FOOTPRINT_POINT_LATITUDE = (31.4711,31.4703,31.468,31.4617,31.4616 ,31.4664,31.1128,30.8767,30.6403, 30.4039,30.0494,29.813,29.577,29.341, 29.1051,28.8695,28.6341,28.3989,28.1639 ,27.9291,27.6944,27.3428,26.7582, 26.5239,26.0573,25.5912,25.2352,24.9966 ,24.7583,24.5203,24.2828,24.0453, 23.8043,23.5613,23.3186,23.076,22.8337, 22.5919,22.3444,22.0967,21.8493,21.6023 ,21.3555,20.9778,20.7256,20.4736, 20.2221,19.8383,19.5813,19.4529,19.4289 ,19.4277,19.4255,19.4214,19.4183, 19.4142,19.414,19.4151,19.8038,20.1897, 20.4417,20.6941,20.9469,21.3259,21.5732 ,21.8207,22.0686,22.3166,22.6866, 23.0508,23.4156,23.659,24.023,24.2609, 24.499,24.7373,24.9759,25.2148,25.5717, 25.9218,26.389,26.8569,27.4433,27.6781, 27.9132,28.2659,28.5014,28.737,29.0909, 29.3268,29.5632,29.7994,30.0358,30.2723 ,30.627,30.8616,31.0969,31.3328,31.451, 31.4711)
FOOTPRINT_POINT_LONGITUDE = (150.445,150.059,149.6,148.92,148.905, 148.885,148.886,148.888,148.891,148.894 ,148.899,148.903,148.906,148.909, 148.913,148.916,148.918,148.92,148.923, 148.924,148.926,148.928,148.93,148.933, 148.934,148.935,148.935,148.934,148.934 ,148.933,148.932,148.931,148.929, 148.927,148.924,148.922,148.92,148.917, 148.914,148.911,148.908,148.905,148.902 ,148.897,148.893,148.89,148.886,148.88, 148.876,148.874,148.874,149.19,149.445, 149.807,150.104,150.54,150.555,150.561, 150.56,150.558,150.556,150.554,150.552, 150.549,150.547,150.545,150.543,150.54, 150.537,150.534,150.531,150.529,150.526 ,150.524,150.522,150.52,150.517,150.515 ,150.512,150.509,150.505,150.501, 150.496,150.493,150.491,150.488,150.486 ,150.483,150.48,150.477,150.475,150.472 ,150.47,150.467,150.463,150.458,150.453 ,150.449,150.447,150.445)
ORBIT_NUMBER = 17873
ORBITAL_ECCENTRICITY = 0.573
ORBITAL_INCLINATION = 86.96
ORBITAL_SEMIMAJOR_AXIS = 8807.78
PERIAPSIS_ALTITUDE = 369.01
PERIAPSIS_ARGUMENT_ANGLE = 139.85
PERIAPSIS_TIME = 2018-02-14T04:49:58.000Z
SPACECRAFT_ORIENTATION = (0.0,-1.0,0.0)
^MEX_ORIENTATION_DESC = "MEX_ORIENTATION_DESC.TXT"
SPACECRAFT_POINTING_MODE = ACROSSTRACK
^MEX_POINTING_DESC = "MEX_POINTING_DESC.TXT"
RIGHT_ASCENSION = -1e+32
DECLINATION = -1e+32
OFFSET_ANGLE = -0.3
SPACECRAFT_SOLAR_DISTANCE = 2.37621e+08
TARGET_NAME = MARS
/* CAMERA DATA ELEMENTS */
DETECTOR_TEMPERATURE = 18.3705
FOCAL_PLANE_TEMPERATURE = 8.3794
INST_CMPRS_NAME = "DISCRETE COSINE TRANSFORMATION (DCT)"
INST_CMPRS_RATIO = 7.48613
INST_CMPRS_QUALITY = 0
INST_CMPRS_QUANTZ_TBL_ID = 0
INSTRUMENT_TEMPERATURE = 11.6418
LENS_TEMPERATURE = 8.5833
MACROPIXEL_SIZE = 4
MISSING_FRAMES = 0
PIXEL_SUBSAMPLING_FLAG = N
SIGNAL_CHAIN_ID = 2
/* RADIOMETRIC DATA ELEMENTS */
BANDWIDTH = 76.0
CENTER_FILTER_WAVELENGTH = 444.0
RADIANCE_OFFSET = 0.701956
RADIANCE_SCALING_FACTOR = 0.00272551
REFLECTANCE_SCALING_FACTOR = 0.000158115
MEX:REFLECTANCE_OFFSET = 0.0407225
/* IMAGE OBJECT DEFINITIONS */
OBJECT = IMAGE
  INTERCHANGE_FORMAT = BINARY
  LINES = 14310
  LINE_SAMPLES = 1881
  SAMPLE_TYPE = UNSIGNED_INTEGER
  SAMPLE_BITS = 8
  BANDS = 1
  BAND_STORAGE_TYPE = BAND_SEQUENTIAL
  MAXIMUM = 255
  MEAN = 150.885
  MINIMUM = 1
  STANDARD_DEVIATION = 26.6367
END_OBJECT = IMAGE
/* MAP OBJECT DEFINITIONS */
OBJECT = IMAGE_MAP_PROJECTION
  ^DATA_SET_MAP_PROJECTION_CATALOG= "DSMAP.CAT"
  A_AXIS_RADIUS = 3396.0
  B_AXIS_RADIUS = 3396.0
  C_AXIS_RADIUS = 3396.0
  CENTER_LATITUDE = 0.0
  CENTER_LONGITUDE = 150.0
  COORDINATE_SYSTEM_NAME = PLANETOGRAPHIC
  COORDINATE_SYSTEM_TYPE = "BODY-FIXED ROTATING"
  EASTERNMOST_LONGITUDE = 150.561
  FIRST_STANDARD_PARALLEL = "N/A"
  LINE_FIRST_PIXEL = 1
  LINE_LAST_PIXEL = 14310
  LINE_PROJECTION_OFFSET = 37320.875
  MAP_PROJECTION_ROTATION = 0.0
  MAP_PROJECTION_TYPE = SINUSOIDAL
  MAP_RESOLUTION = 1185.42760773333
  MAP_SCALE = 0.05
  MAXIMUM_LATITUDE = 31.4711
  MINIMUM_LATITUDE = 19.414
  POSITIVE_LONGITUDE_DIRECTION = EAST
  REFERENCE_LATITUDE = "N/A"
  REFERENCE_LONGITUDE = "N/A"
  SAMPLE_FIRST_PIXEL = 1
  SAMPLE_LAST_PIXEL = 1881
  SAMPLE_PROJECTION_OFFSET = 1262.125
  SECOND_STANDARD_PARALLEL = "N/A"
  WESTERNMOST_LONGITUDE = 148.874
END_OBJECT = IMAGE_MAP_PROJECTION
END
