PDS_VERSION_ID = PDS3
/* FILE DATA ELEMENTS */
RECORD_TYPE = UNDEFINED
/* POINTERS TO DATA OBJECTS */
^IMAGE = ("HH876_0000_P24.TIF")
/* IDENTIFICATION DATA ELEMENTS */
DATA_SET_ID = "MEX-M-HRSC-4-REFDR-MAPPROJECT-EXT6-V4.0"
DATA_SET_NAME = "MARS EXPRESS HRSC MAP PROJECTED REFDR EXTENSION6 V4.0"
DETECTOR_ID = MEX_HRSC_P2
EVENT_TYPE = "MARS-LOCAL-VARIABLE-Eo-At-Sh"
INSTRUMENT_HOST_ID = MEX
INSTRUMENT_HOST_NAME = "MARS EXPRESS"
INSTRUMENT_ID = HRSC
INSTRUMENT_NAME = "HIGH RESOLUTION STEREO CAMERA"
MISSION_NAME = "MARS EXPRESS"
MISSION_PHASE_NAME = ME_Phase_38
PROCESSING_LEVEL_ID = 4
PRODUCT_CREATION_TIME = 2023-01-28T19:29:54.000Z
PRODUCT_ID = "HH876_0000_P24.TIF"
RELEASE_ID = 0003
REVISION_ID = 0000
/* QUALITY DATA ELEMENTS */
DATA_QUALITY_ID = 1
DATA_QUALITY_DESC = "Data calculated based on original SPICE kernels"
/* TIME DATA ELEMENTS */
SPACECRAFT_CLOCK_START_COUNT = "1/0466739184.08269"
SPACECRAFT_CLOCK_STOP_COUNT = "1/0466739374.16643"
START_TIME = 2018-02-15T01:47:28.630Z
STOP_TIME = 2018-02-15T01:49:28.917Z
/* ORBITAL DATA ELEMENTS */
ASCENDING_NODE_LONGITUDE = 238.52
MAXIMUM_RESOLUTION = 0.0308
FOOTPRINT_POINT_LATITUDE = (39.5355,39.5303,39.5279,39.5243, 39.5207,39.5126,39.5123,39.5623,39.2229 ,39.0195,38.8161,38.5451,38.342,38.0036 ,37.6656,37.3954,37.1588,36.9976, 36.8366,36.6757,36.4345,36.2737,36.1131 ,35.9524,35.7919,35.6314,35.4711, 35.3108,35.1506,34.9104,34.7504,34.5905 ,34.4306,34.2709,34.1112,33.9517, 33.7921,33.6328,33.4736,33.3143,33.1552 ,32.9961,32.8372,32.6783,32.5196,32.361 ,32.2025,32.044,31.9648,31.9262,31.9287 ,31.9306,31.9318,31.9332,31.9346, 31.9353,31.9353,31.9358,32.0945,32.2533 ,32.4122,32.5711,32.7302,32.8893, 33.0486,33.2079,33.3673,33.5268,33.6864 ,33.846,34.0058,34.1658,34.4059,34.6461 ,34.8063,34.9666,35.127,35.2875,35.5284 ,35.689,35.8498,36.0912,36.2522,36.4132 ,36.5743,36.7355,36.8968,37.0582, 37.2196,37.45,37.7207,37.9239,38.2628, 38.4663,38.7378,39.0774,39.2812,39.4854 ,39.5535,39.5355)
FOOTPRINT_POINT_LONGITUDE = (204.37,203.893,203.702,203.447,203.208 ,202.747,202.731,202.694,202.707, 202.714,202.721,202.73,202.736,202.747, 202.757,202.765,202.771,202.776,202.78, 202.784,202.79,202.794,202.798,202.802, 202.805,202.809,202.812,202.816,202.819 ,202.824,202.827,202.83,202.833,202.836 ,202.839,202.841,202.844,202.846, 202.849,202.851,202.853,202.856,202.858 ,202.86,202.862,202.864,202.866,202.867 ,202.868,202.869,203.151,203.403, 203.591,203.843,204.188,204.471,204.487 ,204.493,204.491,204.49,204.488,204.486 ,204.485,204.483,204.482,204.48,204.478 ,204.477,204.475,204.473,204.471,204.47 ,204.467,204.464,204.463,204.461, 204.459,204.457,204.454,204.452,204.45, 204.447,204.445,204.443,204.441,204.439 ,204.437,204.435,204.433,204.43,204.426 ,204.423,204.419,204.416,204.412, 204.407,204.404,204.4,204.399,204.37)
ORBIT_NUMBER = 17876
ORBITAL_ECCENTRICITY = 0.573
ORBITAL_INCLINATION = 86.97
ORBITAL_SEMIMAJOR_AXIS = 8804.55
PERIAPSIS_ALTITUDE = 368.61
PERIAPSIS_ARGUMENT_ANGLE = 139.31
PERIAPSIS_TIME = 2018-02-15T01:46:50.000Z
SPACECRAFT_ORIENTATION = (0.0,-1.0,0.0)
^MEX_ORIENTATION_DESC = "MEX_ORIENTATION_DESC.TXT"
SPACECRAFT_POINTING_MODE = NADIR
^MEX_POINTING_DESC = "MEX_POINTING_DESC.TXT"
RIGHT_ASCENSION = -1e+32
DECLINATION = -1e+32
OFFSET_ANGLE = -1e+32
SPACECRAFT_SOLAR_DISTANCE = 2.37475e+08
TARGET_NAME = MARS
/* CAMERA DATA ELEMENTS */
DETECTOR_TEMPERATURE = 18.5744
FOCAL_PLANE_TEMPERATURE = 8.7872
INST_CMPRS_NAME = "DISCRETE COSINE TRANSFORMATION (DCT)"
INST_CMPRS_RATIO = 6.24542
INST_CMPRS_QUALITY = 0
INST_CMPRS_QUANTZ_TBL_ID = 0
INSTRUMENT_TEMPERATURE = 11.6418
LENS_TEMPERATURE = 9.3989
MACROPIXEL_SIZE = 2
MISSING_FRAMES = 0
PIXEL_SUBSAMPLING_FLAG = N
SIGNAL_CHAIN_ID = 3
/* RADIOMETRIC DATA ELEMENTS */
BANDWIDTH = 177.0
CENTER_FILTER_WAVELENGTH = 676.5
RADIANCE_OFFSET = 3.33077
RADIANCE_SCALING_FACTOR = 0.015301
REFLECTANCE_SCALING_FACTOR = 0.000457525
MEX:REFLECTANCE_OFFSET = 0.0995953
/* IMAGE OBJECT DEFINITIONS */
OBJECT = IMAGE
  INTERCHANGE_FORMAT = BINARY
  LINES = 18168
  LINE_SAMPLES = 3335
  SAMPLE_TYPE = UNSIGNED_INTEGER
  SAMPLE_BITS = 8
  BANDS = 1
  BAND_STORAGE_TYPE = BAND_SEQUENTIAL
  MAXIMUM = 255
  MEAN = 126.829
  MINIMUM = 1
  STANDARD_DEVIATION = 36.646
END_OBJECT = IMAGE
/* MAP OBJECT DEFINITIONS */
OBJECT = IMAGE_MAP_PROJECTION
  ^DATA_SET_MAP_PROJECTION_CATALOG= "DSMAP.CAT"
  A_AXIS_RADIUS = 3396.0
  B_AXIS_RADIUS = 3396.0
  C_AXIS_RADIUS = 3396.0
  CENTER_LATITUDE = 0.0
  CENTER_LONGITUDE = 204.0
  COORDINATE_SYSTEM_NAME = PLANETOGRAPHIC
  COORDINATE_SYSTEM_TYPE = "BODY-FIXED ROTATING"
  EASTERNMOST_LONGITUDE = 204.493
  FIRST_STANDARD_PARALLEL = "N/A"
  LINE_FIRST_PIXEL = 1
  LINE_LAST_PIXEL = 18168
  LINE_PROJECTION_OFFSET = 93808.25
  MAP_PROJECTION_ROTATION = 0.0
  MAP_PROJECTION_TYPE = SINUSOIDAL
  MAP_RESOLUTION = 2370.85521546667
  MAP_SCALE = 0.025
  MAXIMUM_LATITUDE = 39.5623
  MINIMUM_LATITUDE = 31.9262
  POSITIVE_LONGITUDE_DIRECTION = EAST
  REFERENCE_LATITUDE = "N/A"
  REFERENCE_LONGITUDE = "N/A"
  SAMPLE_FIRST_PIXEL = 1
  SAMPLE_LAST_PIXEL = 3335
  SAMPLE_PROJECTION_OFFSET = 2375.75
  SECOND_STANDARD_PARALLEL = "N/A"
  WESTERNMOST_LONGITUDE = 202.694
END_OBJECT = IMAGE_MAP_PROJECTION
END
