PDS_VERSION_ID = PDS3
/* FILE DATA ELEMENTS */
RECORD_TYPE = UNDEFINED
/* POINTERS TO DATA OBJECTS */
^IMAGE = ("HH878_0009_ND4.TIF")
/* IDENTIFICATION DATA ELEMENTS */
DATA_SET_ID = "MEX-M-HRSC-4-REFDR-MAPPROJECT-EXT6-V4.0"
DATA_SET_NAME = "MARS EXPRESS HRSC MAP PROJECTED REFDR EXTENSION6 V4.0"
DETECTOR_ID = MEX_HRSC_NADIR
EVENT_TYPE = "MARS-LOCAL-STEREO-Im-Tc-Ts"
INSTRUMENT_HOST_ID = MEX
INSTRUMENT_HOST_NAME = "MARS EXPRESS"
INSTRUMENT_ID = HRSC
INSTRUMENT_NAME = "HIGH RESOLUTION STEREO CAMERA"
MISSION_NAME = "MARS EXPRESS"
MISSION_PHASE_NAME = ME_Phase_38
PROCESSING_LEVEL_ID = 4
PRODUCT_CREATION_TIME = 2023-01-28T19:29:54.000Z
PRODUCT_ID = "HH878_0009_ND4.TIF"
RELEASE_ID = 0003
REVISION_ID = 0000
/* QUALITY DATA ELEMENTS */
DATA_QUALITY_ID = 1
DATA_QUALITY_DESC = "Data calculated based on original SPICE kernels"
/* TIME DATA ELEMENTS */
SPACECRAFT_CLOCK_START_COUNT = "1/0466790157.07349"
SPACECRAFT_CLOCK_STOP_COUNT = "1/0466790393.15737"
START_TIME = 2018-02-15T15:57:28.398Z
STOP_TIME = 2018-02-15T15:57:59.420Z
/* ORBITAL DATA ELEMENTS */
ASCENDING_NODE_LONGITUDE = 238.49
MAXIMUM_RESOLUTION = 0.032
FOOTPRINT_POINT_LATITUDE = (-4.31786,-4.31405,-4.31151,-4.30897, -4.30642,-4.30385,-4.30125,-4.29861, -4.29597,-4.29334,-4.29071,-4.28803, -4.28532,-4.28262,-4.27993,-4.27721, -4.27448,-4.27174,-4.26897,-4.26619, -4.26198,-4.25916,-4.25633,-4.25349, -4.25063,-4.24991,-4.24974,-4.32571, -4.44714,-4.50852,-4.60055,-4.72311, -4.84551,-4.92276,-5.00002,-5.07725, -5.13898,-5.21609,-5.29388,-5.3562, -5.41847,-5.48071,-5.54291,-5.60507, -5.66786,-5.73066,-5.79342,-5.80911, -5.82202,-5.82514,-5.82826,-5.83138, -5.83446,-5.83751,-5.84054,-5.84356, -5.84654,-5.85023,-5.85243,-5.85534, -5.85824,-5.86135,-5.86257,-5.86613, -5.86822,-5.8703,-5.87239,-5.87587, -5.87794,-5.87995,-5.88327,-5.88594, -5.88795,-5.89125,-5.89386,-5.89451, -5.89437,-5.83146,-5.7685,-5.6741, -5.61176,-5.54939,-5.48698,-5.42453, -5.36203,-5.29952,-5.23768,-5.1758, -5.11387,-5.05191,-4.97439,-4.89714, -4.77438,-4.71294,-4.63608,-4.57455, -4.45217,-4.34556,-4.33033,-4.31786)
FOOTPRINT_POINT_LONGITUDE = (361.482,361.308,361.192,361.076, 360.961,360.846,360.731,360.616,360.501 ,360.387,360.272,360.158,360.045, 359.931,359.818,359.704,359.591,359.478 ,359.366,359.253,359.084,358.972,358.86 ,358.748,358.636,358.608,358.593, 358.588,358.581,358.577,358.571,358.563 ,358.555,358.55,358.545,358.54,358.536, 358.531,358.526,358.521,358.517,358.513 ,358.509,358.505,358.501,358.497, 358.493,358.492,358.491,358.607,358.725 ,358.842,358.96,359.078,359.195,359.313 ,359.431,359.579,359.668,359.786, 359.905,359.981,360.083,360.233,360.322 ,360.412,360.502,360.652,360.742, 360.833,360.986,361.106,361.195,361.346 ,361.468,361.499,361.513,361.512, 361.511,361.509,361.508,361.507,361.506 ,361.505,361.504,361.503,361.502, 361.501,361.5,361.499,361.499,361.497, 361.494,361.493,361.493,361.492,361.49, 361.488,361.488,361.482)
ORBIT_NUMBER = 17878
ORBITAL_ECCENTRICITY = 0.573
ORBITAL_INCLINATION = 86.96
ORBITAL_SEMIMAJOR_AXIS = 8805.52
PERIAPSIS_ALTITUDE = 369.24
PERIAPSIS_ARGUMENT_ANGLE = 138.95
PERIAPSIS_TIME = 2018-02-15T15:44:48.000Z
SPACECRAFT_ORIENTATION = (0.0,-1.0,0.0)
^MEX_ORIENTATION_DESC = "MEX_ORIENTATION_DESC.TXT"
SPACECRAFT_POINTING_MODE = ACROSSTRACK
^MEX_POINTING_DESC = "MEX_POINTING_DESC.TXT"
RIGHT_ASCENSION = -1e+32
DECLINATION = -1e+32
OFFSET_ANGLE = 0.98
SPACECRAFT_SOLAR_DISTANCE = 2.37378e+08
TARGET_NAME = MARS
/* CAMERA DATA ELEMENTS */
DETECTOR_TEMPERATURE = 18.5744
FOCAL_PLANE_TEMPERATURE = 10.0106
INST_CMPRS_NAME = "DISCRETE COSINE TRANSFORMATION (DCT)"
INST_CMPRS_RATIO = 6.10853
INST_CMPRS_QUALITY = 0
INST_CMPRS_QUANTZ_TBL_ID = 0
INSTRUMENT_TEMPERATURE = 11.8457
LENS_TEMPERATURE = 8.9911
MACROPIXEL_SIZE = 1
MISSING_FRAMES = 0
PIXEL_SUBSAMPLING_FLAG = N
SIGNAL_CHAIN_ID = 0
/* RADIOMETRIC DATA ELEMENTS */
BANDWIDTH = 177.0
CENTER_FILTER_WAVELENGTH = 677.5
RADIANCE_OFFSET = 1.09374
RADIANCE_SCALING_FACTOR = 0.015298
REFLECTANCE_SCALING_FACTOR = 0.000457926
MEX:REFLECTANCE_OFFSET = 0.0327396
/* IMAGE OBJECT DEFINITIONS */
OBJECT = IMAGE
  INTERCHANGE_FORMAT = BINARY
  LINES = 3901
  LINE_SAMPLES = 7129
  SAMPLE_TYPE = UNSIGNED_INTEGER
  SAMPLE_BITS = 8
  BANDS = 1
  BAND_STORAGE_TYPE = BAND_SEQUENTIAL
  MAXIMUM = 255
  MEAN = 74.8107
  MINIMUM = 1
  STANDARD_DEVIATION = 20.1026
END_OBJECT = IMAGE
/* MAP OBJECT DEFINITIONS */
OBJECT = IMAGE_MAP_PROJECTION
  ^DATA_SET_MAP_PROJECTION_CATALOG= "DSMAP.CAT"
  A_AXIS_RADIUS = 3396.0
  B_AXIS_RADIUS = 3396.0
  C_AXIS_RADIUS = 3396.0
  CENTER_LATITUDE = 0.0
  CENTER_LONGITUDE = 360.0
  COORDINATE_SYSTEM_NAME = PLANETOGRAPHIC
  COORDINATE_SYSTEM_TYPE = "BODY-FIXED ROTATING"
  EASTERNMOST_LONGITUDE = 1.513
  FIRST_STANDARD_PARALLEL = "N/A"
  LINE_FIRST_PIXEL = 1
  LINE_LAST_PIXEL = 3901
  LINE_PROJECTION_OFFSET = -10075.0
  MAP_PROJECTION_ROTATION = 0.0
  MAP_PROJECTION_TYPE = SINUSOIDAL
  MAP_RESOLUTION = 2370.85521546667
  MAP_SCALE = 0.025
  MAXIMUM_LATITUDE = -4.24974
  MINIMUM_LATITUDE = -5.89451
  POSITIVE_LONGITUDE_DIRECTION = EAST
  REFERENCE_LATITUDE = "N/A"
  REFERENCE_LONGITUDE = "N/A"
  SAMPLE_FIRST_PIXEL = 1
  SAMPLE_LAST_PIXEL = 7129
  SAMPLE_PROJECTION_OFFSET = 3559.0
  SECOND_STANDARD_PARALLEL = "N/A"
  WESTERNMOST_LONGITUDE = -1.509
END_OBJECT = IMAGE_MAP_PROJECTION
END
