PDS_VERSION_ID = PDS3
/* FILE DATA ELEMENTS */
RECORD_TYPE = UNDEFINED
/* POINTERS TO DATA OBJECTS */
^IMAGE = ("HH879_0000_S24.TIF")
/* IDENTIFICATION DATA ELEMENTS */
DATA_SET_ID = "MEX-M-HRSC-4-REFDR-MAPPROJECT-EXT6-V4.0"
DATA_SET_NAME = "MARS EXPRESS HRSC MAP PROJECTED REFDR EXTENSION6 V4.0"
DETECTOR_ID = MEX_HRSC_S2
EVENT_TYPE = "MARS-REGIONAL-STEREO-Vo-Te"
INSTRUMENT_HOST_ID = MEX
INSTRUMENT_HOST_NAME = "MARS EXPRESS"
INSTRUMENT_ID = HRSC
INSTRUMENT_NAME = "HIGH RESOLUTION STEREO CAMERA"
MISSION_NAME = "MARS EXPRESS"
MISSION_PHASE_NAME = ME_Phase_38
PROCESSING_LEVEL_ID = 4
PRODUCT_CREATION_TIME = 2023-01-28T19:29:54.000Z
PRODUCT_ID = "HH879_0000_S24.TIF"
RELEASE_ID = 0003
REVISION_ID = 0000
/* QUALITY DATA ELEMENTS */
DATA_QUALITY_ID = 1
DATA_QUALITY_DESC = "Data calculated based on original SPICE kernels"
/* TIME DATA ELEMENTS */
SPACECRAFT_CLOCK_START_COUNT = "1/0466814564.08285"
SPACECRAFT_CLOCK_STOP_COUNT = "1/0466814773.42126"
START_TIME = 2018-02-15T22:44:01.131Z
STOP_TIME = 2018-02-15T22:46:20.883Z
/* ORBITAL DATA ELEMENTS */
ASCENDING_NODE_LONGITUDE = 238.47
MAXIMUM_RESOLUTION = 0.0156
FOOTPRINT_POINT_LATITUDE = (42.6806,42.6656,42.6533,42.6407, 42.6279,42.6149,42.6016,42.6007,42.6369 ,42.1774,41.997,41.8143,41.6325,41.4509 ,41.1783,40.9947,40.7204,40.5389, 40.3581,40.1767,39.9961,39.8174,39.6358 ,39.4548,39.2749,39.0962,38.9165, 38.7367,38.557,38.3782,38.1998,37.9325, 37.753,37.5749,37.3971,37.2189,37.0412, 36.8636,36.6858,36.5088,36.3314,36.1538 ,35.9767,35.7998,35.623,35.2706,34.8288 ,34.3883,33.8596,33.7718,33.7576, 33.7741,33.7909,33.8013,33.8125,33.8247 ,33.8254,33.8259,34.179,34.5328,34.9752 ,35.1526,35.5064,35.6834,35.8604, 36.0384,36.305,36.4825,36.6602,36.8385, 37.0169,37.196,37.3731,37.5511,37.7293, 37.9085,38.1769,38.3564,38.535,38.7146, 38.8943,39.1638,39.3431,39.5233,39.704, 39.9754,40.1556,40.3372,40.6096,40.8826 ,41.0652,41.2473,41.4299,41.6136,41.796 ,41.9784,42.3324,42.6387,42.7151, 42.6806)
FOOTPRINT_POINT_LONGITUDE = (259.061,258.703,258.421,258.142, 257.866,257.592,257.322,257.305,257.3, 257.313,257.318,257.323,257.328,257.333 ,257.34,257.344,257.35,257.354,257.358, 257.362,257.366,257.37,257.373,257.376, 257.38,257.383,257.386,257.389,257.392, 257.395,257.398,257.402,257.405,257.407 ,257.409,257.412,257.414,257.416, 257.418,257.42,257.422,257.423,257.425, 257.426,257.428,257.43,257.433,257.435, 257.437,257.437,257.437,257.805,258.21, 258.473,258.755,259.074,259.091,259.099 ,259.099,259.1,259.1,259.101,259.1, 259.1,259.099,259.099,259.099,259.098, 259.098,259.098,259.098,259.098,259.097 ,259.096,259.095,259.095,259.094, 259.094,259.094,259.093,259.093,259.093 ,259.092,259.092,259.092,259.092, 259.092,259.092,259.093,259.094,259.095 ,259.096,259.097,259.099,259.099,259.1, 259.103,259.104,259.104,259.061)
ORBIT_NUMBER = 17879
ORBITAL_ECCENTRICITY = 0.574
ORBITAL_INCLINATION = 86.96
ORBITAL_SEMIMAJOR_AXIS = 8814.29
PERIAPSIS_ALTITUDE = 368.68
PERIAPSIS_ARGUMENT_ANGLE = 138.78
PERIAPSIS_TIME = 2018-02-15T22:43:51.000Z
SPACECRAFT_ORIENTATION = (0.0,-1.0,0.0)
^MEX_ORIENTATION_DESC = "MEX_ORIENTATION_DESC.TXT"
SPACECRAFT_POINTING_MODE = ACROSSTRACK
^MEX_POINTING_DESC = "MEX_POINTING_DESC.TXT"
RIGHT_ASCENSION = -1e+32
DECLINATION = -1e+32
OFFSET_ANGLE = 0.808
SPACECRAFT_SOLAR_DISTANCE = 2.37329e+08
TARGET_NAME = MARS
/* CAMERA DATA ELEMENTS */
DETECTOR_TEMPERATURE = 18.5744
FOCAL_PLANE_TEMPERATURE = 8.5833
INST_CMPRS_NAME = "DISCRETE COSINE TRANSFORMATION (DCT)"
INST_CMPRS_RATIO = 5.97112
INST_CMPRS_QUALITY = 0
INST_CMPRS_QUANTZ_TBL_ID = 0
INSTRUMENT_TEMPERATURE = 11.6418
LENS_TEMPERATURE = 8.7872
MACROPIXEL_SIZE = 1
MISSING_FRAMES = 0
PIXEL_SUBSAMPLING_FLAG = N
SIGNAL_CHAIN_ID = 1
/* RADIOMETRIC DATA ELEMENTS */
BANDWIDTH = 178.0
CENTER_FILTER_WAVELENGTH = 679.0
RADIANCE_OFFSET = 2.57578
RADIANCE_SCALING_FACTOR = 0.0352416
REFLECTANCE_SCALING_FACTOR = 0.0010512
MEX:REFLECTANCE_OFFSET = 0.0768317
/* IMAGE OBJECT DEFINITIONS */
OBJECT = IMAGE
  INTERCHANGE_FORMAT = BINARY
  LINES = 42208
  LINE_SAMPLES = 6646
  SAMPLE_TYPE = UNSIGNED_INTEGER
  SAMPLE_BITS = 8
  BANDS = 1
  BAND_STORAGE_TYPE = BAND_SEQUENTIAL
  MAXIMUM = 255
  MEAN = 124.619
  MINIMUM = 1
  STANDARD_DEVIATION = 16.6869
END_OBJECT = IMAGE
/* MAP OBJECT DEFINITIONS */
OBJECT = IMAGE_MAP_PROJECTION
  ^DATA_SET_MAP_PROJECTION_CATALOG= "DSMAP.CAT"
  A_AXIS_RADIUS = 3396.0
  B_AXIS_RADIUS = 3396.0
  C_AXIS_RADIUS = 3396.0
  CENTER_LATITUDE = 0.0
  CENTER_LONGITUDE = 258.0
  COORDINATE_SYSTEM_NAME = PLANETOGRAPHIC
  COORDINATE_SYSTEM_TYPE = "BODY-FIXED ROTATING"
  EASTERNMOST_LONGITUDE = 259.104
  FIRST_STANDARD_PARALLEL = "N/A"
  LINE_FIRST_PIXEL = 1
  LINE_LAST_PIXEL = 42208
  LINE_PROJECTION_OFFSET = 202469.0
  MAP_PROJECTION_ROTATION = 0.0
  MAP_PROJECTION_TYPE = SINUSOIDAL
  MAP_RESOLUTION = 4741.71043093333
  MAP_SCALE = 0.0125
  MAXIMUM_LATITUDE = 42.7151
  MINIMUM_LATITUDE = 33.7576
  POSITIVE_LONGITUDE_DIRECTION = EAST
  REFERENCE_LATITUDE = "N/A"
  REFERENCE_LONGITUDE = "N/A"
  SAMPLE_FIRST_PIXEL = 1
  SAMPLE_LAST_PIXEL = 6646
  SAMPLE_PROJECTION_OFFSET = 2452.0
  SECOND_STANDARD_PARALLEL = "N/A"
  WESTERNMOST_LONGITUDE = 257.3
END_OBJECT = IMAGE_MAP_PROJECTION
END
