PDS_VERSION_ID = PDS3
/* FILE DATA ELEMENTS */
RECORD_TYPE = UNDEFINED
/* POINTERS TO DATA OBJECTS */
^IMAGE = ("HH882_0000_BL4.TIF")
/* IDENTIFICATION DATA ELEMENTS */
DATA_SET_ID = "MEX-M-HRSC-4-REFDR-MAPPROJECT-EXT6-V4.0"
DATA_SET_NAME = "MARS EXPRESS HRSC MAP PROJECTED REFDR EXTENSION6 V4.0"
DETECTOR_ID = MEX_HRSC_BLUE
EVENT_TYPE = "MARS-REGIONAL-MAPPING-Vo-Fl-La"
INSTRUMENT_HOST_ID = MEX
INSTRUMENT_HOST_NAME = "MARS EXPRESS"
INSTRUMENT_ID = HRSC
INSTRUMENT_NAME = "HIGH RESOLUTION STEREO CAMERA"
MISSION_NAME = "MARS EXPRESS"
MISSION_PHASE_NAME = ME_Phase_38
PROCESSING_LEVEL_ID = 4
PRODUCT_CREATION_TIME = 2023-01-28T19:29:54.000Z
PRODUCT_ID = "HH882_0000_BL4.TIF"
RELEASE_ID = 0003
REVISION_ID = 0000
/* QUALITY DATA ELEMENTS */
DATA_QUALITY_ID = 1
DATA_QUALITY_DESC = "Data calculated based on original SPICE kernels"
/* TIME DATA ELEMENTS */
SPACECRAFT_CLOCK_START_COUNT = "1/0466889896.08293"
SPACECRAFT_CLOCK_STOP_COUNT = "1/0466890089.22878"
START_TIME = 2018-02-16T19:39:06.899Z
STOP_TIME = 2018-02-16T19:41:08.697Z
/* ORBITAL DATA ELEMENTS */
ASCENDING_NODE_LONGITUDE = 238.41
MAXIMUM_RESOLUTION = 0.0597
FOOTPRINT_POINT_LATITUDE = (48.4219,48.4175,48.411,48.4028,48.3955 ,48.3837,48.3753,48.3747,48.3892,48.134 ,47.9637,47.7936,47.6231,47.4528, 47.2823,47.1119,46.9416,46.6859,46.5154 ,46.3448,46.1743,46.0037,45.833,45.6624 ,45.4917,45.3211,45.1504,44.9796, 44.7236,44.5529,44.4054,44.1193,43.9049 ,43.6188,43.2612,43.1182,42.9036,42.689 ,42.4029,42.2598,42.1167,41.7592, 41.4017,41.1157,40.6868,40.6153,40.5557 ,40.5617,40.5677,40.5721,40.5766, 40.5799,40.5831,40.5832,40.5841,40.7991 ,41.014,41.1573,41.3007,41.5157,41.659, 41.8024,41.9458,42.0892,42.3042,42.4477 ,42.6628,42.8062,42.9496,43.093,43.2365 ,43.3799,43.595,43.7385,43.8819,44.097, 44.2405,44.384,44.5273,44.6916,44.8628, 45.0339,45.2907,45.5474,45.7185,45.8897 ,46.0608,46.2319,46.4885,46.6595, 46.9161,47.0871,47.258,47.429,47.5999, 47.8563,48.0271,48.2834,48.3688, 48.4219)
FOOTPRINT_POINT_LONGITUDE = (311.405,311.153,310.829,310.468, 310.181,309.767,309.497,309.479,309.432 ,309.453,309.467,309.481,309.494, 309.508,309.521,309.534,309.547,309.566 ,309.578,309.59,309.602,309.614,309.626 ,309.638,309.649,309.66,309.672,309.683 ,309.699,309.709,309.718,309.735, 309.747,309.763,309.782,309.79,309.801, 309.812,309.826,309.834,309.841,309.857 ,309.874,309.886,309.904,309.907,309.91 ,310.18,310.483,310.738,311.041,311.296 ,311.599,311.615,311.621,311.617, 311.613,311.611,311.608,311.605,311.602 ,311.6,311.597,311.594,311.59,311.588, 311.584,311.581,311.578,311.575,311.573 ,311.57,311.565,311.562,311.559,311.555 ,311.552,311.549,311.546,311.542, 311.538,311.534,311.528,311.522,311.518 ,311.514,311.51,311.506,311.5,311.495, 311.489,311.484,311.48,311.475,311.471, 311.464,311.459,311.452,311.449, 311.405)
ORBIT_NUMBER = 17882
ORBITAL_ECCENTRICITY = 0.573
ORBITAL_INCLINATION = 86.97
ORBITAL_SEMIMAJOR_AXIS = 8802.96
PERIAPSIS_ALTITUDE = 369.49
PERIAPSIS_ARGUMENT_ANGLE = 138.3
PERIAPSIS_TIME = 2018-02-16T19:40:46.000Z
SPACECRAFT_ORIENTATION = (0.0,-1.0,0.0)
^MEX_ORIENTATION_DESC = "MEX_ORIENTATION_DESC.TXT"
SPACECRAFT_POINTING_MODE = NADIR
^MEX_POINTING_DESC = "MEX_POINTING_DESC.TXT"
RIGHT_ASCENSION = -1e+32
DECLINATION = -1e+32
OFFSET_ANGLE = -1e+32
SPACECRAFT_SOLAR_DISTANCE = 2.37182e+08
TARGET_NAME = MARS
/* CAMERA DATA ELEMENTS */
DETECTOR_TEMPERATURE = 18.3705
FOCAL_PLANE_TEMPERATURE = 8.5833
INST_CMPRS_NAME = "DISCRETE COSINE TRANSFORMATION (DCT)"
INST_CMPRS_RATIO = 8.58893
INST_CMPRS_QUALITY = 0
INST_CMPRS_QUANTZ_TBL_ID = 0
INSTRUMENT_TEMPERATURE = 11.8457
LENS_TEMPERATURE = 8.9911
MACROPIXEL_SIZE = 4
MISSING_FRAMES = 0
PIXEL_SUBSAMPLING_FLAG = N
SIGNAL_CHAIN_ID = 2
/* RADIOMETRIC DATA ELEMENTS */
BANDWIDTH = 76.0
CENTER_FILTER_WAVELENGTH = 444.0
RADIANCE_OFFSET = 0.315566
RADIANCE_SCALING_FACTOR = 0.00167065
REFLECTANCE_SCALING_FACTOR = 9.65618e-05
MEX:REFLECTANCE_OFFSET = 0.0182394
/* IMAGE OBJECT DEFINITIONS */
OBJECT = IMAGE
  INTERCHANGE_FORMAT = BINARY
  LINES = 9348
  LINE_SAMPLES = 1805
  SAMPLE_TYPE = UNSIGNED_INTEGER
  SAMPLE_BITS = 8
  BANDS = 1
  BAND_STORAGE_TYPE = BAND_SEQUENTIAL
  MAXIMUM = 255
  MEAN = 161.698
  MINIMUM = 1
  STANDARD_DEVIATION = 14.4871
END_OBJECT = IMAGE
/* MAP OBJECT DEFINITIONS */
OBJECT = IMAGE_MAP_PROJECTION
  ^DATA_SET_MAP_PROJECTION_CATALOG= "DSMAP.CAT"
  A_AXIS_RADIUS = 3396.0
  B_AXIS_RADIUS = 3396.0
  C_AXIS_RADIUS = 3396.0
  CENTER_LATITUDE = 0.0
  CENTER_LONGITUDE = 311.0
  COORDINATE_SYSTEM_NAME = PLANETOGRAPHIC
  COORDINATE_SYSTEM_TYPE = "BODY-FIXED ROTATING"
  EASTERNMOST_LONGITUDE = 311.621
  FIRST_STANDARD_PARALLEL = "N/A"
  LINE_FIRST_PIXEL = 1
  LINE_LAST_PIXEL = 9348
  LINE_PROJECTION_OFFSET = 57417.875
  MAP_PROJECTION_ROTATION = 0.0
  MAP_PROJECTION_TYPE = SINUSOIDAL
  MAP_RESOLUTION = 1185.42760773333
  MAP_SCALE = 0.05
  MAXIMUM_LATITUDE = 48.4219
  MINIMUM_LATITUDE = 40.5557
  POSITIVE_LONGITUDE_DIRECTION = EAST
  REFERENCE_LATITUDE = "N/A"
  REFERENCE_LONGITUDE = "N/A"
  SAMPLE_FIRST_PIXEL = 1
  SAMPLE_LAST_PIXEL = 1805
  SAMPLE_PROJECTION_OFFSET = 1245.875
  SECOND_STANDARD_PARALLEL = "N/A"
  WESTERNMOST_LONGITUDE = 309.432
END_OBJECT = IMAGE_MAP_PROJECTION
END
