PDS_VERSION_ID = PDS3
/* FILE DATA ELEMENTS */
RECORD_TYPE = UNDEFINED
/* POINTERS TO DATA OBJECTS */
^IMAGE = ("HH882_0000_IR4.TIF")
/* IDENTIFICATION DATA ELEMENTS */
DATA_SET_ID = "MEX-M-HRSC-4-REFDR-MAPPROJECT-EXT6-V4.0"
DATA_SET_NAME = "MARS EXPRESS HRSC MAP PROJECTED REFDR EXTENSION6 V4.0"
DETECTOR_ID = MEX_HRSC_IR
EVENT_TYPE = "MARS-REGIONAL-MAPPING-Vo-Fl-La"
INSTRUMENT_HOST_ID = MEX
INSTRUMENT_HOST_NAME = "MARS EXPRESS"
INSTRUMENT_ID = HRSC
INSTRUMENT_NAME = "HIGH RESOLUTION STEREO CAMERA"
MISSION_NAME = "MARS EXPRESS"
MISSION_PHASE_NAME = ME_Phase_38
PROCESSING_LEVEL_ID = 4
PRODUCT_CREATION_TIME = 2023-01-28T19:29:54.000Z
PRODUCT_ID = "HH882_0000_IR4.TIF"
RELEASE_ID = 0003
REVISION_ID = 0000
/* QUALITY DATA ELEMENTS */
DATA_QUALITY_ID = 1
DATA_QUALITY_DESC = "Data calculated based on original SPICE kernels"
/* TIME DATA ELEMENTS */
SPACECRAFT_CLOCK_START_COUNT = "1/0466889896.08293"
SPACECRAFT_CLOCK_STOP_COUNT = "1/0466890089.22878"
START_TIME = 2018-02-16T19:38:31.662Z
STOP_TIME = 2018-02-16T19:40:35.258Z
/* ORBITAL DATA ELEMENTS */
ASCENDING_NODE_LONGITUDE = 238.41
MAXIMUM_RESOLUTION = 0.0623
FOOTPRINT_POINT_LATITUDE = (48.498,48.4931,48.4836,48.4735,48.4648 ,48.4457,48.445,48.3672,48.1272,47.8868 ,47.7265,47.5665,47.4063,47.2461, 47.0853,46.9244,46.7636,46.5221,46.2805 ,46.1192,45.9584,45.7973,45.5551, 45.3937,45.2322,45.0707,44.9089,44.7469 ,44.5849,44.4225,44.2604,44.0978, 43.9349,43.6909,43.4467,43.2838,43.1211 ,42.9581,42.795,42.6318,42.4688,42.3118 ,41.9007,41.4895,41.2153,41.0095, 40.6663,40.5977,40.5349,40.5463,40.5511 ,40.5557,40.5606,40.5634,40.5653, 40.5654,40.5663,40.9106,41.1858,41.4608 ,41.7355,41.9416,42.1473,42.3532, 42.5123,42.6759,42.8394,43.0028,43.1661 ,43.411,43.5743,43.819,44.0635,44.2264, 44.389,44.5518,44.7146,44.8771,45.0395, 45.2018,45.3641,45.5262,45.6883,45.8503 ,46.0122,46.174,46.3358,46.4975,46.6589 ,46.8202,47.0622,47.2234,47.3844, 47.6259,47.7867,47.9475,48.1081,48.2687 ,48.3489,48.498)
FOOTPRINT_POINT_LONGITUDE = (311.428,311.15,310.707,310.318,310.023 ,309.469,309.45,309.41,309.431,309.451, 309.464,309.478,309.491,309.504,309.516 ,309.529,309.541,309.56,309.578,309.589 ,309.601,309.613,309.63,309.641,309.652 ,309.663,309.673,309.684,309.694, 309.704,309.714,309.724,309.734,309.748 ,309.762,309.771,309.78,309.789,309.798 ,309.807,309.815,309.824,309.844, 309.864,309.877,309.886,309.901,309.905 ,309.907,310.37,310.595,310.835,311.171 ,311.412,311.604,311.62,311.626,311.621 ,311.616,311.612,311.608,311.605, 311.602,311.598,311.596,311.593,311.59, 311.588,311.585,311.581,311.578,311.573 ,311.569,311.566,311.563,311.56,311.556 ,311.553,311.55,311.547,311.543,311.54, 311.537,311.534,311.53,311.527,311.523, 311.519,311.516,311.512,311.507,311.503 ,311.499,311.494,311.49,311.486,311.482 ,311.478,311.476,311.428)
ORBIT_NUMBER = 17882
ORBITAL_ECCENTRICITY = 0.573
ORBITAL_INCLINATION = 86.97
ORBITAL_SEMIMAJOR_AXIS = 8802.96
PERIAPSIS_ALTITUDE = 369.49
PERIAPSIS_ARGUMENT_ANGLE = 138.3
PERIAPSIS_TIME = 2018-02-16T19:40:46.000Z
SPACECRAFT_ORIENTATION = (0.0,-1.0,0.0)
^MEX_ORIENTATION_DESC = "MEX_ORIENTATION_DESC.TXT"
SPACECRAFT_POINTING_MODE = NADIR
^MEX_POINTING_DESC = "MEX_POINTING_DESC.TXT"
RIGHT_ASCENSION = -1e+32
DECLINATION = -1e+32
OFFSET_ANGLE = -1e+32
SPACECRAFT_SOLAR_DISTANCE = 2.37182e+08
TARGET_NAME = MARS
/* CAMERA DATA ELEMENTS */
DETECTOR_TEMPERATURE = 17.9627
FOCAL_PLANE_TEMPERATURE = 8.5833
INST_CMPRS_NAME = "DISCRETE COSINE TRANSFORMATION (DCT)"
INST_CMPRS_RATIO = 10.6765
INST_CMPRS_QUALITY = 0
INST_CMPRS_QUANTZ_TBL_ID = 0
INSTRUMENT_TEMPERATURE = 11.8457
LENS_TEMPERATURE = 8.9911
MACROPIXEL_SIZE = 4
MISSING_FRAMES = 0
PIXEL_SUBSAMPLING_FLAG = N
SIGNAL_CHAIN_ID = 2
/* RADIOMETRIC DATA ELEMENTS */
BANDWIDTH = 81.0
CENTER_FILTER_WAVELENGTH = 955.5
RADIANCE_OFFSET = 0.416083
RADIANCE_SCALING_FACTOR = 0.00378787
REFLECTANCE_SCALING_FACTOR = 0.000459716
MEX:REFLECTANCE_OFFSET = 0.050498
/* IMAGE OBJECT DEFINITIONS */
OBJECT = IMAGE
  INTERCHANGE_FORMAT = BINARY
  LINES = 9348
  LINE_SAMPLES = 1805
  SAMPLE_TYPE = UNSIGNED_INTEGER
  SAMPLE_BITS = 8
  BANDS = 1
  BAND_STORAGE_TYPE = BAND_SEQUENTIAL
  MAXIMUM = 255
  MEAN = 131.897
  MINIMUM = 1
  STANDARD_DEVIATION = 26.4888
END_OBJECT = IMAGE
/* MAP OBJECT DEFINITIONS */
OBJECT = IMAGE_MAP_PROJECTION
  ^DATA_SET_MAP_PROJECTION_CATALOG= "DSMAP.CAT"
  A_AXIS_RADIUS = 3396.0
  B_AXIS_RADIUS = 3396.0
  C_AXIS_RADIUS = 3396.0
  CENTER_LATITUDE = 0.0
  CENTER_LONGITUDE = 311.0
  COORDINATE_SYSTEM_NAME = PLANETOGRAPHIC
  COORDINATE_SYSTEM_TYPE = "BODY-FIXED ROTATING"
  EASTERNMOST_LONGITUDE = 311.626
  FIRST_STANDARD_PARALLEL = "N/A"
  LINE_FIRST_PIXEL = 1
  LINE_LAST_PIXEL = 9348
  LINE_PROJECTION_OFFSET = 57417.875
  MAP_PROJECTION_ROTATION = 0.0
  MAP_PROJECTION_TYPE = SINUSOIDAL
  MAP_RESOLUTION = 1185.42760773333
  MAP_SCALE = 0.05
  MAXIMUM_LATITUDE = 48.498
  MINIMUM_LATITUDE = 40.5349
  POSITIVE_LONGITUDE_DIRECTION = EAST
  REFERENCE_LATITUDE = "N/A"
  REFERENCE_LONGITUDE = "N/A"
  SAMPLE_FIRST_PIXEL = 1
  SAMPLE_LAST_PIXEL = 1805
  SAMPLE_PROJECTION_OFFSET = 1245.875
  SECOND_STANDARD_PARALLEL = "N/A"
  WESTERNMOST_LONGITUDE = 309.41
END_OBJECT = IMAGE_MAP_PROJECTION
END
