PDS_VERSION_ID = PDS3
/* FILE DATA ELEMENTS */
RECORD_TYPE = UNDEFINED
/* POINTERS TO DATA OBJECTS */
^IMAGE = ("HH882_0000_ND4.TIF")
/* IDENTIFICATION DATA ELEMENTS */
DATA_SET_ID = "MEX-M-HRSC-4-REFDR-MAPPROJECT-EXT6-V4.0"
DATA_SET_NAME = "MARS EXPRESS HRSC MAP PROJECTED REFDR EXTENSION6 V4.0"
DETECTOR_ID = MEX_HRSC_NADIR
EVENT_TYPE = "MARS-REGIONAL-MAPPING-Vo-Fl-La"
INSTRUMENT_HOST_ID = MEX
INSTRUMENT_HOST_NAME = "MARS EXPRESS"
INSTRUMENT_ID = HRSC
INSTRUMENT_NAME = "HIGH RESOLUTION STEREO CAMERA"
MISSION_NAME = "MARS EXPRESS"
MISSION_PHASE_NAME = ME_Phase_38
PROCESSING_LEVEL_ID = 4
PRODUCT_CREATION_TIME = 2023-01-28T19:29:54.000Z
PRODUCT_ID = "HH882_0000_ND4.TIF"
RELEASE_ID = 0003
REVISION_ID = 0000
/* QUALITY DATA ELEMENTS */
DATA_QUALITY_ID = 1
DATA_QUALITY_DESC = "Data calculated based on original SPICE kernels"
/* TIME DATA ELEMENTS */
SPACECRAFT_CLOCK_START_COUNT = "1/0466889896.08293"
SPACECRAFT_CLOCK_STOP_COUNT = "1/0466890089.22878"
START_TIME = 2018-02-16T19:39:01.032Z
STOP_TIME = 2018-02-16T19:41:03.024Z
/* ORBITAL DATA ELEMENTS */
ASCENDING_NODE_LONGITUDE = 238.41
MAXIMUM_RESOLUTION = 0.0149
FOOTPRINT_POINT_LATITUDE = (48.4345,48.4222,48.41,48.4009,48.3865, 48.3858,48.3854,48.2158,48.0462,47.8765 ,47.7067,47.5369,47.3671,47.1972, 47.0273,46.8574,46.6874,46.5173,46.3473 ,46.1772,46.007,45.8368,45.6666,45.4964 ,45.3261,45.1558,44.9854,44.8151, 44.6447,44.4743,44.3038,44.1367,43.8511 ,43.6368,43.4224,43.1366,42.8508, 42.4934,42.136,41.9216,41.7071,41.4211, 41.1352,40.9207,40.6347,40.5632,40.5517 ,40.5564,40.5651,40.5701,40.5762, 40.5801,40.5803,40.5806,40.7239,40.8672 ,41.0822,41.2972,41.4405,41.6555, 41.7988,42.0138,42.1572,42.3005,42.4438 ,42.5871,42.7304,42.8737,43.017,43.1603 ,43.3036,43.5902,43.8767,44.1632,44.414 ,44.5849,44.7558,44.9267,45.0975, 45.2683,45.4391,45.6099,45.7806,45.9514 ,46.1221,46.2927,46.4634,46.634,46.8045 ,46.9751,47.1456,47.316,47.4865,47.6568 ,47.8272,47.9975,48.1678,48.338,48.4231 ,48.4345)
FOOTPRINT_POINT_LONGITUDE = (311.407,310.773,310.273,309.947, 309.486,309.467,309.417,309.431,309.445 ,309.459,309.473,309.486,309.5,309.513, 309.526,309.539,309.552,309.564,309.576 ,309.588,309.6,309.613,309.624,309.636, 309.647,309.658,309.669,309.68,309.691, 309.701,309.711,309.721,309.738,309.75, 309.762,309.777,309.792,309.81,309.828, 309.839,309.849,309.862,309.875,309.884 ,309.896,309.899,309.9,310.103,310.526, 310.814,311.238,311.594,311.611,311.62, 311.617,311.615,311.611,311.608,311.605 ,311.602,311.599,311.595,311.593,311.59 ,311.588,311.585,311.582,311.579, 311.577,311.574,311.571,311.565,311.56, 311.554,311.549,311.545,311.541,311.537 ,311.533,311.53,311.526,311.522,311.518 ,311.514,311.51,311.506,311.501,311.497 ,311.493,311.489,311.484,311.48,311.475 ,311.471,311.466,311.462,311.457, 311.452,311.45,311.407)
ORBIT_NUMBER = 17882
ORBITAL_ECCENTRICITY = 0.573
ORBITAL_INCLINATION = 86.97
ORBITAL_SEMIMAJOR_AXIS = 8802.96
PERIAPSIS_ALTITUDE = 369.49
PERIAPSIS_ARGUMENT_ANGLE = 138.3
PERIAPSIS_TIME = 2018-02-16T19:40:46.000Z
SPACECRAFT_ORIENTATION = (0.0,-1.0,0.0)
^MEX_ORIENTATION_DESC = "MEX_ORIENTATION_DESC.TXT"
SPACECRAFT_POINTING_MODE = NADIR
^MEX_POINTING_DESC = "MEX_POINTING_DESC.TXT"
RIGHT_ASCENSION = -1e+32
DECLINATION = -1e+32
OFFSET_ANGLE = -1e+32
SPACECRAFT_SOLAR_DISTANCE = 2.37182e+08
TARGET_NAME = MARS
/* CAMERA DATA ELEMENTS */
DETECTOR_TEMPERATURE = 18.3705
FOCAL_PLANE_TEMPERATURE = 8.5833
INST_CMPRS_NAME = "DISCRETE COSINE TRANSFORMATION (DCT)"
INST_CMPRS_RATIO = 5.85588
INST_CMPRS_QUALITY = 0
INST_CMPRS_QUANTZ_TBL_ID = 0
INSTRUMENT_TEMPERATURE = 11.8457
LENS_TEMPERATURE = 8.9911
MACROPIXEL_SIZE = 1
MISSING_FRAMES = 0
PIXEL_SUBSAMPLING_FLAG = N
SIGNAL_CHAIN_ID = 0
/* RADIOMETRIC DATA ELEMENTS */
BANDWIDTH = 177.0
CENTER_FILTER_WAVELENGTH = 677.5
RADIANCE_OFFSET = 1.58402
RADIANCE_SCALING_FACTOR = 0.0147243
REFLECTANCE_SCALING_FACTOR = 0.000440034
MEX:REFLECTANCE_OFFSET = 0.047338
/* IMAGE OBJECT DEFINITIONS */
OBJECT = IMAGE
  INTERCHANGE_FORMAT = BINARY
  LINES = 37389
  LINE_SAMPLES = 7218
  SAMPLE_TYPE = UNSIGNED_INTEGER
  SAMPLE_BITS = 8
  BANDS = 1
  BAND_STORAGE_TYPE = BAND_SEQUENTIAL
  MAXIMUM = 255
  MEAN = 138.684
  MINIMUM = 1
  STANDARD_DEVIATION = 22.2662
END_OBJECT = IMAGE
/* MAP OBJECT DEFINITIONS */
OBJECT = IMAGE_MAP_PROJECTION
  ^DATA_SET_MAP_PROJECTION_CATALOG= "DSMAP.CAT"
  A_AXIS_RADIUS = 3396.0
  B_AXIS_RADIUS = 3396.0
  C_AXIS_RADIUS = 3396.0
  CENTER_LATITUDE = 0.0
  CENTER_LONGITUDE = 311.0
  COORDINATE_SYSTEM_NAME = PLANETOGRAPHIC
  COORDINATE_SYSTEM_TYPE = "BODY-FIXED ROTATING"
  EASTERNMOST_LONGITUDE = 311.62
  FIRST_STANDARD_PARALLEL = "N/A"
  LINE_FIRST_PIXEL = 1
  LINE_LAST_PIXEL = 37389
  LINE_PROJECTION_OFFSET = 229673.0
  MAP_PROJECTION_ROTATION = 0.0
  MAP_PROJECTION_TYPE = SINUSOIDAL
  MAP_RESOLUTION = 4741.71043093333
  MAP_SCALE = 0.0125
  MAXIMUM_LATITUDE = 48.4345
  MINIMUM_LATITUDE = 40.5517
  POSITIVE_LONGITUDE_DIRECTION = EAST
  REFERENCE_LATITUDE = "N/A"
  REFERENCE_LONGITUDE = "N/A"
  SAMPLE_FIRST_PIXEL = 1
  SAMPLE_LAST_PIXEL = 7218
  SAMPLE_PROJECTION_OFFSET = 4985.0
  SECOND_STANDARD_PARALLEL = "N/A"
  WESTERNMOST_LONGITUDE = 309.417
END_OBJECT = IMAGE_MAP_PROJECTION
END
