PDS_VERSION_ID = PDS3
/* FILE DATA ELEMENTS */
RECORD_TYPE = UNDEFINED
/* POINTERS TO DATA OBJECTS */
^IMAGE = ("HH884_0000_BL4.TIF")
/* IDENTIFICATION DATA ELEMENTS */
DATA_SET_ID = "MEX-M-HRSC-4-REFDR-MAPPROJECT-EXT6-V4.0"
DATA_SET_NAME = "MARS EXPRESS HRSC MAP PROJECTED REFDR EXTENSION6 V4.0"
DETECTOR_ID = MEX_HRSC_BLUE
EVENT_TYPE = "MARS-REGIONAL-MAPPING-Vo-Im-Pf"
INSTRUMENT_HOST_ID = MEX
INSTRUMENT_HOST_NAME = "MARS EXPRESS"
INSTRUMENT_ID = HRSC
INSTRUMENT_NAME = "HIGH RESOLUTION STEREO CAMERA"
MISSION_NAME = "MARS EXPRESS"
MISSION_PHASE_NAME = ME_Phase_38
PROCESSING_LEVEL_ID = 4
PRODUCT_CREATION_TIME = 2023-01-28T19:29:54.000Z
PRODUCT_ID = "HH884_0000_BL4.TIF"
RELEASE_ID = 0003
REVISION_ID = 0000
/* QUALITY DATA ELEMENTS */
DATA_QUALITY_ID = 1
DATA_QUALITY_DESC = "Data calculated based on original SPICE kernels"
/* TIME DATA ELEMENTS */
SPACECRAFT_CLOCK_START_COUNT = "1/0466940222.48831"
SPACECRAFT_CLOCK_STOP_COUNT = "1/0466940428.55385"
START_TIME = 2018-02-17T09:37:51.956Z
STOP_TIME = 2018-02-17T09:40:01.809Z
/* ORBITAL DATA ELEMENTS */
ASCENDING_NODE_LONGITUDE = 238.38
MAXIMUM_RESOLUTION = 0.0596
FOOTPRINT_POINT_LATITUDE = (45.5542,45.549,45.5446,45.5396,45.5341 ,45.528,45.52,45.5196,45.5345,45.2537, 45.0665,44.7856,44.598,44.4109,44.2266, 43.9912,43.8343,43.6774,43.4419,43.2849 ,43.1277,42.8158,42.6589,42.5014, 42.3432,42.03,41.7949,41.638,41.4812, 41.1676,40.8541,40.5406,40.0705,39.8356 ,39.4442,39.2093,38.9745,38.8066, 38.6199,38.4333,38.2467,37.9668,37.7803 ,37.5938,37.3141,37.221,37.1744,37.18, 37.1835,37.1876,37.1915,37.1934,37.1935 ,37.1945,37.3812,37.5679,37.7547, 37.9415,38.1284,38.3154,38.5023,38.6893 ,38.8764,39.1936,39.4288,39.6641,39.821 ,39.978,40.1349,40.2918,40.4488,40.6058 ,40.7629,40.9984,41.2341,41.3911, 41.6268,41.784,41.9411,42.0983,42.2555, 42.4127,42.5699,42.7271,42.8843,43.1201 ,43.2774,43.4346,43.5919,43.8277, 44.0636,44.2209,44.4922,44.6798,44.8675 ,45.0552,45.2429,45.4305,45.5243, 45.5542)
FOOTPRINT_POINT_LONGITUDE = (108.029,107.634,107.361,107.09,106.821 ,106.553,106.237,106.221,106.211, 106.225,106.234,106.248,106.257,106.265 ,106.273,106.284,106.29,106.297,106.307 ,106.313,106.319,106.331,106.337, 106.343,106.349,106.36,106.368,106.373, 106.378,106.389,106.398,106.407,106.421 ,106.427,106.437,106.443,106.448, 106.452,106.456,106.46,106.464,106.47, 106.473,106.477,106.482,106.484,106.485 ,106.819,107.065,107.405,107.827, 108.127,108.143,108.148,108.148,108.147 ,108.146,108.146,108.145,108.145, 108.144,108.143,108.142,108.141,108.14, 108.139,108.138,108.137,108.137,108.136 ,108.135,108.134,108.134,108.132, 108.131,108.13,108.129,108.128,108.127, 108.126,108.125,108.124,108.123,108.122 ,108.121,108.119,108.118,108.117, 108.116,108.114,108.112,108.111,108.109 ,108.107,108.106,108.104,108.103, 108.101,108.1,108.029)
ORBIT_NUMBER = 17884
ORBITAL_ECCENTRICITY = 0.574
ORBITAL_INCLINATION = 86.97
ORBITAL_SEMIMAJOR_AXIS = 8811.02
PERIAPSIS_ALTITUDE = 368.96
PERIAPSIS_ARGUMENT_ANGLE = 137.92
PERIAPSIS_TIME = 2018-02-17T09:38:41.000Z
SPACECRAFT_ORIENTATION = (0.0,-1.0,0.0)
^MEX_ORIENTATION_DESC = "MEX_ORIENTATION_DESC.TXT"
SPACECRAFT_POINTING_MODE = ACROSSTRACK
^MEX_POINTING_DESC = "MEX_POINTING_DESC.TXT"
RIGHT_ASCENSION = -1e+32
DECLINATION = -1e+32
OFFSET_ANGLE = 0.539
SPACECRAFT_SOLAR_DISTANCE = 2.37084e+08
TARGET_NAME = MARS
/* CAMERA DATA ELEMENTS */
DETECTOR_TEMPERATURE = 0.0
FOCAL_PLANE_TEMPERATURE = 0.0
INST_CMPRS_NAME = "DISCRETE COSINE TRANSFORMATION (DCT)"
INST_CMPRS_RATIO = 7.92776
INST_CMPRS_QUALITY = 0
INST_CMPRS_QUANTZ_TBL_ID = 0
INSTRUMENT_TEMPERATURE = 0.0
LENS_TEMPERATURE = 0.0
MACROPIXEL_SIZE = 4
MISSING_FRAMES = 0
PIXEL_SUBSAMPLING_FLAG = N
SIGNAL_CHAIN_ID = 2
/* RADIOMETRIC DATA ELEMENTS */
BANDWIDTH = 76.0
CENTER_FILTER_WAVELENGTH = 444.0
RADIANCE_OFFSET = 0.449728
RADIANCE_SCALING_FACTOR = 0.0017327
REFLECTANCE_SCALING_FACTOR = 0.000100065
MEX:REFLECTANCE_OFFSET = 0.0259723
/* IMAGE OBJECT DEFINITIONS */
OBJECT = IMAGE
  INTERCHANGE_FORMAT = BINARY
  LINES = 10402
  LINE_SAMPLES = 1755
  SAMPLE_TYPE = UNSIGNED_INTEGER
  SAMPLE_BITS = 8
  BANDS = 1
  BAND_STORAGE_TYPE = BAND_SEQUENTIAL
  MAXIMUM = 255
  MEAN = 113.29
  MINIMUM = 1
  STANDARD_DEVIATION = 20.6619
END_OBJECT = IMAGE
/* MAP OBJECT DEFINITIONS */
OBJECT = IMAGE_MAP_PROJECTION
  ^DATA_SET_MAP_PROJECTION_CATALOG= "DSMAP.CAT"
  A_AXIS_RADIUS = 3396.0
  B_AXIS_RADIUS = 3396.0
  C_AXIS_RADIUS = 3396.0
  CENTER_LATITUDE = 0.0
  CENTER_LONGITUDE = 107.0
  COORDINATE_SYSTEM_NAME = PLANETOGRAPHIC
  COORDINATE_SYSTEM_TYPE = "BODY-FIXED ROTATING"
  EASTERNMOST_LONGITUDE = 108.148
  FIRST_STANDARD_PARALLEL = "N/A"
  LINE_FIRST_PIXEL = 1
  LINE_LAST_PIXEL = 10402
  LINE_PROJECTION_OFFSET = 54006.125
  MAP_PROJECTION_ROTATION = 0.0
  MAP_PROJECTION_TYPE = SINUSOIDAL
  MAP_RESOLUTION = 1185.42760773333
  MAP_SCALE = 0.05
  MAXIMUM_LATITUDE = 45.5542
  MINIMUM_LATITUDE = 37.1744
  POSITIVE_LONGITUDE_DIRECTION = EAST
  REFERENCE_LATITUDE = "N/A"
  REFERENCE_LONGITUDE = "N/A"
  SAMPLE_FIRST_PIXEL = 1
  SAMPLE_LAST_PIXEL = 1755
  SAMPLE_PROJECTION_OFFSET = 665.625
  SECOND_STANDARD_PARALLEL = "N/A"
  WESTERNMOST_LONGITUDE = 106.211
END_OBJECT = IMAGE_MAP_PROJECTION
END
