PDS_VERSION_ID = PDS3
/* FILE DATA ELEMENTS */
RECORD_TYPE = UNDEFINED
/* POINTERS TO DATA OBJECTS */
^IMAGE = ("HH884_0000_GR4.TIF")
/* IDENTIFICATION DATA ELEMENTS */
DATA_SET_ID = "MEX-M-HRSC-4-REFDR-MAPPROJECT-EXT6-V4.0"
DATA_SET_NAME = "MARS EXPRESS HRSC MAP PROJECTED REFDR EXTENSION6 V4.0"
DETECTOR_ID = MEX_HRSC_GREEN
EVENT_TYPE = "MARS-REGIONAL-MAPPING-Vo-Im-Pf"
INSTRUMENT_HOST_ID = MEX
INSTRUMENT_HOST_NAME = "MARS EXPRESS"
INSTRUMENT_ID = HRSC
INSTRUMENT_NAME = "HIGH RESOLUTION STEREO CAMERA"
MISSION_NAME = "MARS EXPRESS"
MISSION_PHASE_NAME = ME_Phase_38
PROCESSING_LEVEL_ID = 4
PRODUCT_CREATION_TIME = 2023-01-28T19:29:54.000Z
PRODUCT_ID = "HH884_0000_GR4.TIF"
RELEASE_ID = 0003
REVISION_ID = 0000
/* QUALITY DATA ELEMENTS */
DATA_QUALITY_ID = 1
DATA_QUALITY_DESC = "Data calculated based on original SPICE kernels"
/* TIME DATA ELEMENTS */
SPACECRAFT_CLOCK_START_COUNT = "1/0466940222.48831"
SPACECRAFT_CLOCK_STOP_COUNT = "1/0466940428.55385"
START_TIME = 2018-02-17T09:37:40.464Z
STOP_TIME = 2018-02-17T09:39:57.515Z
/* ORBITAL DATA ELEMENTS */
ASCENDING_NODE_LONGITUDE = 238.38
MAXIMUM_RESOLUTION = 0.0596
FOOTPRINT_POINT_LATITUDE = (45.569,45.567,45.5648,45.562,45.5585, 45.5544,45.5486,45.5483,45.5338,45.3392 ,45.1446,44.9499,44.7552,44.5608, 44.3658,44.1709,43.976,43.7811,43.5861, 43.2465,43.0016,42.6731,42.3475,42.0203 ,41.693,41.3658,41.0386,40.7113,40.5476 ,40.3021,40.1385,39.893,39.6474,39.4019 ,39.0677,38.8223,38.4949,38.1676, 37.9774,37.7821,37.5869,37.3916,37.0987 ,36.9036,36.806,36.7104,36.7124,36.7139 ,36.7149,36.7153,36.7152,36.7138, 36.7138,36.7148,37.008,37.3014,37.5948, 37.7904,37.986,38.258,38.422,38.5859, 38.9138,39.1598,39.3238,39.4946,39.6585 ,39.8225,39.9865,40.2325,40.3965, 40.5604,40.7244,40.8883,41.0523,41.2163 ,41.3802,41.5442,41.79,41.9539,42.1998, 42.3636,42.5275,42.6913,42.8552,43.019, 43.1827,43.3465,43.5103,43.7033,43.8987 ,44.0941,44.2894,44.4846,44.6799,44.875 ,45.0702,45.3628,45.4604,45.569)
FOOTPRINT_POINT_LONGITUDE = (108.031,107.634,107.36,107.088,106.818 ,106.549,106.232,106.215,106.206, 106.216,106.226,106.236,106.245,106.255 ,106.264,106.272,106.281,106.29,106.298 ,106.312,106.322,106.334,106.347, 106.359,106.37,106.381,106.392,106.402, 106.407,106.414,106.418,106.425,106.432 ,106.438,106.446,106.452,106.46,106.467 ,106.471,106.475,106.479,106.482, 106.488,106.491,106.493,106.494,106.735 ,106.979,107.239,107.47,107.703,108.125 ,108.14,108.146,108.145,108.144,108.143 ,108.143,108.142,108.141,108.141,108.14 ,108.139,108.138,108.138,108.137, 108.137,108.136,108.135,108.134,108.134 ,108.133,108.132,108.131,108.131,108.13 ,108.129,108.128,108.127,108.126, 108.125,108.124,108.123,108.122,108.121 ,108.12,108.119,108.118,108.117,108.116 ,108.114,108.113,108.112,108.11,108.109 ,108.107,108.106,108.103,108.103, 108.031)
ORBIT_NUMBER = 17884
ORBITAL_ECCENTRICITY = 0.574
ORBITAL_INCLINATION = 86.97
ORBITAL_SEMIMAJOR_AXIS = 8811.02
PERIAPSIS_ALTITUDE = 368.96
PERIAPSIS_ARGUMENT_ANGLE = 137.92
PERIAPSIS_TIME = 2018-02-17T09:38:41.000Z
SPACECRAFT_ORIENTATION = (0.0,-1.0,0.0)
^MEX_ORIENTATION_DESC = "MEX_ORIENTATION_DESC.TXT"
SPACECRAFT_POINTING_MODE = ACROSSTRACK
^MEX_POINTING_DESC = "MEX_POINTING_DESC.TXT"
RIGHT_ASCENSION = -1e+32
DECLINATION = -1e+32
OFFSET_ANGLE = 0.539
SPACECRAFT_SOLAR_DISTANCE = 2.37084e+08
TARGET_NAME = MARS
/* CAMERA DATA ELEMENTS */
DETECTOR_TEMPERATURE = 0.0
FOCAL_PLANE_TEMPERATURE = 0.0
INST_CMPRS_NAME = "DISCRETE COSINE TRANSFORMATION (DCT)"
INST_CMPRS_RATIO = 9.61596
INST_CMPRS_QUALITY = 0
INST_CMPRS_QUANTZ_TBL_ID = 0
INSTRUMENT_TEMPERATURE = 0.0
LENS_TEMPERATURE = 0.0
MACROPIXEL_SIZE = 4
MISSING_FRAMES = 1
PIXEL_SUBSAMPLING_FLAG = N
SIGNAL_CHAIN_ID = 2
/* RADIOMETRIC DATA ELEMENTS */
BANDWIDTH = 88.0
CENTER_FILTER_WAVELENGTH = 538.0
RADIANCE_OFFSET = 0.924193
RADIANCE_SCALING_FACTOR = 0.00547062
REFLECTANCE_SCALING_FACTOR = 0.000264747
MEX:REFLECTANCE_OFFSET = 0.0447257
/* IMAGE OBJECT DEFINITIONS */
OBJECT = IMAGE
  INTERCHANGE_FORMAT = BINARY
  LINES = 10402
  LINE_SAMPLES = 1755
  SAMPLE_TYPE = UNSIGNED_INTEGER
  SAMPLE_BITS = 8
  BANDS = 1
  BAND_STORAGE_TYPE = BAND_SEQUENTIAL
  MAXIMUM = 255
  MEAN = 133.616
  MINIMUM = 1
  STANDARD_DEVIATION = 26.5899
END_OBJECT = IMAGE
/* MAP OBJECT DEFINITIONS */
OBJECT = IMAGE_MAP_PROJECTION
  ^DATA_SET_MAP_PROJECTION_CATALOG= "DSMAP.CAT"
  A_AXIS_RADIUS = 3396.0
  B_AXIS_RADIUS = 3396.0
  C_AXIS_RADIUS = 3396.0
  CENTER_LATITUDE = 0.0
  CENTER_LONGITUDE = 107.0
  COORDINATE_SYSTEM_NAME = PLANETOGRAPHIC
  COORDINATE_SYSTEM_TYPE = "BODY-FIXED ROTATING"
  EASTERNMOST_LONGITUDE = 108.146
  FIRST_STANDARD_PARALLEL = "N/A"
  LINE_FIRST_PIXEL = 1
  LINE_LAST_PIXEL = 10402
  LINE_PROJECTION_OFFSET = 54006.125
  MAP_PROJECTION_ROTATION = 0.0
  MAP_PROJECTION_TYPE = SINUSOIDAL
  MAP_RESOLUTION = 1185.42760773333
  MAP_SCALE = 0.05
  MAXIMUM_LATITUDE = 45.569
  MINIMUM_LATITUDE = 36.7104
  POSITIVE_LONGITUDE_DIRECTION = EAST
  REFERENCE_LATITUDE = "N/A"
  REFERENCE_LONGITUDE = "N/A"
  SAMPLE_FIRST_PIXEL = 1
  SAMPLE_LAST_PIXEL = 1755
  SAMPLE_PROJECTION_OFFSET = 665.625
  SECOND_STANDARD_PARALLEL = "N/A"
  WESTERNMOST_LONGITUDE = 106.206
END_OBJECT = IMAGE_MAP_PROJECTION
END
