PDS_VERSION_ID = PDS3
/* FILE DATA ELEMENTS */
RECORD_TYPE = UNDEFINED
/* POINTERS TO DATA OBJECTS */
^IMAGE = ("HH884_0000_ND4.TIF")
/* IDENTIFICATION DATA ELEMENTS */
DATA_SET_ID = "MEX-M-HRSC-4-REFDR-MAPPROJECT-EXT6-V4.0"
DATA_SET_NAME = "MARS EXPRESS HRSC MAP PROJECTED REFDR EXTENSION6 V4.0"
DETECTOR_ID = MEX_HRSC_NADIR
EVENT_TYPE = "MARS-REGIONAL-MAPPING-Vo-Im-Pf"
INSTRUMENT_HOST_ID = MEX
INSTRUMENT_HOST_NAME = "MARS EXPRESS"
INSTRUMENT_ID = HRSC
INSTRUMENT_NAME = "HIGH RESOLUTION STEREO CAMERA"
MISSION_NAME = "MARS EXPRESS"
MISSION_PHASE_NAME = ME_Phase_38
PROCESSING_LEVEL_ID = 4
PRODUCT_CREATION_TIME = 2023-01-28T19:29:54.000Z
PRODUCT_ID = "HH884_0000_ND4.TIF"
RELEASE_ID = 0003
REVISION_ID = 0000
/* QUALITY DATA ELEMENTS */
DATA_QUALITY_ID = 1
DATA_QUALITY_DESC = "Data calculated based on original SPICE kernels"
/* TIME DATA ELEMENTS */
SPACECRAFT_CLOCK_START_COUNT = "1/0466940222.48831"
SPACECRAFT_CLOCK_STOP_COUNT = "1/0466940428.55385"
START_TIME = 2018-02-17T09:37:46.300Z
STOP_TIME = 2018-02-17T09:40:02.107Z
/* ORBITAL DATA ELEMENTS */
ASCENDING_NODE_LONGITUDE = 238.38
MAXIMUM_RESOLUTION = 0.0149
FOOTPRINT_POINT_LATITUDE = (45.5568,45.5538,45.5503,45.5461, 45.5412,45.5357,45.5287,45.5282,45.5291 ,45.3341,45.1391,44.944,44.749,44.5538, 44.3587,44.1636,43.8712,43.544,43.2168, 42.7261,42.4807,42.3169,41.9897,41.7442 ,41.4169,41.1715,40.8442,40.5169, 40.1897,39.8625,39.5354,39.2083,38.8812 ,38.5543,38.2702,38.0751,37.8801, 37.6852,37.4902,37.2953,37.1004,36.9056 ,36.8082,36.7844,36.7881,36.7914, 36.7935,36.7951,36.7962,36.7962,36.7965 ,36.9916,37.1868,37.382,37.5773,37.7726 ,37.9679,38.1633,38.3587,38.5494,38.877 ,39.2046,39.3684,39.5323,39.6961,39.86, 40.0239,40.1878,40.3517,40.5157,40.6796 ,40.8436,41.0075,41.1715,41.3354, 41.4994,41.6634,41.8274,41.9913,42.1553 ,42.3193,42.5652,42.7292,42.8932, 43.0571,43.2211,43.3851,43.549,43.7129, 43.8768,44.0683,44.2639,44.4595,44.6551 ,44.8506,45.0461,45.2416,45.4371, 45.5348,45.5568)
FOOTPRINT_POINT_LONGITUDE = (108.03,107.7,107.409,107.12,106.833, 106.548,106.229,106.212,106.198,106.208 ,106.218,106.227,106.237,106.246, 106.255,106.264,106.277,106.291,106.304 ,106.323,106.332,106.339,106.35,106.359 ,106.37,106.378,106.388,106.398,106.407 ,106.416,106.425,106.433,106.441, 106.448,106.454,106.459,106.462,106.466 ,106.47,106.474,106.477,106.48,106.482, 106.482,106.773,107.097,107.359,107.656 ,108.122,108.139,108.147,108.146, 108.146,108.145,108.145,108.144,108.144 ,108.143,108.142,108.142,108.14,108.139 ,108.138,108.138,108.137,108.136, 108.136,108.135,108.134,108.133,108.133 ,108.132,108.131,108.13,108.129,108.128 ,108.127,108.127,108.126,108.125, 108.124,108.122,108.121,108.12,108.119, 108.118,108.117,108.116,108.115,108.114 ,108.112,108.111,108.109,108.108, 108.106,108.105,108.103,108.101,108.1, 108.03)
ORBIT_NUMBER = 17884
ORBITAL_ECCENTRICITY = 0.574
ORBITAL_INCLINATION = 86.97
ORBITAL_SEMIMAJOR_AXIS = 8811.02
PERIAPSIS_ALTITUDE = 368.96
PERIAPSIS_ARGUMENT_ANGLE = 137.92
PERIAPSIS_TIME = 2018-02-17T09:38:41.000Z
SPACECRAFT_ORIENTATION = (0.0,-1.0,0.0)
^MEX_ORIENTATION_DESC = "MEX_ORIENTATION_DESC.TXT"
SPACECRAFT_POINTING_MODE = ACROSSTRACK
^MEX_POINTING_DESC = "MEX_POINTING_DESC.TXT"
RIGHT_ASCENSION = -1e+32
DECLINATION = -1e+32
OFFSET_ANGLE = 0.539
SPACECRAFT_SOLAR_DISTANCE = 2.37084e+08
TARGET_NAME = MARS
/* CAMERA DATA ELEMENTS */
DETECTOR_TEMPERATURE = 0.0
FOCAL_PLANE_TEMPERATURE = 0.0
INST_CMPRS_NAME = "DISCRETE COSINE TRANSFORMATION (DCT)"
INST_CMPRS_RATIO = 5.86451
INST_CMPRS_QUALITY = 0
INST_CMPRS_QUANTZ_TBL_ID = 0
INSTRUMENT_TEMPERATURE = 0.0
LENS_TEMPERATURE = 0.0
MACROPIXEL_SIZE = 1
MISSING_FRAMES = 0
PIXEL_SUBSAMPLING_FLAG = N
SIGNAL_CHAIN_ID = 0
/* RADIOMETRIC DATA ELEMENTS */
BANDWIDTH = 177.0
CENTER_FILTER_WAVELENGTH = 677.5
RADIANCE_OFFSET = 2.81632
RADIANCE_SCALING_FACTOR = 0.0202481
REFLECTANCE_SCALING_FACTOR = 0.000604608
MEX:REFLECTANCE_OFFSET = 0.0840955
/* IMAGE OBJECT DEFINITIONS */
OBJECT = IMAGE
  INTERCHANGE_FORMAT = BINARY
  LINES = 41605
  LINE_SAMPLES = 7020
  SAMPLE_TYPE = UNSIGNED_INTEGER
  SAMPLE_BITS = 8
  BANDS = 1
  BAND_STORAGE_TYPE = BAND_SEQUENTIAL
  MAXIMUM = 255
  MEAN = 115.465
  MINIMUM = 1
  STANDARD_DEVIATION = 36.4191
END_OBJECT = IMAGE
/* MAP OBJECT DEFINITIONS */
OBJECT = IMAGE_MAP_PROJECTION
  ^DATA_SET_MAP_PROJECTION_CATALOG= "DSMAP.CAT"
  A_AXIS_RADIUS = 3396.0
  B_AXIS_RADIUS = 3396.0
  C_AXIS_RADIUS = 3396.0
  CENTER_LATITUDE = 0.0
  CENTER_LONGITUDE = 107.0
  COORDINATE_SYSTEM_NAME = PLANETOGRAPHIC
  COORDINATE_SYSTEM_TYPE = "BODY-FIXED ROTATING"
  EASTERNMOST_LONGITUDE = 108.147
  FIRST_STANDARD_PARALLEL = "N/A"
  LINE_FIRST_PIXEL = 1
  LINE_LAST_PIXEL = 41605
  LINE_PROJECTION_OFFSET = 216026.0
  MAP_PROJECTION_ROTATION = 0.0
  MAP_PROJECTION_TYPE = SINUSOIDAL
  MAP_RESOLUTION = 4741.71043093333
  MAP_SCALE = 0.0125
  MAXIMUM_LATITUDE = 45.5568
  MINIMUM_LATITUDE = 36.7844
  POSITIVE_LONGITUDE_DIRECTION = EAST
  REFERENCE_LATITUDE = "N/A"
  REFERENCE_LONGITUDE = "N/A"
  SAMPLE_FIRST_PIXEL = 1
  SAMPLE_LAST_PIXEL = 7020
  SAMPLE_PROJECTION_OFFSET = 2664.0
  SECOND_STANDARD_PARALLEL = "N/A"
  WESTERNMOST_LONGITUDE = 106.198
END_OBJECT = IMAGE_MAP_PROJECTION
END
