PDS_VERSION_ID = PDS3
/* FILE DATA ELEMENTS */
RECORD_TYPE = UNDEFINED
/* POINTERS TO DATA OBJECTS */
^IMAGE = ("HH884_0000_P24.TIF")
/* IDENTIFICATION DATA ELEMENTS */
DATA_SET_ID = "MEX-M-HRSC-4-REFDR-MAPPROJECT-EXT6-V4.0"
DATA_SET_NAME = "MARS EXPRESS HRSC MAP PROJECTED REFDR EXTENSION6 V4.0"
DETECTOR_ID = MEX_HRSC_P2
EVENT_TYPE = "MARS-REGIONAL-MAPPING-Vo-Im-Pf"
INSTRUMENT_HOST_ID = MEX
INSTRUMENT_HOST_NAME = "MARS EXPRESS"
INSTRUMENT_ID = HRSC
INSTRUMENT_NAME = "HIGH RESOLUTION STEREO CAMERA"
MISSION_NAME = "MARS EXPRESS"
MISSION_PHASE_NAME = ME_Phase_38
PROCESSING_LEVEL_ID = 4
PRODUCT_CREATION_TIME = 2023-01-28T19:29:54.000Z
PRODUCT_ID = "HH884_0000_P24.TIF"
RELEASE_ID = 0003
REVISION_ID = 0000
/* QUALITY DATA ELEMENTS */
DATA_QUALITY_ID = 1
DATA_QUALITY_DESC = "Data calculated based on original SPICE kernels"
/* TIME DATA ELEMENTS */
SPACECRAFT_CLOCK_START_COUNT = "1/0466940222.48831"
SPACECRAFT_CLOCK_STOP_COUNT = "1/0466940428.55385"
START_TIME = 2018-02-17T09:38:08.491Z
STOP_TIME = 2018-02-17T09:40:01.872Z
/* ORBITAL DATA ELEMENTS */
ASCENDING_NODE_LONGITUDE = 238.38
MAXIMUM_RESOLUTION = 0.0307
FOOTPRINT_POINT_LATITUDE = (45.5308,45.5207,45.5127,45.5043, 45.4956,45.4863,45.4766,45.4759,45.5341 ,45.2867,45.1464,45.0061,44.866,44.655, 44.5145,44.375,44.2351,44.0951,43.955, 43.815,43.6049,43.4647,43.2542,43.0447, 42.7706,42.6303,42.4172,42.275,41.9969, 41.7879,41.6486,41.5091,41.2998,41.0908 ,40.8122,40.6033,40.2554,39.9773, 39.7353,39.5695,39.4039,39.1554,38.9898 ,38.8242,38.6588,38.4935,38.3282, 38.2456,38.2425,38.2501,38.2573,38.2639 ,38.2733,38.2782,38.2846,38.2849, 38.2855,38.4511,38.6166,38.7824,39.0309 ,39.1968,39.3627,39.6116,39.8609, 40.0207,40.2296,40.3689,40.5084,40.6479 ,40.7873,40.9966,41.1363,41.2758, 41.4155,41.6251,41.7649,41.9048,42.0446 ,42.1845,42.3245,42.4644,42.6745, 42.8146,43.0248,43.1649,43.305,43.5154, 43.6557,43.8661,44.0767,44.2872,44.498, 44.7086,44.9194,45.1302,45.2707,45.5046 ,45.5885,45.5308)
FOOTPRINT_POINT_LONGITUDE = (108.033,107.637,107.353,107.07,106.789 ,106.51,106.233,106.215,106.202,106.214 ,106.221,106.227,106.234,106.244,106.25 ,106.256,106.262,106.269,106.275,106.28 ,106.289,106.295,106.303,106.311, 106.321,106.326,106.334,106.339,106.349 ,106.356,106.36,106.365,106.371,106.378 ,106.386,106.392,106.401,106.409, 106.415,106.419,106.423,106.429,106.433 ,106.436,106.44,106.443,106.447,106.448 ,106.448,106.707,106.969,107.231, 107.612,107.829,108.132,108.149,108.155 ,108.154,108.153,108.153,108.151,108.15 ,108.15,108.148,108.147,108.146,108.145 ,108.144,108.143,108.142,108.142,108.14 ,108.139,108.138,108.137,108.136, 108.135,108.134,108.133,108.132,108.131 ,108.13,108.129,108.128,108.126,108.125 ,108.124,108.122,108.121,108.119, 108.118,108.116,108.114,108.112,108.11, 108.108,108.106,108.104,108.103, 108.033)
ORBIT_NUMBER = 17884
ORBITAL_ECCENTRICITY = 0.574
ORBITAL_INCLINATION = 86.97
ORBITAL_SEMIMAJOR_AXIS = 8811.02
PERIAPSIS_ALTITUDE = 368.96
PERIAPSIS_ARGUMENT_ANGLE = 137.92
PERIAPSIS_TIME = 2018-02-17T09:38:41.000Z
SPACECRAFT_ORIENTATION = (0.0,-1.0,0.0)
^MEX_ORIENTATION_DESC = "MEX_ORIENTATION_DESC.TXT"
SPACECRAFT_POINTING_MODE = ACROSSTRACK
^MEX_POINTING_DESC = "MEX_POINTING_DESC.TXT"
RIGHT_ASCENSION = -1e+32
DECLINATION = -1e+32
OFFSET_ANGLE = 0.539
SPACECRAFT_SOLAR_DISTANCE = 2.37084e+08
TARGET_NAME = MARS
/* CAMERA DATA ELEMENTS */
DETECTOR_TEMPERATURE = 0.0
FOCAL_PLANE_TEMPERATURE = 0.0
INST_CMPRS_NAME = "DISCRETE COSINE TRANSFORMATION (DCT)"
INST_CMPRS_RATIO = 6.36606
INST_CMPRS_QUALITY = 0
INST_CMPRS_QUANTZ_TBL_ID = 0
INSTRUMENT_TEMPERATURE = 0.0
LENS_TEMPERATURE = 0.0
MACROPIXEL_SIZE = 2
MISSING_FRAMES = 0
PIXEL_SUBSAMPLING_FLAG = N
SIGNAL_CHAIN_ID = 3
/* RADIOMETRIC DATA ELEMENTS */
BANDWIDTH = 177.0
CENTER_FILTER_WAVELENGTH = 676.5
RADIANCE_OFFSET = 3.04559
RADIANCE_SCALING_FACTOR = 0.0203412
REFLECTANCE_SCALING_FACTOR = 0.000606232
MEX:REFLECTANCE_OFFSET = 0.090768
/* IMAGE OBJECT DEFINITIONS */
OBJECT = IMAGE
  INTERCHANGE_FORMAT = BINARY
  LINES = 20803
  LINE_SAMPLES = 3510
  SAMPLE_TYPE = UNSIGNED_INTEGER
  SAMPLE_BITS = 8
  BANDS = 1
  BAND_STORAGE_TYPE = BAND_SEQUENTIAL
  MAXIMUM = 255
  MEAN = 108.536
  MINIMUM = 1
  STANDARD_DEVIATION = 35.1192
END_OBJECT = IMAGE
/* MAP OBJECT DEFINITIONS */
OBJECT = IMAGE_MAP_PROJECTION
  ^DATA_SET_MAP_PROJECTION_CATALOG= "DSMAP.CAT"
  A_AXIS_RADIUS = 3396.0
  B_AXIS_RADIUS = 3396.0
  C_AXIS_RADIUS = 3396.0
  CENTER_LATITUDE = 0.0
  CENTER_LONGITUDE = 107.0
  COORDINATE_SYSTEM_NAME = PLANETOGRAPHIC
  COORDINATE_SYSTEM_TYPE = "BODY-FIXED ROTATING"
  EASTERNMOST_LONGITUDE = 108.155
  FIRST_STANDARD_PARALLEL = "N/A"
  LINE_FIRST_PIXEL = 1
  LINE_LAST_PIXEL = 20803
  LINE_PROJECTION_OFFSET = 108012.75
  MAP_PROJECTION_ROTATION = 0.0
  MAP_PROJECTION_TYPE = SINUSOIDAL
  MAP_RESOLUTION = 2370.85521546667
  MAP_SCALE = 0.025
  MAXIMUM_LATITUDE = 45.5885
  MINIMUM_LATITUDE = 38.2425
  POSITIVE_LONGITUDE_DIRECTION = EAST
  REFERENCE_LATITUDE = "N/A"
  REFERENCE_LONGITUDE = "N/A"
  SAMPLE_FIRST_PIXEL = 1
  SAMPLE_LAST_PIXEL = 3510
  SAMPLE_PROJECTION_OFFSET = 1331.75
  SECOND_STANDARD_PARALLEL = "N/A"
  WESTERNMOST_LONGITUDE = 106.202
END_OBJECT = IMAGE_MAP_PROJECTION
END
