PDS_VERSION_ID = PDS3
/* FILE DATA ELEMENTS */
RECORD_TYPE = UNDEFINED
/* POINTERS TO DATA OBJECTS */
^IMAGE = ("HH886_0000_S14.TIF")
/* IDENTIFICATION DATA ELEMENTS */
DATA_SET_ID = "MEX-M-HRSC-4-REFDR-MAPPROJECT-EXT6-V4.0"
DATA_SET_NAME = "MARS EXPRESS HRSC MAP PROJECTED REFDR EXTENSION6 V4.0"
DETECTOR_ID = MEX_HRSC_S1
EVENT_TYPE = "MARS-REGIONAL-STEREO-Vo-Te"
INSTRUMENT_HOST_ID = MEX
INSTRUMENT_HOST_NAME = "MARS EXPRESS"
INSTRUMENT_ID = HRSC
INSTRUMENT_NAME = "HIGH RESOLUTION STEREO CAMERA"
MISSION_NAME = "MARS EXPRESS"
MISSION_PHASE_NAME = ME_Phase_38
PROCESSING_LEVEL_ID = 4
PRODUCT_CREATION_TIME = 2023-01-28T19:29:54.000Z
PRODUCT_ID = "HH886_0000_S14.TIF"
RELEASE_ID = 0003
REVISION_ID = 0000
/* QUALITY DATA ELEMENTS */
DATA_QUALITY_ID = 1
DATA_QUALITY_DESC = "Data calculated based on original SPICE kernels"
/* TIME DATA ELEMENTS */
SPACECRAFT_CLOCK_START_COUNT = "1/0466990558.48609"
SPACECRAFT_CLOCK_STOP_COUNT = "1/0466990747.48608"
START_TIME = 2018-02-17T23:36:08.000Z
STOP_TIME = 2018-02-17T23:37:28.517Z
/* ORBITAL DATA ELEMENTS */
ASCENDING_NODE_LONGITUDE = 238.34
MAXIMUM_RESOLUTION = 0.0156
FOOTPRINT_POINT_LATITUDE = (42.3982,42.397,42.3957,42.3926,42.3888 ,42.3841,42.3811,42.3767,42.373,42.3726 ,42.3255,42.2232,42.0697,41.8651, 41.7114,41.5573,41.4033,41.1976,41.0441 ,40.8897,40.7868,40.6327,40.5294, 40.3749,40.2721,40.1179,39.9628,39.8594 ,39.7045,39.6012,39.4463,39.2907, 39.1353,38.9796,38.8236,38.7197,38.5638 ,38.4599,38.3562,38.2007,38.0451, 37.9413,37.7858,37.6821,37.5784,37.4228 ,37.2148,37.1629,37.1522,37.1551, 37.1574,37.1596,37.1621,37.1631,37.1642 ,37.1646,37.1646,37.1646,37.1648, 37.2689,37.425,37.5284,37.6327,37.7367, 37.8408,37.9447,38.1006,38.2044,38.3602 ,38.5161,38.6719,38.8276,38.9315, 39.0874,39.1911,39.3467,39.5023,39.6059 ,39.7096,39.8654,40.0206,40.1241, 40.2793,40.434,40.537,40.692,40.7953, 40.9503,41.105,41.208,41.3111,41.4658, 41.6201,41.7744,41.8772,41.9798,42.134, 42.2883,42.3395,42.3982)
FOOTPRINT_POINT_LONGITUDE = (263.198,263.011,262.841,262.552, 262.281,262.011,261.859,261.656,261.504 ,261.487,261.465,261.47,261.478,261.488 ,261.495,261.502,261.509,261.518, 261.525,261.532,261.536,261.543,261.547 ,261.553,261.557,261.564,261.57,261.574 ,261.579,261.583,261.589,261.594,261.6, 261.605,261.61,261.614,261.619,261.622, 261.625,261.63,261.635,261.638,261.643, 261.646,261.649,261.653,261.659,261.661 ,261.661,261.868,262.027,262.219, 262.522,262.699,262.955,263.084,263.26, 263.276,263.284,263.283,263.282,263.281 ,263.28,263.279,263.278,263.277,263.275 ,263.274,263.272,263.271,263.269, 263.267,263.266,263.264,263.263,263.261 ,263.259,263.258,263.256,263.254, 263.253,263.251,263.249,263.248,263.246 ,263.244,263.243,263.241,263.239, 263.238,263.236,263.234,263.232,263.23, 263.229,263.227,263.225,263.223,263.223 ,263.198)
ORBIT_NUMBER = 17886
ORBITAL_ECCENTRICITY = 0.574
ORBITAL_INCLINATION = 86.96
ORBITAL_SEMIMAJOR_AXIS = 8811.41
PERIAPSIS_ALTITUDE = 369.35
PERIAPSIS_ARGUMENT_ANGLE = 137.57
PERIAPSIS_TIME = 2018-02-17T23:36:41.000Z
SPACECRAFT_ORIENTATION = (0.0,-1.0,0.0)
^MEX_ORIENTATION_DESC = "MEX_ORIENTATION_DESC.TXT"
SPACECRAFT_POINTING_MODE = ACROSSTRACK
^MEX_POINTING_DESC = "MEX_POINTING_DESC.TXT"
RIGHT_ASCENSION = -1e+32
DECLINATION = -1e+32
OFFSET_ANGLE = 0.1
SPACECRAFT_SOLAR_DISTANCE = 2.36985e+08
TARGET_NAME = MARS
/* CAMERA DATA ELEMENTS */
DETECTOR_TEMPERATURE = 0.0
FOCAL_PLANE_TEMPERATURE = 0.0
INST_CMPRS_NAME = "DISCRETE COSINE TRANSFORMATION (DCT)"
INST_CMPRS_RATIO = 6.81747
INST_CMPRS_QUALITY = 0
INST_CMPRS_QUANTZ_TBL_ID = 0
INSTRUMENT_TEMPERATURE = 0.0
LENS_TEMPERATURE = 0.0
MACROPIXEL_SIZE = 1
MISSING_FRAMES = 0
PIXEL_SUBSAMPLING_FLAG = N
SIGNAL_CHAIN_ID = 2
/* RADIOMETRIC DATA ELEMENTS */
BANDWIDTH = 180.0
CENTER_FILTER_WAVELENGTH = 677.0
RADIANCE_OFFSET = 2.40422
RADIANCE_SCALING_FACTOR = 0.0334953
REFLECTANCE_SCALING_FACTOR = 0.000981455
MEX:REFLECTANCE_OFFSET = 0.0704467
/* IMAGE OBJECT DEFINITIONS */
OBJECT = IMAGE
  INTERCHANGE_FORMAT = BINARY
  LINES = 14547
  LINE_SAMPLES = 6477
  SAMPLE_TYPE = UNSIGNED_INTEGER
  SAMPLE_BITS = 8
  BANDS = 1
  BAND_STORAGE_TYPE = BAND_SEQUENTIAL
  MAXIMUM = 255
  MEAN = 130.885
  MINIMUM = 1
  STANDARD_DEVIATION = 10.5645
END_OBJECT = IMAGE
/* MAP OBJECT DEFINITIONS */
OBJECT = IMAGE_MAP_PROJECTION
  ^DATA_SET_MAP_PROJECTION_CATALOG= "DSMAP.CAT"
  A_AXIS_RADIUS = 3396.0
  B_AXIS_RADIUS = 3396.0
  C_AXIS_RADIUS = 3396.0
  CENTER_LATITUDE = 0.0
  CENTER_LONGITUDE = 262.0
  COORDINATE_SYSTEM_NAME = PLANETOGRAPHIC
  COORDINATE_SYSTEM_TYPE = "BODY-FIXED ROTATING"
  EASTERNMOST_LONGITUDE = 263.284
  FIRST_STANDARD_PARALLEL = "N/A"
  LINE_FIRST_PIXEL = 1
  LINE_LAST_PIXEL = 14547
  LINE_PROJECTION_OFFSET = 200813.0
  MAP_PROJECTION_ROTATION = 0.0
  MAP_PROJECTION_TYPE = SINUSOIDAL
  MAP_RESOLUTION = 4741.71043093333
  MAP_SCALE = 0.0125
  MAXIMUM_LATITUDE = 42.3982
  MINIMUM_LATITUDE = 37.1522
  POSITIVE_LONGITUDE_DIRECTION = EAST
  REFERENCE_LATITUDE = "N/A"
  REFERENCE_LONGITUDE = "N/A"
  SAMPLE_FIRST_PIXEL = 1
  SAMPLE_LAST_PIXEL = 6477
  SAMPLE_PROJECTION_OFFSET = 1867.0
  SECOND_STANDARD_PARALLEL = "N/A"
  WESTERNMOST_LONGITUDE = 261.465
END_OBJECT = IMAGE_MAP_PROJECTION
END
