PDS_VERSION_ID = PDS3
/* FILE DATA ELEMENTS */
RECORD_TYPE = UNDEFINED
/* POINTERS TO DATA OBJECTS */
^IMAGE = ("HH888_0000_IR4.TIF")
/* IDENTIFICATION DATA ELEMENTS */
DATA_SET_ID = "MEX-M-HRSC-4-REFDR-MAPPROJECT-EXT6-V4.0"
DATA_SET_NAME = "MARS EXPRESS HRSC MAP PROJECTED REFDR EXTENSION6 V4.0"
DETECTOR_ID = MEX_HRSC_IR
EVENT_TYPE = "MARS-REGIONAL-MAPPING-Te-Gl"
INSTRUMENT_HOST_ID = MEX
INSTRUMENT_HOST_NAME = "MARS EXPRESS"
INSTRUMENT_ID = HRSC
INSTRUMENT_NAME = "HIGH RESOLUTION STEREO CAMERA"
MISSION_NAME = "MARS EXPRESS"
MISSION_PHASE_NAME = ME_Phase_38
PROCESSING_LEVEL_ID = 4
PRODUCT_CREATION_TIME = 2023-01-28T19:29:54.000Z
PRODUCT_ID = "HH888_0000_IR4.TIF"
RELEASE_ID = 0003
REVISION_ID = 0000
/* QUALITY DATA ELEMENTS */
DATA_QUALITY_ID = 1
DATA_QUALITY_DESC = "Data calculated based on original SPICE kernels"
/* TIME DATA ELEMENTS */
SPACECRAFT_CLOCK_START_COUNT = "1/0467040722.09036"
SPACECRAFT_CLOCK_STOP_COUNT = "1/0467040954.64696"
START_TIME = 2018-02-18T13:32:17.778Z
STOP_TIME = 2018-02-18T13:35:00.265Z
/* ORBITAL DATA ELEMENTS */
ASCENDING_NODE_LONGITUDE = 238.3
MAXIMUM_RESOLUTION = 0.0618
FOOTPRINT_POINT_LATITUDE = (49.7087,49.6931,49.6823,49.6729, 49.6526,49.6519,49.5775,49.3608,49.1436 ,48.9268,48.709,48.4912,48.1645,47.9465 ,47.7281,47.5099,47.2915,47.074,46.8536 ,46.6346,46.4154,46.0864,45.7569, 45.5362,45.3168,45.0956,44.7651,44.5438 ,44.3233,44.1019,43.8805,43.6589, 43.4397,43.2544,42.9759,42.7905,42.6051 ,42.4191,42.2305,42.0442,41.765,41.5781 ,41.2979,41.0183,40.8334,40.6451, 40.3661,40.1773,39.8945,39.7071,39.4264 ,39.3344,39.2566,39.2636,39.2766, 39.2822,39.2823,39.2832,39.4711,39.7521 ,39.9401,40.2222,40.4116,40.7843, 41.0663,41.3465,41.5325,41.7197,42.0005 ,42.2808,42.5605,42.747,42.9338,43.12, 43.307,43.4937,43.7147,43.9363,44.2687, 44.4906,44.8229,45.0449,45.376,45.5968, 45.9282,46.2588,46.4796,46.809,47.0295, 47.2486,47.4681,47.797,48.0162,48.2351, 48.563,48.782,49.1092,49.4359,49.5447, 49.7087)
FOOTPRINT_POINT_LONGITUDE = (58.6507,57.9109,57.5128,57.2098, 56.6413,56.6224,56.5834,56.604,56.6241, 56.6441,56.6635,56.6826,56.7108,56.7292 ,56.7472,56.765,56.7825,56.8003,56.8164 ,56.833,56.8493,56.8732,56.8964,56.9112 ,56.9263,56.9404,56.9618,56.9754, 56.9891,57.0023,57.0152,57.0279,57.0401 ,57.0505,57.0658,57.0758,57.0858, 57.0954,57.1037,57.1129,57.1266,57.1352 ,57.148,57.1607,57.1698,57.1772,57.1896 ,57.1965,57.2067,57.214,57.2247,57.229, 57.2329,57.73,58.2921,58.8857,58.9013, 58.9065,58.9038,58.9002,58.8974,58.893, 58.8893,58.8847,58.8799,58.8758,58.8734 ,58.8702,58.8654,58.8606,58.856,58.8527 ,58.8493,58.846,58.8422,58.8386,58.835, 58.831,58.8247,58.8201,58.8134,58.8084, 58.8017,58.797,58.7896,58.7822,58.7769, 58.7696,58.7639,58.7589,58.7535,58.7453 ,58.7396,58.7339,58.7253,58.719,58.71, 58.7008,58.6978,58.6507)
ORBIT_NUMBER = 17888
ORBITAL_ECCENTRICITY = 0.574
ORBITAL_INCLINATION = 86.98
ORBITAL_SEMIMAJOR_AXIS = 8807.88
PERIAPSIS_ALTITUDE = 369.58
PERIAPSIS_ARGUMENT_ANGLE = 137.25
PERIAPSIS_TIME = 2018-02-18T13:34:35.000Z
SPACECRAFT_ORIENTATION = (0.0,-1.0,0.0)
^MEX_ORIENTATION_DESC = "MEX_ORIENTATION_DESC.TXT"
SPACECRAFT_POINTING_MODE = NADIR
^MEX_POINTING_DESC = "MEX_POINTING_DESC.TXT"
RIGHT_ASCENSION = -1e+32
DECLINATION = -1e+32
OFFSET_ANGLE = -1e+32
SPACECRAFT_SOLAR_DISTANCE = 2.36887e+08
TARGET_NAME = MARS
/* CAMERA DATA ELEMENTS */
DETECTOR_TEMPERATURE = 18.9822
FOCAL_PLANE_TEMPERATURE = 8.3794
INST_CMPRS_NAME = "DISCRETE COSINE TRANSFORMATION (DCT)"
INST_CMPRS_RATIO = 10.5031
INST_CMPRS_QUALITY = 0
INST_CMPRS_QUANTZ_TBL_ID = 0
INSTRUMENT_TEMPERATURE = 11.6418
LENS_TEMPERATURE = 8.5833
MACROPIXEL_SIZE = 4
MISSING_FRAMES = 0
PIXEL_SUBSAMPLING_FLAG = N
SIGNAL_CHAIN_ID = 2
/* RADIOMETRIC DATA ELEMENTS */
BANDWIDTH = 81.0
CENTER_FILTER_WAVELENGTH = 955.5
RADIANCE_OFFSET = 0.416083
RADIANCE_SCALING_FACTOR = 0.00681816
REFLECTANCE_SCALING_FACTOR = 0.000825428
MEX:REFLECTANCE_OFFSET = 0.0503723
/* IMAGE OBJECT DEFINITIONS */
OBJECT = IMAGE
  INTERCHANGE_FORMAT = BINARY
  LINES = 12324
  LINE_SAMPLES = 1914
  SAMPLE_TYPE = UNSIGNED_INTEGER
  SAMPLE_BITS = 8
  BANDS = 1
  BAND_STORAGE_TYPE = BAND_SEQUENTIAL
  MAXIMUM = 255
  MEAN = 121.675
  MINIMUM = 1
  STANDARD_DEVIATION = 31.8932
END_OBJECT = IMAGE
/* MAP OBJECT DEFINITIONS */
OBJECT = IMAGE_MAP_PROJECTION
  ^DATA_SET_MAP_PROJECTION_CATALOG= "DSMAP.CAT"
  A_AXIS_RADIUS = 3396.0
  B_AXIS_RADIUS = 3396.0
  C_AXIS_RADIUS = 3396.0
  CENTER_LATITUDE = 0.0
  CENTER_LONGITUDE = 58.0
  COORDINATE_SYSTEM_NAME = PLANETOGRAPHIC
  COORDINATE_SYSTEM_TYPE = "BODY-FIXED ROTATING"
  EASTERNMOST_LONGITUDE = 58.9065
  FIRST_STANDARD_PARALLEL = "N/A"
  LINE_FIRST_PIXEL = 1
  LINE_LAST_PIXEL = 12324
  LINE_PROJECTION_OFFSET = 58862.125
  MAP_PROJECTION_ROTATION = 0.0
  MAP_PROJECTION_TYPE = SINUSOIDAL
  MAP_RESOLUTION = 1185.42760773333
  MAP_SCALE = 0.05
  MAXIMUM_LATITUDE = 49.7087
  MINIMUM_LATITUDE = 39.2566
  POSITIVE_LONGITUDE_DIRECTION = EAST
  REFERENCE_LATITUDE = "N/A"
  REFERENCE_LONGITUDE = "N/A"
  SAMPLE_FIRST_PIXEL = 1
  SAMPLE_LAST_PIXEL = 1914
  SAMPLE_PROJECTION_OFFSET = 1082.625
  SECOND_STANDARD_PARALLEL = "N/A"
  WESTERNMOST_LONGITUDE = 56.5834
END_OBJECT = IMAGE_MAP_PROJECTION
END
