PDS_VERSION_ID = PDS3
/* FILE DATA ELEMENTS */
RECORD_TYPE = UNDEFINED
/* POINTERS TO DATA OBJECTS */
^IMAGE = ("HH888_0000_P14.TIF")
/* IDENTIFICATION DATA ELEMENTS */
DATA_SET_ID = "MEX-M-HRSC-4-REFDR-MAPPROJECT-EXT6-V4.0"
DATA_SET_NAME = "MARS EXPRESS HRSC MAP PROJECTED REFDR EXTENSION6 V4.0"
DETECTOR_ID = MEX_HRSC_P1
EVENT_TYPE = "MARS-REGIONAL-MAPPING-Te-Gl"
INSTRUMENT_HOST_ID = MEX
INSTRUMENT_HOST_NAME = "MARS EXPRESS"
INSTRUMENT_ID = HRSC
INSTRUMENT_NAME = "HIGH RESOLUTION STEREO CAMERA"
MISSION_NAME = "MARS EXPRESS"
MISSION_PHASE_NAME = ME_Phase_38
PROCESSING_LEVEL_ID = 4
PRODUCT_CREATION_TIME = 2023-01-28T19:29:54.000Z
PRODUCT_ID = "HH888_0000_P14.TIF"
RELEASE_ID = 0003
REVISION_ID = 0000
/* QUALITY DATA ELEMENTS */
DATA_QUALITY_ID = 1
DATA_QUALITY_DESC = "Data calculated based on original SPICE kernels"
/* TIME DATA ELEMENTS */
SPACECRAFT_CLOCK_START_COUNT = "1/0467040722.09036"
SPACECRAFT_CLOCK_STOP_COUNT = "1/0467040954.64696"
START_TIME = 2018-02-18T13:32:23.781Z
STOP_TIME = 2018-02-18T13:35:06.148Z
/* ORBITAL DATA ELEMENTS */
ASCENDING_NODE_LONGITUDE = 238.3
MAXIMUM_RESOLUTION = 0.0304
FOOTPRINT_POINT_LATITUDE = (49.7075,49.695,49.6817,49.6721,49.6522 ,49.6514,49.5928,49.2612,49.0401, 48.8185,48.5967,48.3748,48.1528,47.9306 ,47.7084,47.4859,47.2633,47.0417, 46.8174,46.5945,46.3713,46.148,45.9243, 45.701,45.4768,45.2533,45.0284,44.6925, 44.4672,44.2427,44.0179,43.7983,43.4208 ,43.044,42.7611,42.3839,42.1927,42.0035 ,41.7198,41.4351,41.2458,40.9619, 40.6784,40.3008,40.1085,39.8221,39.6321 ,39.3472,39.2536,39.2475,39.2511, 39.2588,39.2678,39.2715,39.2735,39.2737 ,39.2741,39.4642,39.654,39.8451,40.0358 ,40.2258,40.511,40.7015,40.9872,41.3662 ,41.651,41.8411,42.0308,42.2203,42.4099 ,42.6942,43.0732,43.263,43.453,43.8297, 44.0479,44.2732,44.4986,44.7239,44.9497 ,45.1743,45.5112,45.7362,45.9608,46.297 ,46.5216,46.745,46.9693,47.1926,47.4161 ,47.7511,48.0858,48.4202,48.6429, 48.9769,49.199,49.532,49.643,49.7075)
FOOTPRINT_POINT_LONGITUDE = (58.6448,58.0356,57.5251,57.2113, 56.6422,56.6226,56.5805,56.6117,56.6322 ,56.6521,56.6716,56.6908,56.7098, 56.7284,56.7467,56.7647,56.7823,56.8004 ,56.8166,56.8334,56.8498,56.8659, 56.8816,56.8974,56.9123,56.9275,56.9416 ,56.9633,56.9768,56.9905,57.0038, 57.0164,57.0375,57.0584,57.0736,57.0934 ,57.1017,57.1109,57.1246,57.1374, 57.1461,57.1589,57.1716,57.1885,57.1947 ,57.205,57.2122,57.2229,57.2271,57.2283 ,57.5186,57.8763,58.2822,58.6071, 58.8836,58.8998,58.9057,58.9032,58.9009 ,58.8977,58.8946,58.892,58.8878,58.8846 ,58.8797,58.8742,58.8695,58.8662, 58.8629,58.8598,58.8564,58.8514,58.8444 ,58.8405,58.8364,58.8301,58.826,58.8216 ,58.8169,58.8122,58.807,58.8024,58.7952 ,58.7899,58.7848,58.7772,58.7715, 58.7666,58.7609,58.7556,58.75,58.7414, 58.7326,58.7235,58.7174,58.7078,58.7015 ,58.6918,58.6885,58.6448)
ORBIT_NUMBER = 17888
ORBITAL_ECCENTRICITY = 0.574
ORBITAL_INCLINATION = 86.98
ORBITAL_SEMIMAJOR_AXIS = 8807.88
PERIAPSIS_ALTITUDE = 369.58
PERIAPSIS_ARGUMENT_ANGLE = 137.25
PERIAPSIS_TIME = 2018-02-18T13:34:35.000Z
SPACECRAFT_ORIENTATION = (0.0,-1.0,0.0)
^MEX_ORIENTATION_DESC = "MEX_ORIENTATION_DESC.TXT"
SPACECRAFT_POINTING_MODE = NADIR
^MEX_POINTING_DESC = "MEX_POINTING_DESC.TXT"
RIGHT_ASCENSION = -1e+32
DECLINATION = -1e+32
OFFSET_ANGLE = -1e+32
SPACECRAFT_SOLAR_DISTANCE = 2.36887e+08
TARGET_NAME = MARS
/* CAMERA DATA ELEMENTS */
DETECTOR_TEMPERATURE = 18.9822
FOCAL_PLANE_TEMPERATURE = 8.3794
INST_CMPRS_NAME = "DISCRETE COSINE TRANSFORMATION (DCT)"
INST_CMPRS_RATIO = 9.33168
INST_CMPRS_QUALITY = 0
INST_CMPRS_QUANTZ_TBL_ID = 0
INSTRUMENT_TEMPERATURE = 11.6418
LENS_TEMPERATURE = 8.5833
MACROPIXEL_SIZE = 2
MISSING_FRAMES = 0
PIXEL_SUBSAMPLING_FLAG = N
SIGNAL_CHAIN_ID = 3
/* RADIOMETRIC DATA ELEMENTS */
BANDWIDTH = 174.0
CENTER_FILTER_WAVELENGTH = 675.0
RADIANCE_OFFSET = 2.18256
RADIANCE_SCALING_FACTOR = 0.0224437
REFLECTANCE_SCALING_FACTOR = 0.000677426
MEX:REFLECTANCE_OFFSET = 0.0658768
/* IMAGE OBJECT DEFINITIONS */
OBJECT = IMAGE
  INTERCHANGE_FORMAT = BINARY
  LINES = 24647
  LINE_SAMPLES = 3828
  SAMPLE_TYPE = UNSIGNED_INTEGER
  SAMPLE_BITS = 8
  BANDS = 1
  BAND_STORAGE_TYPE = BAND_SEQUENTIAL
  MAXIMUM = 255
  MEAN = 118.512
  MINIMUM = 1
  STANDARD_DEVIATION = 28.8251
END_OBJECT = IMAGE
/* MAP OBJECT DEFINITIONS */
OBJECT = IMAGE_MAP_PROJECTION
  ^DATA_SET_MAP_PROJECTION_CATALOG= "DSMAP.CAT"
  A_AXIS_RADIUS = 3396.0
  B_AXIS_RADIUS = 3396.0
  C_AXIS_RADIUS = 3396.0
  CENTER_LATITUDE = 0.0
  CENTER_LONGITUDE = 58.0
  COORDINATE_SYSTEM_NAME = PLANETOGRAPHIC
  COORDINATE_SYSTEM_TYPE = "BODY-FIXED ROTATING"
  EASTERNMOST_LONGITUDE = 58.9057
  FIRST_STANDARD_PARALLEL = "N/A"
  LINE_FIRST_PIXEL = 1
  LINE_LAST_PIXEL = 24647
  LINE_PROJECTION_OFFSET = 117724.75
  MAP_PROJECTION_ROTATION = 0.0
  MAP_PROJECTION_TYPE = SINUSOIDAL
  MAP_RESOLUTION = 2370.85521546667
  MAP_SCALE = 0.025
  MAXIMUM_LATITUDE = 49.7075
  MINIMUM_LATITUDE = 39.2475
  POSITIVE_LONGITUDE_DIRECTION = EAST
  REFERENCE_LATITUDE = "N/A"
  REFERENCE_LONGITUDE = "N/A"
  SAMPLE_FIRST_PIXEL = 1
  SAMPLE_LAST_PIXEL = 3828
  SAMPLE_PROJECTION_OFFSET = 2165.75
  SECOND_STANDARD_PARALLEL = "N/A"
  WESTERNMOST_LONGITUDE = 56.5805
END_OBJECT = IMAGE_MAP_PROJECTION
END
