PDS_VERSION_ID = PDS3
/* FILE DATA ELEMENTS */
RECORD_TYPE = UNDEFINED
/* POINTERS TO DATA OBJECTS */
^IMAGE = ("HH888_0000_RE4.TIF")
/* IDENTIFICATION DATA ELEMENTS */
DATA_SET_ID = "MEX-M-HRSC-4-REFDR-MAPPROJECT-EXT6-V4.0"
DATA_SET_NAME = "MARS EXPRESS HRSC MAP PROJECTED REFDR EXTENSION6 V4.0"
DETECTOR_ID = MEX_HRSC_RED
EVENT_TYPE = "MARS-REGIONAL-MAPPING-Te-Gl"
INSTRUMENT_HOST_ID = MEX
INSTRUMENT_HOST_NAME = "MARS EXPRESS"
INSTRUMENT_ID = HRSC
INSTRUMENT_NAME = "HIGH RESOLUTION STEREO CAMERA"
MISSION_NAME = "MARS EXPRESS"
MISSION_PHASE_NAME = ME_Phase_38
PROCESSING_LEVEL_ID = 4
PRODUCT_CREATION_TIME = 2023-01-28T19:29:54.000Z
PRODUCT_ID = "HH888_0000_RE4.TIF"
RELEASE_ID = 0003
REVISION_ID = 0000
/* QUALITY DATA ELEMENTS */
DATA_QUALITY_ID = 1
DATA_QUALITY_DESC = "Data calculated based on original SPICE kernels"
/* TIME DATA ELEMENTS */
SPACECRAFT_CLOCK_START_COUNT = "1/0467040722.09036"
SPACECRAFT_CLOCK_STOP_COUNT = "1/0467040954.64696"
START_TIME = 2018-02-18T13:33:15.623Z
STOP_TIME = 2018-02-18T13:35:56.226Z
/* ORBITAL DATA ELEMENTS */
ASCENDING_NODE_LONGITUDE = 238.3
MAXIMUM_RESOLUTION = 0.0622
FOOTPRINT_POINT_LATITUDE = (49.5877,49.5779,49.5696,49.5619, 49.5403,49.5397,49.6117,49.3781,49.1448 ,48.9109,48.5612,48.3279,47.9777, 47.6277,47.3943,47.0478,46.7561,46.5608 ,46.3658,46.1703,45.9754,45.7803, 45.5855,45.3897,45.1953,45.0017,44.8061 ,44.5151,44.3205,44.126,43.9322,43.7375 ,43.544,43.3498,43.1555,42.8643,42.6701 ,42.379,41.9945,41.7047,41.4148,41.2218 ,40.9314,40.5463,40.2232,39.9961, 39.6524,39.4231,39.3068,39.2687,39.2768 ,39.2809,39.2823,39.2858,39.2904, 39.2906,39.2916,39.5215,39.7516,39.9808 ,40.3241,40.5404,40.9254,41.4095, 41.6039,41.9898,42.1843,42.379,42.573, 42.8639,43.1556,43.3491,43.5441,43.837, 44.0316,44.2269,44.4217,44.6167,44.8116 ,45.006,45.2016,45.3971,45.5925,45.8854 ,46.1789,46.3742,46.5702,46.766,46.9611 ,47.2826,47.6335,47.8675,48.1013, 48.3353,48.5696,48.8035,49.155,49.5067, 49.6238,49.5877)
FOOTPRINT_POINT_LONGITUDE = (58.625,58.1275,57.7592,57.4464,56.6733 ,56.6548,56.6037,56.6247,56.6452, 56.6656,56.6949,56.714,56.7422,56.7695, 56.7873,56.8139,56.8342,56.8481,56.8615 ,56.875,56.888,56.901,56.9135,56.9264, 56.9383,56.9496,56.9618,56.9786,56.9898 ,57.0008,57.0113,57.0221,57.0321, 57.0423,57.0524,57.0672,57.0769,57.0911 ,57.1076,57.1204,57.133,57.141,57.1534, 57.1684,57.1814,57.1885,57.2005,57.2085 ,57.2132,57.2144,57.5623,57.8641, 58.2134,58.4833,58.8963,58.9122,58.9175 ,58.9137,58.9098,58.9054,58.8983, 58.8958,58.8879,58.8789,58.8754,58.8669 ,58.8633,58.8596,58.8555,58.8491, 58.8428,58.8381,58.834,58.8278,58.8232, 58.8189,58.8142,58.8095,58.8047,58.7995 ,58.7948,58.79,58.785,58.7772,58.7695, 58.764,58.7588,58.7534,58.7475,58.7387, 58.7284,58.7214,58.7141,58.7068,58.6995 ,58.6917,58.6802,58.6685,58.6644, 58.625)
ORBIT_NUMBER = 17888
ORBITAL_ECCENTRICITY = 0.574
ORBITAL_INCLINATION = 86.98
ORBITAL_SEMIMAJOR_AXIS = 8807.88
PERIAPSIS_ALTITUDE = 369.58
PERIAPSIS_ARGUMENT_ANGLE = 137.25
PERIAPSIS_TIME = 2018-02-18T13:34:35.000Z
SPACECRAFT_ORIENTATION = (0.0,-1.0,0.0)
^MEX_ORIENTATION_DESC = "MEX_ORIENTATION_DESC.TXT"
SPACECRAFT_POINTING_MODE = NADIR
^MEX_POINTING_DESC = "MEX_POINTING_DESC.TXT"
RIGHT_ASCENSION = -1e+32
DECLINATION = -1e+32
OFFSET_ANGLE = -1e+32
SPACECRAFT_SOLAR_DISTANCE = 2.36887e+08
TARGET_NAME = MARS
/* CAMERA DATA ELEMENTS */
DETECTOR_TEMPERATURE = 19.1861
FOCAL_PLANE_TEMPERATURE = 8.3794
INST_CMPRS_NAME = "DISCRETE COSINE TRANSFORMATION (DCT)"
INST_CMPRS_RATIO = 13.7984
INST_CMPRS_QUALITY = 0
INST_CMPRS_QUANTZ_TBL_ID = 0
INSTRUMENT_TEMPERATURE = 11.6418
LENS_TEMPERATURE = 8.5833
MACROPIXEL_SIZE = 4
MISSING_FRAMES = 0
PIXEL_SUBSAMPLING_FLAG = N
SIGNAL_CHAIN_ID = 2
/* RADIOMETRIC DATA ELEMENTS */
BANDWIDTH = 48.0
CENTER_FILTER_WAVELENGTH = 748.0
RADIANCE_OFFSET = 0.56742
RADIANCE_SCALING_FACTOR = 0.00680268
REFLECTANCE_SCALING_FACTOR = 0.000871139
MEX:REFLECTANCE_OFFSET = 0.0726628
/* IMAGE OBJECT DEFINITIONS */
OBJECT = IMAGE
  INTERCHANGE_FORMAT = BINARY
  LINES = 12324
  LINE_SAMPLES = 1914
  SAMPLE_TYPE = UNSIGNED_INTEGER
  SAMPLE_BITS = 8
  BANDS = 1
  BAND_STORAGE_TYPE = BAND_SEQUENTIAL
  MAXIMUM = 255
  MEAN = 123.885
  MINIMUM = 1
  STANDARD_DEVIATION = 30.1616
END_OBJECT = IMAGE
/* MAP OBJECT DEFINITIONS */
OBJECT = IMAGE_MAP_PROJECTION
  ^DATA_SET_MAP_PROJECTION_CATALOG= "DSMAP.CAT"
  A_AXIS_RADIUS = 3396.0
  B_AXIS_RADIUS = 3396.0
  C_AXIS_RADIUS = 3396.0
  CENTER_LATITUDE = 0.0
  CENTER_LONGITUDE = 58.0
  COORDINATE_SYSTEM_NAME = PLANETOGRAPHIC
  COORDINATE_SYSTEM_TYPE = "BODY-FIXED ROTATING"
  EASTERNMOST_LONGITUDE = 58.9175
  FIRST_STANDARD_PARALLEL = "N/A"
  LINE_FIRST_PIXEL = 1
  LINE_LAST_PIXEL = 12324
  LINE_PROJECTION_OFFSET = 58862.125
  MAP_PROJECTION_ROTATION = 0.0
  MAP_PROJECTION_TYPE = SINUSOIDAL
  MAP_RESOLUTION = 1185.42760773333
  MAP_SCALE = 0.05
  MAXIMUM_LATITUDE = 49.6238
  MINIMUM_LATITUDE = 39.2687
  POSITIVE_LONGITUDE_DIRECTION = EAST
  REFERENCE_LATITUDE = "N/A"
  REFERENCE_LONGITUDE = "N/A"
  SAMPLE_FIRST_PIXEL = 1
  SAMPLE_LAST_PIXEL = 1914
  SAMPLE_PROJECTION_OFFSET = 1082.625
  SECOND_STANDARD_PARALLEL = "N/A"
  WESTERNMOST_LONGITUDE = 56.6037
END_OBJECT = IMAGE_MAP_PROJECTION
END
